BEGIN:VCALENDAR
VERSION:2.0
PRODID:-//YES FM - ECPv6.15.15//NONSGML v1.0//EN
CALSCALE:GREGORIAN
METHOD:PUBLISH
X-WR-CALNAME:YES FM
X-ORIGINAL-URL:https://yesfm.com
X-WR-CALDESC:Events for YES FM
REFRESH-INTERVAL;VALUE=DURATION:PT1H
X-Robots-Tag:noindex
X-PUBLISHED-TTL:PT1H
BEGIN:VTIMEZONE
TZID:America/New_York
BEGIN:DAYLIGHT
TZOFFSETFROM:-0500
TZOFFSETTO:-0400
TZNAME:EDT
DTSTART:20250309T070000
END:DAYLIGHT
BEGIN:STANDARD
TZOFFSETFROM:-0400
TZOFFSETTO:-0500
TZNAME:EST
DTSTART:20251102T060000
END:STANDARD
BEGIN:DAYLIGHT
TZOFFSETFROM:-0500
TZOFFSETTO:-0400
TZNAME:EDT
DTSTART:20260308T070000
END:DAYLIGHT
BEGIN:STANDARD
TZOFFSETFROM:-0400
TZOFFSETTO:-0500
TZNAME:EST
DTSTART:20261101T060000
END:STANDARD
BEGIN:DAYLIGHT
TZOFFSETFROM:-0500
TZOFFSETTO:-0400
TZNAME:EDT
DTSTART:20270314T070000
END:DAYLIGHT
BEGIN:STANDARD
TZOFFSETFROM:-0400
TZOFFSETTO:-0500
TZNAME:EST
DTSTART:20271107T060000
END:STANDARD
END:VTIMEZONE
BEGIN:VEVENT
DTSTART;TZID=America/New_York:20260420T160000
DTEND;TZID=America/New_York:20260420T180000
DTSTAMP:20260420T015515
CREATED:20260414T141808Z
LAST-MODIFIED:20260414T141808Z
UID:10002544-1776700800-1776708000@yesfm.com
SUMMARY:Dinner fundraiser for Leslie Whitton RN
DESCRIPTION:Dinner fundraiser for Leslie Whitton RN at Claxton Hepburn/ Northstar Health who is battling Breast Cancer on April 20 at 4 p.m. The dinner will consist of spaghetti and meatballs\, tossed salad with choice of dressing\, Italian bread for $15. Desserts can be bought for an additional $2. Take out\, delivery or eat in with entertainment from the Black Laker’s Band. Silent auction\, 50/50 chances and raffle for “Falling Leaves” quilt with quilt rack for $5. This event is being hosted by Elks Lodge 772 at 322 Caroline St.
URL:https://yesfm.com/event/dinner-fundraiser-for-leslie-whitton-rn/
LOCATION:Ogdensburg Elks Lodge
CATEGORIES:Local Events
ATTACH;FMTTYPE=image/webp:https://yesfm.com/site/wp-content/uploads/2019/03/spaghettiFundraiser-e1776176282209.webp
END:VEVENT
END:VCALENDAR