BEGIN:VCALENDAR
VERSION:2.0
PRODID:-//YES FM - ECPv6.15.15//NONSGML v1.0//EN
CALSCALE:GREGORIAN
METHOD:PUBLISH
X-WR-CALNAME:YES FM
X-ORIGINAL-URL:https://yesfm.com
X-WR-CALDESC:Events for YES FM
REFRESH-INTERVAL;VALUE=DURATION:PT1H
X-Robots-Tag:noindex
X-PUBLISHED-TTL:PT1H
BEGIN:VTIMEZONE
TZID:America/New_York
BEGIN:DAYLIGHT
TZOFFSETFROM:-0500
TZOFFSETTO:-0400
TZNAME:EDT
DTSTART:20250309T070000
END:DAYLIGHT
BEGIN:STANDARD
TZOFFSETFROM:-0400
TZOFFSETTO:-0500
TZNAME:EST
DTSTART:20251102T060000
END:STANDARD
BEGIN:DAYLIGHT
TZOFFSETFROM:-0500
TZOFFSETTO:-0400
TZNAME:EDT
DTSTART:20260308T070000
END:DAYLIGHT
BEGIN:STANDARD
TZOFFSETFROM:-0400
TZOFFSETTO:-0500
TZNAME:EST
DTSTART:20261101T060000
END:STANDARD
BEGIN:DAYLIGHT
TZOFFSETFROM:-0500
TZOFFSETTO:-0400
TZNAME:EDT
DTSTART:20270314T070000
END:DAYLIGHT
BEGIN:STANDARD
TZOFFSETFROM:-0400
TZOFFSETTO:-0500
TZNAME:EST
DTSTART:20271107T060000
END:STANDARD
END:VTIMEZONE
BEGIN:VEVENT
DTSTART;TZID=America/New_York:20260423T080000
DTEND;TZID=America/New_York:20260425T150000
DTSTAMP:20260424T013508
CREATED:20260421T134253Z
LAST-MODIFIED:20260421T134253Z
UID:10002560-1776931200-1777129200@yesfm.com
SUMMARY:Garage Sale
DESCRIPTION:April 23-25\, 8 a.m. to 3 p.m.\, Morley Wesleyan Church\, County Route 27. A garage sale to benefit the building fund will feature household items\, clothing and small appliances. Homemade doughnuts will be available.
URL:https://yesfm.com/event/garage-sale/
LOCATION:Morley Weslyan Church\, 7254 County Rd 27\, Canton\, United States
CATEGORIES:Local Events
ATTACH;FMTTYPE=image/jpeg:https://yesfm.com/site/wp-content/uploads/2025/04/sale-1149344_1280-e1776778963303.jpg
END:VEVENT
BEGIN:VEVENT
DTSTART;TZID=America/New_York:20260424T090000
DTEND;TZID=America/New_York:20260425T123000
DTSTAMP:20260424T013508
CREATED:20260414T142306Z
LAST-MODIFIED:20260414T142306Z
UID:10002545-1777021200-1777120200@yesfm.com
SUMMARY:Spring Rummage Sale
DESCRIPTION:The Canton First Presbyterian Church will hold a spring rummage Sale Friday\, April 24 from 9 a.m. to 4 p.m. with clothing $5/bag. On Saturday\, April 25 the sale will continue at 9 a.m. with all items for $1/bag until 11 a.m. when all items will be free for the last hour of the sale. The sale will feature spring and summer clothing for children and adults\, household items\, books and toys. The church is located at 17 Park Street in Canton.
URL:https://yesfm.com/event/spring-rummage-sale/
LOCATION:canton first presbyterian church\, canton\, ny
CATEGORIES:Local Events
ATTACH;FMTTYPE=image/png:https://yesfm.com/site/wp-content/uploads/2025/11/rummage-sale-e1776176571725.png
END:VEVENT
END:VCALENDAR