BEGIN:VCALENDAR
VERSION:2.0
PRODID:-//YES FM - ECPv6.15.15//NONSGML v1.0//EN
CALSCALE:GREGORIAN
METHOD:PUBLISH
X-ORIGINAL-URL:https://yesfm.com
X-WR-CALDESC:Events for YES FM
REFRESH-INTERVAL;VALUE=DURATION:PT1H
X-Robots-Tag:noindex
X-PUBLISHED-TTL:PT1H
BEGIN:VTIMEZONE
TZID:America/New_York
BEGIN:DAYLIGHT
TZOFFSETFROM:-0500
TZOFFSETTO:-0400
TZNAME:EDT
DTSTART:20240310T070000
END:DAYLIGHT
BEGIN:STANDARD
TZOFFSETFROM:-0400
TZOFFSETTO:-0500
TZNAME:EST
DTSTART:20241103T060000
END:STANDARD
BEGIN:DAYLIGHT
TZOFFSETFROM:-0500
TZOFFSETTO:-0400
TZNAME:EDT
DTSTART:20250309T070000
END:DAYLIGHT
BEGIN:STANDARD
TZOFFSETFROM:-0400
TZOFFSETTO:-0500
TZNAME:EST
DTSTART:20251102T060000
END:STANDARD
BEGIN:DAYLIGHT
TZOFFSETFROM:-0500
TZOFFSETTO:-0400
TZNAME:EDT
DTSTART:20260308T070000
END:DAYLIGHT
BEGIN:STANDARD
TZOFFSETFROM:-0400
TZOFFSETTO:-0500
TZNAME:EST
DTSTART:20261101T060000
END:STANDARD
END:VTIMEZONE
BEGIN:VEVENT
DTSTART;TZID=America/New_York:20250601T160000
DTEND;TZID=America/New_York:20250601T190000
DTSTAMP:20260419T150714
CREATED:20250522T135013Z
LAST-MODIFIED:20250522T135013Z
UID:10001354-1748793600-1748804400@yesfm.com
SUMMARY:Brier Hill Chicken BBQ June 1st
DESCRIPTION:Brier Hill Volunteer Fire Department will host a chicken BBQ at 2678 State Highway 37 on June 1 at 4 p.m. Menu includes a half chicken\, salt potatoes\, baked beans\, coleslaw\, and dessert for $15 per dinner or $10 for a half chicken. Eat-in\, drive-thru and delivery within five minutes. Reserve dinners at 315-528-3948.
URL:https://yesfm.com/event/brier-hill-chicken-bbq-june-1st/
LOCATION:Brier Hill Fire Department\, 2678 State Highway 37\, Brier Hill\, United States
CATEGORIES:Local Events
ATTACH;FMTTYPE=image/jpeg:https://yesfm.com/site/wp-content/uploads/2025/04/cabbage-rolls-468384_1280.jpg
END:VEVENT
BEGIN:VEVENT
DTSTART;TZID=America/New_York:20250602T163000
DTEND;TZID=America/New_York:20250602T183000
DTSTAMP:20260419T150714
CREATED:20250528T004505Z
LAST-MODIFIED:20250528T004505Z
UID:10001367-1748881800-1748889000@yesfm.com
SUMMARY:Parishville Amvets Ladies Auxiliary Italian Night Dinner
DESCRIPTION:Parishville Amvets Ladies Auxiliary Italian Night Dinner Monday June 2nd; 25 Rutman Rd; 4:30-6:30 p.m.; Spaghetti with meatballs\, Lasagna\, Tossed salad\, bread and butter\, beverage and dessert; $12 per person; eat in or take out; call 315-261-4642 for take out.
URL:https://yesfm.com/event/parishville-amvets-ladies-auxiliary-italian-night-dinner/
CATEGORIES:Local Events
ATTACH;FMTTYPE=image/jpeg:https://yesfm.com/site/wp-content/uploads/2025/05/pasta-6615960_1280.jpg
END:VEVENT
BEGIN:VEVENT
DTSTART;TZID=America/New_York:20250606T090000
DTEND;TZID=America/New_York:20250607T140000
DTSTAMP:20260419T150714
CREATED:20250522T135356Z
LAST-MODIFIED:20250522T135356Z
UID:10001355-1749200400-1749304800@yesfm.com
SUMMARY:Spring Rummage Sale Friday June 6
DESCRIPTION:Raymondville Methodist Church\, Raymond Street\, will hold their annual Spring Rummage Sale Friday June 6\, 9 a.m. – 3 p.m. and Saturday\, June 7\, 9 a.m. – 2 p.m. at the church. They will also be selling hotdogs and drinks.
URL:https://yesfm.com/event/spring-rummage-sale-friday-june-6/
LOCATION:raymondville methodist church\, Raymond Street\, Raymondville\, United States
CATEGORIES:Local Events
ATTACH;FMTTYPE=image/jpeg:https://yesfm.com/site/wp-content/uploads/2025/05/del-2.jpg
END:VEVENT
BEGIN:VEVENT
DTSTART;TZID=America/New_York:20250606T180000
DTEND;TZID=America/New_York:20250607T160000
DTSTAMP:20260419T150714
CREATED:20250509T014642Z
LAST-MODIFIED:20250509T014642Z
UID:10001064-1749232800-1749312000@yesfm.com
SUMMARY:61st Annual Dairy Festival
DESCRIPTION:The 61st Annual Dairy Festival in Canton is Friday\, June 6th\, and Saturday\, June 7th!\nOn Friday\, June 6th\, festivities will commence with vendors setting up in the park at 3:00 pm\, followed by the beloved Big Wheel Races. Registration starts at 5:30 pm\, with races kicking off at 6:00 pm. After the races\, join us for the “Block Dance” with live entertainment. Bring your own chair! Saturday\, June 7th\, the excitement continues with vendors opening at 10:00 am\, leading up to the highlight of the weekend: the Dairy Festival Parade through the streets of Canton at 1:00 pm. This year’s theme – “Red\, White and Moo!” There will also be kid-friendly entertainment such as a petting zoo and various games at different display booths.\nDairy Festival Days have always left a lasting impression\, drawing enthusiastic crowds from both our community and beyond. To ensure the success of this cherished tradition\, we’re reaching out to our valued members for event participation and sponsorship. Your support will help us make this 61st year of the Dairy Festival unforgettable.
URL:https://yesfm.com/event/61st-annual-dairy-festival/
CATEGORIES:Local Events
ATTACH;FMTTYPE=image/jpeg:https://yesfm.com/site/wp-content/uploads/2025/05/milk-2474993_1280.jpg
END:VEVENT
BEGIN:VEVENT
DTSTART;VALUE=DATE:20250607
DTEND;VALUE=DATE:20250609
DTSTAMP:20260419T150714
CREATED:20250530T151401Z
LAST-MODIFIED:20250530T151401Z
UID:10001361-1749254400-1749427199@yesfm.com
SUMMARY:Cornhole Tournament Norwood-Norfolk Class of 2025 All Night Drug & Alcohol-FREE Party
DESCRIPTION:EVENT: Cornhole Tournament Norwood-Norfolk Class of 2025 All Night Drug & Alcohol-FREE Party\nDate: Saturday\, June 7th\, 2025\nLocation: Norwood American Legion 10 Maple St Norwood\, NY with a RAIN location of Dominic Zappia Arena Norfolk\, NY 13667 \n*REGISTRATION Day of Tournament: 11:00 AM -11:45 AM\n* Pre-Registration via Google Forms link\nhttps://bit.ly/ANPCORNHOLE\n* Registration Fee $50 per team\, 2 player teams\n* Games to begin at 12 PM\n* Teams must sign in with registration as you arrive.\n* If you are not present to play\, you forfeit\n* Tournament WINNER gets a set of Cornhole boards and bags\n* BASKET RAFFLES & 50/50\n* BBQ – hotdogs\, hamburgers\, snacks for sale throughout the tournament\n* Round Robin w/Playoffs\, Teams guaranteed at least 3 games\nPlease feel free to reach out if you have any questions. Tonya Young (315)244-0354
URL:https://yesfm.com/event/cornhole-tournament-norwood-norfolk-class-of-2025-all-night-drug-alcohol-free-party/
LOCATION:norwood american legion\, 10 Maple Street\, Norwood\, NY
END:VEVENT
BEGIN:VEVENT
DTSTART;TZID=America/New_York:20250607T100000
DTEND;TZID=America/New_York:20250607T140000
DTSTAMP:20260419T150714
CREATED:20250604T023601Z
LAST-MODIFIED:20250604T023601Z
UID:10001379-1749290400-1749304800@yesfm.com
SUMMARY:kid’s vendor show
DESCRIPTION:A kid’s vendor show will be held Saturday June 7th from 10 a.m. until 2 p.m. at Raymondville Park on State Highway 56. There will be crafts and homemade items. More than 20 vendors are signed up. More info: 315-261-3670.
URL:https://yesfm.com/event/kids-vendor-show/
CATEGORIES:Local Events
ATTACH;FMTTYPE=image/jpeg:https://yesfm.com/site/wp-content/uploads/2025/06/knitting-4639828_1280-5.jpg
END:VEVENT
BEGIN:VEVENT
DTSTART;TZID=America/New_York:20250607T110000
DTEND;TZID=America/New_York:20250607T150000
DTSTAMP:20260419T150714
CREATED:20250605T131935Z
LAST-MODIFIED:20250605T131935Z
UID:10001385-1749294000-1749308400@yesfm.com
SUMMARY:Nicholville Chicken BBQ
DESCRIPTION:Nicholville Volunteer Fire Department will host a chicken barbecue on Saturday\, June 7th from 11AM – Sold Out. $15 for full meal (chicken\, salt potatoes\, coleslaw\, roll & dessert) or $8 for half chicken only. Dinners can be pre-ordered & local delivery available by calling or texting Justin Sweet at 315-244-7654.
URL:https://yesfm.com/event/nicholville-chicken-bbq/
LOCATION:Nicholville Volunteer Fire Department\, 3341 SH 11B\, Nicholville\, United States
CATEGORIES:Local Events
ATTACH;FMTTYPE=image/jpeg:https://yesfm.com/site/wp-content/uploads/2025/06/del-3.jpg
END:VEVENT
BEGIN:VEVENT
DTSTART;TZID=America/New_York:20250607T120000
DTEND;TZID=America/New_York:20250607T150000
DTSTAMP:20260419T150714
CREATED:20250531T011151Z
LAST-MODIFIED:20250531T011151Z
UID:10001374-1749297600-1749308400@yesfm.com
SUMMARY:Cornhole Tournament Norwood-Norfolk Class of 2025 All Night Drug & Alcohol-FREE Party
DESCRIPTION:Cornhole Tournament Norwood-Norfolk Class of 2025 All Night Drug & Alcohol-FREE Party Date: Saturday\, June 7th * Games to begin at 12 PM Location: Norwood American Legion 10 Maple St Norwood\, NY (don’t post – already there )
URL:https://yesfm.com/event/cornhole-tournament-norwood-norfolk-class-of-2025-all-night-drug-alcohol-free-party-2/
CATEGORIES:Local Events
ATTACH;FMTTYPE=image/jpeg:https://yesfm.com/site/wp-content/uploads/2025/05/corn-hole-3752877_1280.jpg
END:VEVENT
BEGIN:VEVENT
DTSTART;TZID=America/New_York:20250607T183000
DTEND;TZID=America/New_York:20250607T220000
DTSTAMP:20260419T150714
CREATED:20250529T022811Z
LAST-MODIFIED:20250605T142044Z
UID:10001368-1749321000-1749333600@yesfm.com
SUMMARY:Dueling Pianos fundraiser
DESCRIPTION:The Dueling Pianos fundraiser to benefit the Police Activities League (PAL) of Massena will be held Saturday June 7\, at Cedar View Golf Club\, 462 NY-37C\, Massena. Doors open at 6:30 p.m. with showtime at 7:00 p.m.\nThis 18+ age event will feature The Flying Ivories\, bringing a unique and interactive musical experience to the North Country.\nGeneral admission tickets are $50\, and reserved tables (seating 8) are available for $400. For information and tickets: www.massenapal.com or call 315-705-6075.
URL:https://yesfm.com/event/dueling-pianos-fundraiser/
CATEGORIES:Local Events
ATTACH;FMTTYPE=image/jpeg:https://yesfm.com/site/wp-content/uploads/2025/05/piano-2412400_1280.jpg
END:VEVENT
BEGIN:VEVENT
DTSTART;TZID=America/New_York:20250609T130000
DTEND;TZID=America/New_York:20250609T160000
DTSTAMP:20260419T150714
CREATED:20250530T151644Z
LAST-MODIFIED:20250530T151644Z
UID:10001353-1749474000-1749484800@yesfm.com
SUMMARY:Coffee House
DESCRIPTION:Coffee\, Tea and Karaoke on Monday afternoons beginning June 9 from 1 to 4pm at St John’s Anglican Church\, 490 Centre St\, Prescott. Bring your instrument\, or sing along\, or simply enjoy. Everyone welcome!
URL:https://yesfm.com/event/coffee-house/
LOCATION:St John’s Church\, 490 Centre St\, Prescott\, 490 Centre St\, Prescott\, Ontario\, K0E 1T0\, Canada
ATTACH;FMTTYPE=image/jpeg:https://yesfm.com/site/wp-content/uploads/2025/05/Coffee-House-poster-scaled.jpg
ORGANIZER;CN="St John the Evangelist Anglican Church":MAILTO:hayesdeb2001@yahoo.ca
END:VEVENT
BEGIN:VEVENT
DTSTART;TZID=America/New_York:20250610T080000
DTEND;TZID=America/New_York:20250610T170000
DTSTAMP:20260419T150714
CREATED:20250610T175011Z
LAST-MODIFIED:20250610T175011Z
UID:10001389-1749542400-1749574800@yesfm.com
SUMMARY:Memorial/Benefit Bike Run
DESCRIPTION:A Memorial/Benefit Bike Run will be held at Robideau’s Mohagany Ridge at Route 56 in South Colton\, on Saturday\, June 21 in memory of Merrick Bunstone to benefit local Volunteer Fire Departments. Registration is at 9 a.m. Kickstands up at 11 a.m. Registration cost is $20 per bike/vehicle and $10 per passenger (Rain or Shine). Meal included for all registrants at 5:00PM which includes pulled pork\, hamburgers\, hotdogs and sides as well as sundaes for the kids\, $15 non-registrants. There will be raffles\, 50/50\, Poker Hand\, etc.
URL:https://yesfm.com/event/memorial-benefit-bike-run/
CATEGORIES:Local Events
ATTACH;FMTTYPE=image/jpeg:https://yesfm.com/site/wp-content/uploads/2025/06/sunrise-8886927_1280.jpg
END:VEVENT
BEGIN:VEVENT
DTSTART;TZID=America/New_York:20250610T160000
DTEND;TZID=America/New_York:20250610T180000
DTSTAMP:20260419T150714
CREATED:20250604T023725Z
LAST-MODIFIED:20250604T023725Z
UID:10001380-1749571200-1749578400@yesfm.com
SUMMARY:takeout-only Roast Pork Dinner
DESCRIPTION:A takeout-only Roast Pork Dinner will be held Tuesday June 10th from 4–6 p.m. (or until sold out) at West Stockholm United Methodist Church\, County Route 57. The $15 meal includes roast pork\, dressing\, mashed potatoes\, gravy\, green beans\, rolls\, cranberries\, and homemade dessert. Pre-orders are recommended by calling or texting 315-212-8479 or 315-261-0966.
URL:https://yesfm.com/event/takeout-only-roast-pork-dinner/
CATEGORIES:Local Events
ATTACH;FMTTYPE=image/jpeg:https://yesfm.com/site/wp-content/uploads/2025/06/roast-crust-5033970_1280.jpg
END:VEVENT
BEGIN:VEVENT
DTSTART;TZID=America/New_York:20250611T180000
DTEND;TZID=America/New_York:20250611T193000
DTSTAMP:20260419T150714
CREATED:20250522T144724Z
LAST-MODIFIED:20250522T144724Z
UID:10001356-1749664800-1749670200@yesfm.com
SUMMARY:The United Church of Madrid's Ice Cream Social
DESCRIPTION:Help kick up a summer full of music in Madrid. The United Church of Madrid’s Ice Cream Social will be held Wednesday June 11th at 6 p.m at Madrid Community Park on Bridge Street with music by the Reed Family Band. There will be cake\, ice cream\, hot dogs\, and drinks available.
URL:https://yesfm.com/event/the-united-church-of-madrids-ice-cream-social/
LOCATION:Madrid Comunity Park\, 1835 State Highway 345\, Madrid\, United States
CATEGORIES:Local Events
ATTACH;FMTTYPE=image/jpeg:https://yesfm.com/site/wp-content/uploads/2025/05/del-3.jpg
END:VEVENT
BEGIN:VEVENT
DTSTART;TZID=America/New_York:20250613T120000
DTEND;TZID=America/New_York:20250615T170000
DTSTAMP:20260419T150714
CREATED:20250605T135314Z
LAST-MODIFIED:20250605T135314Z
UID:10001387-1749816000-1750006800@yesfm.com
SUMMARY:Prescott Ribfest
DESCRIPTION:Prescott Ribfest & Sportsman Show will be held at The Leo Boivin Community Center Friday June 13-Sunday June 15th. Kids Zone\, Beer Garden\, Entertainment and Ribs! It benefits Big Brothers Big Sisters of Leeds-Grenville! \n  \n\n\n\n\n\n\n\n\n\n\nEvent Schedule\n\n\n\n\n\n\n\n\nFriday\, June 13th\n11AM – 9PM  Kids Zone\n11AM – 9PM Vendor Village & Food Booths\n11AM – 4PM $3 off Ribs\n11AM – 9PM Beer Garden\n1PM –  9PM Live Entertainment\n4PM – 7PM Line Dancing\n7PM – 9PM “All About Dad” Trivia Night\nSponsored by SG Events\n7:30PM-9PM Movies in the Park\nFeaturing Grown Ups \n\n\n\n\n\n\nSaturday\, June 14th\n10AM – 12PM  Cops and Kids Fishing Derby\n10AM – 9PM  Kids Zone\n10:30AM – 11:30AM  Junkyard Symphony\n10AM – 9PM  Vendor Village & Food Booths\n10AM – 9PM  Beer Garden \nLIVE ENTERTAINMENT\n12:00PM – 12:45PM  Jimi Martin\n1:15PM – 2:00PM  Soul to Squeeze\n2:15PM – 3:00PM  James King\n3:30PM – 4:15PM  Sun Dried Flies\n5:30PM – 9:00PM  Green D’eh \n\n\n\n\n\n\nSunday\, June 15th\n11AM – 12PM  Sensory Friendly Hour\n11AM – 3PM  Touch A Truck\n11AM – 5PM  Happy Homestead Petting Zoo\n11AM – 6PM  Kids Zone\n11AM – 6PM  Vendor Village & Food Booths\n11AM – 6PM Beer Garden\n11AM – 6PM Live Entertainment
URL:https://yesfm.com/event/prescott-ribfest/
LOCATION:Leo Boivin Community Centre\, 444 Prince Street\, Prescott\, ON\, Canada
CATEGORIES:Local Events
ATTACH;FMTTYPE=image/jpeg:https://yesfm.com/site/wp-content/uploads/2025/06/del-5.jpg
END:VEVENT
BEGIN:VEVENT
DTSTART;TZID=America/New_York:20250613T180000
DTEND;TZID=America/New_York:20250613T210000
DTSTAMP:20260419T150714
CREATED:20250531T010803Z
LAST-MODIFIED:20250531T010803Z
UID:10001372-1749837600-1749848400@yesfm.com
SUMMARY:A Night in The Park
DESCRIPTION:The City of Ogdensburg is hosting A Night in The Park\, featuring live music by Sister Cinnamon!! Come on down and enjoy the music\, and the best part is\, there is NO COST to enter! There will be food available for purchase as well! We will be in the grassy area between the U.S.S. Ogdensburg playground and the Dobisky Center. June 13th\, 6-9PM\, don’t miss out on the fun! We hope to see you there!
URL:https://yesfm.com/event/a-night-in-the-park/
CATEGORIES:Local Events
ATTACH;FMTTYPE=image/jpeg:https://yesfm.com/site/wp-content/uploads/2025/05/microphone-1159791_1280.jpg
END:VEVENT
BEGIN:VEVENT
DTSTART;TZID=America/New_York:20250614T080000
DTEND;TZID=America/New_York:20250614T110000
DTSTAMP:20260419T150714
CREATED:20250603T024202Z
LAST-MODIFIED:20250603T024202Z
UID:10001376-1749888000-1749898800@yesfm.com
SUMMARY:pickleball tournament fundraiser
DESCRIPTION:The North Country Pickleball Group will host a pickleball tournament fundraiser to benefit United Helpers on Saturday June 14 starting at 8am at the Pine Street Arena in Potsdam. There will be bake sale\, basket drawing\, food trucks\, music and more! This is an all-day\, all-ages event.
URL:https://yesfm.com/event/pickleball-tournament-fundraiser/
CATEGORIES:Local Events
ATTACH;FMTTYPE=image/jpeg:https://yesfm.com/site/wp-content/uploads/2025/06/asphalt-tennis-court-5354328_1280.jpg
END:VEVENT
BEGIN:VEVENT
DTSTART;TZID=America/New_York:20250614T090000
DTEND;TZID=America/New_York:20250615T170000
DTSTAMP:20260419T150714
CREATED:20250605T133558Z
LAST-MODIFIED:20250605T133558Z
UID:10000771-1749891600-1750006800@yesfm.com
SUMMARY:St Lawrence Power & Equipment Museum Spring Exhibition
DESCRIPTION:The St Lawrence Power and Equipment Museum will host their annual Spring Exhibition June 14-15 from 9am to 5pm. There is fun for all to be had! \nJoin us as the museum truly comes to life: Antique Tractor Display\, Wagon Rides\, Tractor Pulls\, Horse Pulls\, Ladies’ Skillet Toss\, Kids’ Pedal Tractor Races\, Tractor Parade\, Kids’ Pedal Tractor Pulls\, Antique Cars and Trucks\, Vendors\, a Chicken BBQ on Sunday and so much more. \nTake a walk through our historical buildings\, such as 1850’s Schoolhouse\, Blacksmith Shop\, Maple Sugar House\, 1926 Gas Station\, Shoe Repair Shop\, Clock Shop\, Heritage Fibers\, Saw and Shingle Mills\, Wood Shop\, General Store\, Print Shop\, Nevin Church\, Carriage Barn\, Equine Building\, Tractor Barn\, 1850’s Log Cabin\, WWII Era Farmstead\, Collections Building\, and Fort Tribute. \nAdmission is $5 per person\, 12 and under are free. \nFor more information and a full schedule of events (posted by May 1) please visit our Facebook Page or our Website. We are accepting vendors until June 1st. If you have any questions or would like to sign up to become a vendor\, please contact us via email at slpeminfo@gmail.com
URL:https://yesfm.com/event/st-lawrence-power-equipment-museum-spring-exhibition/
LOCATION:St Lawrence Power & Equipment Museum\, 1755 NY-345\, Madrid\, NY\, 13660\, United States
CATEGORIES:Local Events
ATTACH;FMTTYPE=image/png:https://yesfm.com/site/wp-content/uploads/2025/04/Spring-Flyer.png
END:VEVENT
BEGIN:VEVENT
DTSTART;TZID=America/New_York:20250614T110000
DTEND;TZID=America/New_York:20250614T140000
DTSTAMP:20260419T150714
CREATED:20250529T023006Z
LAST-MODIFIED:20250529T023006Z
UID:10001369-1749898800-1749909600@yesfm.com
SUMMARY:chicken BBQ
DESCRIPTION:A chicken BBQ will be held as a fundraiser for Hometown Days in Louisville. The meal will be served Saturday\, June 14\, from 11 a.m. until sold out at 44 Arena Dr. The meal costs $15 for a half chicken\, salt potatoes\, beans and a roll. Pre-orders can be placed at 315764-7473 and must be picked up by 1 p.m.
URL:https://yesfm.com/event/chicken-bbq-5/
CATEGORIES:Local Events
ATTACH;FMTTYPE=image/jpeg:https://yesfm.com/site/wp-content/uploads/2025/02/chicken-935778_1280.jpg
END:VEVENT
BEGIN:VEVENT
DTSTART;TZID=America/New_York:20250614T110000
DTEND;TZID=America/New_York:20250614T140000
DTSTAMP:20260419T150714
CREATED:20250604T023917Z
LAST-MODIFIED:20250604T023917Z
UID:10001381-1749898800-1749909600@yesfm.com
SUMMARY:annual chicken barbecue
DESCRIPTION:The Waddinton UMC will host its annual chicken barbecue on Saturday\, June 14\, starting at 11 a.m. Menu: 1/2 chicken\, baked beans\, macaroni salad\, roll\, & brownies. Dinner $15. Takeout or eat in. Info: Joyce Finen\, secretary\, 315-388-5568.
URL:https://yesfm.com/event/annual-chicken-barbecue-2/
CATEGORIES:Local Events
ATTACH;FMTTYPE=image/jpeg:https://yesfm.com/site/wp-content/uploads/2025/02/chicken-935778_1280.jpg
END:VEVENT
BEGIN:VEVENT
DTSTART;TZID=America/New_York:20250615T080000
DTEND;TZID=America/New_York:20250615T110000
DTSTAMP:20260419T150714
CREATED:20250529T023206Z
LAST-MODIFIED:20250529T023206Z
UID:10001370-1749974400-1749985200@yesfm.com
SUMMARY:Father’s Day Breakfast
DESCRIPTION:Father’s Day Breakfast; Amvets Hall\, 25 Rutman Road\, Parishville Date: June 15; 8 a.m. – all served; cost\, $12; children under 5 free; scrambled eggs\, Texas French toast\, sausage and biscuits\, hash browns with and without onions\, bacon\, sausage\, real maple syrup. juice\, coffee.; sponsored by Amvets Ladies Auxiliary; to benefit Paws With a Cause and local community programs.
URL:https://yesfm.com/event/fathers-day-breakfast/
CATEGORIES:Local Events
ATTACH;FMTTYPE=image/jpeg:https://yesfm.com/site/wp-content/uploads/2025/05/french-toast-4686248_1280.jpg
END:VEVENT
BEGIN:VEVENT
DTSTART;TZID=America/New_York:20250615T080000
DTEND;TZID=America/New_York:20250615T110000
DTSTAMP:20260419T150714
CREATED:20250529T023311Z
LAST-MODIFIED:20250529T023311Z
UID:10001371-1749974400-1749985200@yesfm.com
SUMMARY:Fathers Day Buffet Breakfast
DESCRIPTION:There’s a Fathers Day Buffet Breakfast on Sunday June 15th. All father’s eat free\, all others donations accepted; it’s 8-11a.m at the Amvets in Heuvelton. Menu: bacon\, sausage pancakes\, french toast scrambled eggs\, home fries\, sausage gravy and biscuits\, beverage.; AMVETS Post 1997\, 107 State Street Heuvelton
URL:https://yesfm.com/event/fathers-day-buffet-breakfast/
CATEGORIES:Local Events
ATTACH;FMTTYPE=image/jpeg:https://yesfm.com/site/wp-content/uploads/2025/05/french-toast-4686248_1280.jpg
END:VEVENT
BEGIN:VEVENT
DTSTART;TZID=America/New_York:20250615T080000
DTEND;TZID=America/New_York:20250615T133000
DTSTAMP:20260419T150714
CREATED:20250605T133259Z
LAST-MODIFIED:20250605T133358Z
UID:10001377-1749974400-1749994200@yesfm.com
SUMMARY:Hopkinton-FT. Jackson Fire Department Spring Chicken BBQ
DESCRIPTION:Please Join us for the Hopkinton-FT. Jackson Fire Department Spring Chicken BBQ Sunday June 15 11am til gone at the station on Route 11B in Hopkinton! 1/2 Chicken\, Salt Potatoes\, Baked Beans\, Roll & Dessert for $15. Pre Orders: 315 250 3652.
URL:https://yesfm.com/event/hopkinton-ft-jackson-fire-department-spring-chicken-bbq/
CATEGORIES:Local Events
ATTACH;FMTTYPE=image/jpeg:https://yesfm.com/site/wp-content/uploads/2025/06/Spring-BBQ-2025-1.jpg
END:VEVENT
BEGIN:VEVENT
DTSTART;TZID=America/New_York:20250615T120000
DTEND;TZID=America/New_York:20250615T150000
DTSTAMP:20260419T150714
CREATED:20250531T010946Z
LAST-MODIFIED:20250531T010946Z
UID:10001373-1749988800-1749999600@yesfm.com
SUMMARY:37th Annual Pierrepont Volunteer Fire Department Chicken BBQ
DESCRIPTION:37th Annual Pierrepont Volunteer Fire Department Chicken BBQ. Father’s Day\, June 15th Pierrepont Fire Hall Noon until Sold Out All Dinners $15.00 1/2 chicken $10.00 Menu: 1/2 chicken\, salt potatoes\, baked beans\, roll\, dessert
URL:https://yesfm.com/event/37th-annual-pierrepont-volunteer-fire-department-chicken-bbq/
CATEGORIES:Local Events
ATTACH;FMTTYPE=image/jpeg:https://yesfm.com/site/wp-content/uploads/2025/02/chicken-935778_1280.jpg
END:VEVENT
BEGIN:VEVENT
DTSTART;TZID=America/New_York:20250615T160000
DTEND;TZID=America/New_York:20250615T180000
DTSTAMP:20260419T150714
CREATED:20250604T164933Z
LAST-MODIFIED:20250604T164933Z
UID:10001384-1750003200-1750010400@yesfm.com
SUMMARY:Father's Day BBQ
DESCRIPTION:Father’s Day BBQ at the Prescott Legion from 4-6 on Sunday June 15th! Pork Roast Leg on an open fire for Dad! $18 a person. Includes summer salads and seasonal desserts!
URL:https://yesfm.com/event/fathers-day-bbq/
CATEGORIES:Local Events
ATTACH;FMTTYPE=image/jpeg:https://yesfm.com/site/wp-content/uploads/2025/06/pig-685280_1280.jpg
END:VEVENT
BEGIN:VEVENT
DTSTART;TZID=America/New_York:20250619T163000
DTEND;TZID=America/New_York:20250619T180000
DTSTAMP:20260419T150714
CREATED:20250614T030654Z
LAST-MODIFIED:20250614T030654Z
UID:10001391-1750350600-1750356000@yesfm.com
SUMMARY:Freewill Dinner
DESCRIPTION:Freewill Dinner Thursday June 19th at the Kendrew Grange on Stevenson Road off Route 812. 4:30 -6 served family style. Ham\, Mac and Cheese\, Veg and Cake!
URL:https://yesfm.com/event/freewill-dinner/
CATEGORIES:Local Events
ATTACH;FMTTYPE=image/jpeg:https://yesfm.com/site/wp-content/uploads/2025/06/ham-4718476_1280-e1775571274213.jpg
END:VEVENT
BEGIN:VEVENT
DTSTART;VALUE=DATE:20250620
DTEND;VALUE=DATE:20250621
DTSTAMP:20260419T150714
CREATED:20250613T031022Z
LAST-MODIFIED:20250613T031022Z
UID:10001390-1750377600-1750463999@yesfm.com
SUMMARY:Spencerville Summerfest
DESCRIPTION:Spencerville Summerfest Sunday\, July 20\nA full day of summer fun\, food\, and festivities—all across town!\nBring the whole family and explore everything Spencerville has to offer at this exciting town-wide event\, featuring:\nKids Fun Area | 10:00 AM – 4:00 PM\nSpencerville Mill – 11 Water Street\nBouncy castle\, face painting\, petting zoo and more!\nSpencerville Summer Market | 10:00 AM – 3:00 PM\nSpencerville Arena – 22 Sloan Street\nShop local vendors\, artisans\, and more at this vibrant community market.\nBBQ Battle | Cooking begins 8:00AM – Judging at 5:00 PM\nJoe’s Spencercity Bar & Grill – 11 Spencer Street\nWatch the grill masters go head-to-head in a fiery showdown—then grab some delicious BBQ for yourself from Catalyst Catering and Joe’s Eat n’ Take Off!\nSBCC Pie Throwing Fundraiser | 4:00 PM\nAlso at Joe’s during the BBQ Battle\nCome support a great cause and enjoy some pie-flinging fun!\nDon’t miss this action-packed day in Spencerville—there’s something for everyone!\nContact Kirsha Hutchcroft at sbccspencerville@gmail.com for more information.
URL:https://yesfm.com/event/spencerville-summerfest/
CATEGORIES:Local Events
ATTACH;FMTTYPE=image/jpeg:https://yesfm.com/site/wp-content/uploads/2025/06/summer-635247_1280.jpg
END:VEVENT
BEGIN:VEVENT
DTSTART;VALUE=DATE:20250620
DTEND;VALUE=DATE:20250623
DTSTAMP:20260419T150714
CREATED:20250614T030848Z
LAST-MODIFIED:20250614T030848Z
UID:10001392-1750377600-1750636799@yesfm.com
SUMMARY:Tall Ships Festival
DESCRIPTION:The Tall Ships Festival returns to Brockville Friday to Sunday June 20-22 at Blockhouse Island. Get ready for an adventure-filled weekend along Brockville’s waterfront featuring towering tall ships\, live music\, craft beer garden\, bustling vendor market\, kids zone\, and so much more! Visit https://tallshipsbrockville.com/ to get tickets!
URL:https://yesfm.com/event/tall-ships-festival/
CATEGORIES:Local Events
ATTACH;FMTTYPE=image/jpeg:https://yesfm.com/site/wp-content/uploads/2025/06/ship-527728_1280.jpg
END:VEVENT
BEGIN:VEVENT
DTSTART;TZID=America/New_York:20250620T103000
DTEND;TZID=America/New_York:20250620T160000
DTSTAMP:20260419T150714
CREATED:20250610T174801Z
LAST-MODIFIED:20250610T174847Z
UID:10001388-1750415400-1750435200@yesfm.com
SUMMARY:Red Cross Blood Drive
DESCRIPTION:Canton-Potsdam Hospital is sponsoring a Red Cross Blood Drive on Friday\, June 20 at the New Hope Community Church\, 33 Grant Street\, Potsdam. Hours are 10:30 am to 4:00 pm. Donors must be healthy\, at least 16 years of age\, and weigh at least 110 lbs. Please consider a Double Red donation if you are O Neg\, O Pos\, A Neg\, or B Neg.\nDonors can pre-register using RapidPass (www.redcrossblood.org/rapidpass). Pre-registration can only be completed the day of the drive prior to arrival.\nRegistration can be made online at www.redcrossblood.org\, or by contacting 1 (800) RED CROSS. First time donors and walk-ins are welcome.
URL:https://yesfm.com/event/red-cross-blood-drive-15/
CATEGORIES:Local Events
ATTACH;FMTTYPE=image/jpeg:https://yesfm.com/site/wp-content/uploads/2025/06/earth-g5edf97dac_1920.jpg
END:VEVENT
BEGIN:VEVENT
DTSTART;TZID=America/New_York:20250620T110000
DTEND;TZID=America/New_York:20250620T143000
DTSTAMP:20260419T150714
CREATED:20250605T132435Z
LAST-MODIFIED:20250605T132435Z
UID:10001386-1750417200-1750429800@yesfm.com
SUMMARY:Ogdensburg Elks Lodge Chicken BBQ
DESCRIPTION:Chicken BBQ at the Ogdensburg Elks Lodge to benefit the St. Lawrence Co. People Project on Friday June 20th 11am until sold out! Chicken\, Salt Potatoes\, Baked Beans and Roll for $15! Pre Sale and Delivery\, 315-393-5430.
URL:https://yesfm.com/event/ogdensburg-elks-lodge-chicken-bbq/
LOCATION:Ogdensburg Elks Lodge
CATEGORIES:Local Events
ATTACH;FMTTYPE=image/jpeg:https://yesfm.com/site/wp-content/uploads/2025/06/del-4.jpg
END:VEVENT
BEGIN:VEVENT
DTSTART;TZID=America/New_York:20250621T080000
DTEND;TZID=America/New_York:20250621T140000
DTSTAMP:20260419T150714
CREATED:20250530T151607Z
LAST-MODIFIED:20250605T133530Z
UID:10001065-1750492800-1750514400@yesfm.com
SUMMARY:Americans Supporting Armed Service Golf Tournament
DESCRIPTION:ASAS 3rd Annual Golf Tournament \nProceeds assist area veterans \nSee attached flyer \nVisit asasus.org to learn more
URL:https://yesfm.com/event/americans-supporting-armed-service-golf-tournament/
LOCATION:highland greens golf course\, United States
CATEGORIES:Local Events
ATTACH;FMTTYPE=image/jpeg:https://yesfm.com/site/wp-content/uploads/2025/05/ASAS-GT-2025-1.jpg
END:VEVENT
END:VCALENDAR