BEGIN:VCALENDAR
VERSION:2.0
PRODID:-//YES FM - ECPv6.15.15//NONSGML v1.0//EN
CALSCALE:GREGORIAN
METHOD:PUBLISH
X-WR-CALNAME:YES FM
X-ORIGINAL-URL:https://yesfm.com
X-WR-CALDESC:Events for YES FM
REFRESH-INTERVAL;VALUE=DURATION:PT1H
X-Robots-Tag:noindex
X-PUBLISHED-TTL:PT1H
BEGIN:VTIMEZONE
TZID:America/New_York
BEGIN:DAYLIGHT
TZOFFSETFROM:-0500
TZOFFSETTO:-0400
TZNAME:EDT
DTSTART:20230312T070000
END:DAYLIGHT
BEGIN:STANDARD
TZOFFSETFROM:-0400
TZOFFSETTO:-0500
TZNAME:EST
DTSTART:20231105T060000
END:STANDARD
BEGIN:DAYLIGHT
TZOFFSETFROM:-0500
TZOFFSETTO:-0400
TZNAME:EDT
DTSTART:20240310T070000
END:DAYLIGHT
BEGIN:STANDARD
TZOFFSETFROM:-0400
TZOFFSETTO:-0500
TZNAME:EST
DTSTART:20241103T060000
END:STANDARD
BEGIN:DAYLIGHT
TZOFFSETFROM:-0500
TZOFFSETTO:-0400
TZNAME:EDT
DTSTART:20250309T070000
END:DAYLIGHT
BEGIN:STANDARD
TZOFFSETFROM:-0400
TZOFFSETTO:-0500
TZNAME:EST
DTSTART:20251102T060000
END:STANDARD
END:VTIMEZONE
BEGIN:VEVENT
DTSTART;VALUE=DATE:20240823
DTEND;VALUE=DATE:20240826
DTSTAMP:20260419T133956
CREATED:20240814T231526Z
LAST-MODIFIED:20240814T231526Z
UID:10000365-1724371200-1724630399@yesfm.com
SUMMARY:community wide garage sales
DESCRIPTION:Russell will be holding community wide garage sales on August 23-25th.
URL:https://yesfm.com/event/community-wide-garage-sales-3/
CATEGORIES:Local Events
ATTACH;FMTTYPE=image/jpeg:https://yesfm.com/site/wp-content/uploads/2024/08/clothes-5371410_1280-4.jpg
END:VEVENT
BEGIN:VEVENT
DTSTART;VALUE=DATE:20240819
DTEND;VALUE=DATE:20240823
DTSTAMP:20260419T133956
CREATED:20240603T184709Z
LAST-MODIFIED:20240603T184709Z
UID:10000009-1724025600-1724371199@yesfm.com
SUMMARY:Child Passenger Safety Course
DESCRIPTION:A Child Passenger Safety Course will be held at the Ogdensburg Fire Department from August 19-22. You must register in order to take this course. You can register at cert.safekids.org  (click on Become a Tech\, and search under New York State and certification; from here\, you can find the course-taking place in Ogdensburg).
URL:https://yesfm.com/event/child-passenger-safety-course/
LOCATION:Ogdensburg Firefighters Local 1799\, Ford Street\, Ogdensburg\, NY\, United States
CATEGORIES:Local Events
ATTACH;FMTTYPE=image/webp:https://yesfm.com/site/wp-content/uploads/2024/06/car-7614510-1280.webp
END:VEVENT
BEGIN:VEVENT
DTSTART;TZID=America/New_York:20240817T160000
DTEND;TZID=America/New_York:20240817T190000
DTSTAMP:20260419T133956
CREATED:20240725T012959Z
LAST-MODIFIED:20240725T012959Z
UID:10000342-1723910400-1723921200@yesfm.com
SUMMARY:chicken barbecue
DESCRIPTION:A chicken barbecue hosted at the United Methodist Church at 627 Caroline Street\, Ogdensburg Saturday August 17th 4 to 7pm. All money goes to the United Methodist Church. Adults $15 Age 12-16 $7 Age 11 and under eat for free.
URL:https://yesfm.com/event/chicken-barbecue/
CATEGORIES:Local Events
ATTACH;FMTTYPE=image/jpeg:https://yesfm.com/site/wp-content/uploads/2024/07/chicken-1559548_1280.jpg
END:VEVENT
BEGIN:VEVENT
DTSTART;TZID=America/New_York:20240817T120000
DTEND;TZID=America/New_York:20240817T150000
DTSTAMP:20260419T133956
CREATED:20240814T232100Z
LAST-MODIFIED:20240814T232100Z
UID:10000369-1723896000-1723906800@yesfm.com
SUMMARY:Annual Lisbon Homecoming Chicken BBQ
DESCRIPTION:The Annual Lisbon Homecoming Chicken BBQ is at the fire station at noon Saturday. Price: $15 for a full meal. $10 for a kids meal. $8 for a half of chicken only. Dinner includes half a chicken\, mac salad\, potato salad\, beans\, dinner roll & dessert! Eat in or take out. No call in orders. We hope to see you all there and thank you for your support!
URL:https://yesfm.com/event/annual-lisbon-homecoming-chicken-bbq/
CATEGORIES:Local Events
ATTACH;FMTTYPE=image/jpeg:https://yesfm.com/site/wp-content/uploads/2024/08/chicken-1559548_1280.jpg
END:VEVENT
BEGIN:VEVENT
DTSTART;TZID=America/New_York:20240817T110000
DTEND;TZID=America/New_York:20240817T150000
DTSTAMP:20260419T133956
CREATED:20240725T015241Z
LAST-MODIFIED:20240725T015241Z
UID:10000352-1723892400-1723906800@yesfm.com
SUMMARY:day of butterfly science and art
DESCRIPTION:Join the North Country Children’s Museum for a day of butterfly science and art on Saturday\, August 17th. Science educators from Paul Smith’s College VIC will be at the Children’s Museum with live butterflies\, chrysalis\, and caterpillars so that visitors can learn about this fascinating metamorphosis. Science educators will lead visitors in butterfly songs\, making butterfly crafts\, playing butterfly games\, and learning to tag monarchs on their way south to Mexico. The program is included with the cost of museum admission and membership. No need to preregister. Program runs from 11am -12pm and repeats from 2pm-3pm.\nThe Children’s Museum is located at 10 Raymond Street in downtown Potsdam. The museum is geared for children ages 12 and under and their families. Visit the museum’s website for more information: \nPowered By Play
URL:https://yesfm.com/event/day-of-butterfly-science-and-art/
LOCATION:10 Raymond St\, Potsdam\, NY 13676
CATEGORIES:Local Events
ATTACH;FMTTYPE=image/jpeg:https://yesfm.com/site/wp-content/uploads/2024/07/butterfly-4396444_1280.jpg
END:VEVENT
BEGIN:VEVENT
DTSTART;TZID=America/New_York:20240817T100000
DTEND;TZID=America/New_York:20240817T160000
DTSTAMP:20260419T133956
CREATED:20240725T012130Z
LAST-MODIFIED:20240725T012130Z
UID:10000338-1723888800-1723910400@yesfm.com
SUMMARY:paw-some day
DESCRIPTION:This summer\, bring your furry friends to Downtown Brockville for a paw-some day filled with shopping\, entertainment\, and tail-wagging fun Saturday August 17th! From 10 to 4 stroll through vibrant downtown businesses where you can sniff out great deals on unique items\, pet products\, and more. Enjoy live music. Explore local restaurants for quick snacks and delicious meals. This family-friendly event is the perfect way to spend a summer day outdoors. Don’t miss out on the excitement—come see what’s in store and celebrate the heart of summer with the whole community (and their dogs)! Saturday August 17th in downtown Brockville!
URL:https://yesfm.com/event/paw-some-day/
LOCATION:Downtown Brockville
CATEGORIES:Local Events
ATTACH;FMTTYPE=image/jpeg:https://yesfm.com/site/wp-content/uploads/2024/07/shepherd-dog-4357790_1280.jpg
END:VEVENT
BEGIN:VEVENT
DTSTART;TZID=America/New_York:20240817T073000
DTEND;TZID=America/New_York:20240817T100000
DTSTAMP:20260419T133956
CREATED:20240813T122310Z
LAST-MODIFIED:20240813T122310Z
UID:10000362-1723879800-1723888800@yesfm.com
SUMMARY:Homecoming Breakfast
DESCRIPTION:Homecoming Breakfast Saturday\, August 17 United Presbyterian church 26 Church Street\, Lisbon 7:30-10:00 $10.00 per person children 7 and under FREE
URL:https://yesfm.com/event/homecoming-breakfast/
LOCATION:26 Church Street\, Lisbon\, NY
CATEGORIES:Local Events
ATTACH;FMTTYPE=image/jpeg:https://yesfm.com/site/wp-content/uploads/2024/08/pancakes-640869_1280-4.jpg
END:VEVENT
BEGIN:VEVENT
DTSTART;TZID=America/New_York:20240816T103000
DTEND;TZID=America/New_York:20240816T160000
DTSTAMP:20260419T133956
CREATED:20240813T121248Z
LAST-MODIFIED:20240813T121248Z
UID:10000358-1723804200-1723824000@yesfm.com
SUMMARY:Red Cross Blood Drive
DESCRIPTION:St. Lawrence Health is sponsoring a Red Cross Blood Drive on Friday\, August 16 at the New Hope Community Church\, Grant Street\, Potsdam. Hours are 10:30 am to 4:00 pm.
URL:https://yesfm.com/event/red-cross-blood-drive-6/
CATEGORIES:Local Events
ATTACH;FMTTYPE=image/jpeg:https://yesfm.com/site/wp-content/uploads/2024/08/earth-g5edf97dac_1920.jpg
END:VEVENT
BEGIN:VEVENT
DTSTART;TZID=America/New_York:20240816T100000
DTEND;TZID=America/New_York:20240816T140000
DTSTAMP:20260419T133956
CREATED:20240813T121437Z
LAST-MODIFIED:20240813T121437Z
UID:10000359-1723802400-1723816800@yesfm.com
SUMMARY:annual TOUCH A TRUCK event and BBQ
DESCRIPTION:The Children’s Services Department of the United Counties of Leeds and Grenville\, in partnership with the City of Brockville and the United Way of Leeds and Grenville\, is excited to announce the return of the annual TOUCH A TRUCK event and BBQ. This family-friendly event will take place on Friday\, August 16th\, at the Brockville Memorial Centre parking lot\, located at 100 Magedoma Blvd in Brockville.\nParents\, grandparents\, and caregivers are invited to bring their children and grandchildren to this FREE event from 10 a.m. to 2 p.m. Attendees will have the unique opportunity to explore and interact with a variety of vehicles\, including those from emergency services\, construction\, public transportation\, and more.
URL:https://yesfm.com/event/annual-touch-a-truck-event-and-bbq/
LOCATION:Brockville Memorial Center
CATEGORIES:Local Events
ATTACH;FMTTYPE=image/jpeg:https://yesfm.com/site/wp-content/uploads/2024/08/woman-1845572_1280.jpg
END:VEVENT
BEGIN:VEVENT
DTSTART;TZID=America/New_York:20240815T080000
DTEND;TZID=America/New_York:20240815T170000
DTSTAMP:20260419T133956
CREATED:20240725T014850Z
LAST-MODIFIED:20240725T014850Z
UID:10000350-1723708800-1723741200@yesfm.com
SUMMARY:Bassmaster Elite Series
DESCRIPTION:The Bassmaster Elite Series\, the highest level of professional bass fishing tournaments\, will return to Whitaker Park Waddington on Aug. 15-18. Interactive activities\, vendors\, demonstrations\, and more. Daily launch will be at 7 a.m. from Whittaker Park. Daily weigh-ins are at 3:10 p.m. Competition schedule: Thursday-Friday: Full field of 103 Anglers; Saturday: Cut to Top 50 Anglers; Sunday: Top 10 Anglers. Info: https://www.bassmaster.com/elite/ .
URL:https://yesfm.com/event/bassmaster-elite-series/
LOCATION:5836 whitaker\, Park Rd\, Lowville\, NY 13367
CATEGORIES:Local Events
ATTACH;FMTTYPE=image/jpeg:https://yesfm.com/site/wp-content/uploads/2024/07/fishing-4933219_1280.jpg
END:VEVENT
BEGIN:VEVENT
DTSTART;TZID=America/New_York:20240813T170000
DTEND;TZID=America/New_York:20240814T210000
DTSTAMP:20260419T133956
CREATED:20240813T122144Z
LAST-MODIFIED:20240813T122144Z
UID:10000361-1723568400-1723669200@yesfm.com
SUMMARY:Boater Safety Course
DESCRIPTION:A Boater Safety Course will be at the Hammond Central School Tuesday and Wednesday\, 5-9pm August 13-14. You will need a safety certificate after January 1st\, 2025 to operate a watercraft (boat\, jet ski\, etc). You MUST attent both nights! Call 315-605-8041!
URL:https://yesfm.com/event/boater-safety-course/
LOCATION:Hammond Central School
CATEGORIES:Local Events
ATTACH;FMTTYPE=image/jpeg:https://yesfm.com/site/wp-content/uploads/2024/08/boat-4119276_1280.jpg
END:VEVENT
BEGIN:VEVENT
DTSTART;TZID=America/New_York:20240811T090000
DTEND;TZID=America/New_York:20240811T140000
DTSTAMP:20260419T133956
CREATED:20240801T133812Z
LAST-MODIFIED:20240801T133812Z
UID:10000353-1723366800-1723384800@yesfm.com
SUMMARY:Panther Color Run and Festival
DESCRIPTION:The Parishville Hopkinton Parent Teacher Organization is host the Panther Color Run & Festival \, at the Parishville-Hopkinton Central School August 11th\, 9am-2pm.\nAll proceeds are going to purchase school supplies for all of PHCS students! Color run registration: $25\nAlong with the color run there will be free games\, touch – a – truck\, a dunk tank\, community resources\, Child Safety ID cards\, local vendors\, DJ\, Panther Swag\, raffles\, a 50/50 for school clothes shopping spree and more!\nDerek Carter from The Airport Diner ill be on the grill!!\n3TK Potsdam will be there serving cold drinks!\nWe are still accepting local vendor applications until August\, 5th!\nSponsored by: St. Lawrence Federal Credit Union\, \, Cornerstone and J.E. Sheehan Contracting Corp.\nFor more information visit Event Page: https://facebook.com/events/s/panther-color-run-festival/836083571327844/
URL:https://yesfm.com/event/panther-color-run-and-festival/
LOCATION:Parishville Hopkinton Central\, 12 CR 47\, Pairshville NY 13672\, 12 county Rte 47\, Parishville\, NY\, 13672\, United States
ATTACH;FMTTYPE=image/png:https://yesfm.com/site/wp-content/uploads/2024/07/Panther-Color-Run-Festival-Poster.png
END:VEVENT
BEGIN:VEVENT
DTSTART;TZID=America/New_York:20240810T170000
DTEND;TZID=America/New_York:20240810T230000
DTSTAMP:20260419T133956
CREATED:20240725T014536Z
LAST-MODIFIED:20240725T014536Z
UID:10000349-1723309200-1723330800@yesfm.com
SUMMARY:Main Street Movie Night
DESCRIPTION:The feature film of the Main Street Movie Night on Saturday\, Aug. 10 is Godzilla vs. Kong. The event will take place on Main Street on the block between Andrews and East Orvis Street from 5-11 p.m. Admissions is free. There will food trucks\, vendors\, Lena the Lizard Lady and other entertainment\, bouncy houses\, yard games\, etc. from 5-8 p.m. The movie will begin at 8:15 p.m.
URL:https://yesfm.com/event/main-street-movie-night/
LOCATION:Main Street on the block between Andrews and East Orvis Street
CATEGORIES:Local Events
ATTACH;FMTTYPE=image/jpeg:https://yesfm.com/site/wp-content/uploads/2024/07/ticket-2974645_1280-2.jpg
END:VEVENT
BEGIN:VEVENT
DTSTART;TZID=America/New_York:20240810T150000
DTEND;TZID=America/New_York:20240824T180000
DTSTAMP:20260419T133956
CREATED:20240718T015945Z
LAST-MODIFIED:20240718T020312Z
UID:10000336-1723302000-1724522400@yesfm.com
SUMMARY:"The Gathering"
DESCRIPTION:Cornwall Pentecostal Church presents…\n“The Gathering”\nSat Aug 10/24 from 3:00 p.m. to 6:00 p.m.\nat the band shell in Lamoureux Park in Cornwall.\nMusic\, hot dogs\, chips\, cookies\, water\,\nface painting for the kids\nAll Free & All welcome
URL:https://yesfm.com/event/the-gathering/
LOCATION:100 Water St E\, Cornwall\, ON K6H 6G4\, Canada
CATEGORIES:Local Events
ATTACH;FMTTYPE=image/jpeg:https://yesfm.com/site/wp-content/uploads/2024/07/guitar-907654_1280.jpg
END:VEVENT
BEGIN:VEVENT
DTSTART;TZID=America/New_York:20240809T150000
DTEND;TZID=America/New_York:20240809T180000
DTSTAMP:20260419T133956
CREATED:20240718T020204Z
LAST-MODIFIED:20240718T020204Z
UID:10000337-1723215600-1723226400@yesfm.com
SUMMARY:Free Family Wellness Day
DESCRIPTION:Free Family Wellness Day is Friday August 9th! 3-6pm at the CHMC Hess Auditorium! 100 free bike helmets\, fun filled activities\, Child ID\, Healthy Snacks and a bike raffle! 315-713-5251 to register!
URL:https://yesfm.com/event/free-family-wellness-day/
LOCATION:214 King St\, Ogdensburg\, NY 13669
CATEGORIES:Local Events
ATTACH;FMTTYPE=image/jpeg:https://yesfm.com/site/wp-content/uploads/2024/07/hand-massage-7440712_1280.jpg
END:VEVENT
BEGIN:VEVENT
DTSTART;VALUE=DATE:20240809
DTEND;VALUE=DATE:20240812
DTSTAMP:20260419T133956
CREATED:20240702T020917Z
LAST-MODIFIED:20240702T020917Z
UID:10000307-1723161600-1723420799@yesfm.com
SUMMARY:Merrickville Fair
DESCRIPTION:Merrickville Fair August 9 – 11 on the Merrickville Fairgrounds. Sheep\, cattle\, horses\, even a petting zoo! Visitors will be able to enjoy the Kids zone\, arts & crafts\, demonstrations\, horse pull\, truck pull and live music!
URL:https://yesfm.com/event/merrickville-fair/
LOCATION:446 Main St W\, Merrickville\, ON K0G 1N0\, Canada
CATEGORIES:Local Events
ATTACH;FMTTYPE=image/jpeg:https://yesfm.com/site/wp-content/uploads/2024/07/horse-197199_1280.jpg
END:VEVENT
BEGIN:VEVENT
DTSTART;TZID=America/New_York:20240805T163000
DTEND;TZID=America/New_York:20240805T183000
DTSTAMP:20260419T133956
CREATED:20240725T014331Z
LAST-MODIFIED:20240725T014331Z
UID:10000348-1722875400-1722882600@yesfm.com
SUMMARY:Italian night dinner
DESCRIPTION:Italian night dinner hosted by Parishville AmVets Ladies Auxiliary 265 will take place Monday\, Aug. 5\, 4:30-6:30 p.m. Amvet’s hall\, 25 Rutman Rd. Spaghetti with meatballs\, lasagna and more!
URL:https://yesfm.com/event/italian-night-dinner/
LOCATION:Amvet’s hall\, 25 Rutman Rd Parishville\, NY\, USA
CATEGORIES:Local Events
ATTACH;FMTTYPE=image/jpeg:https://yesfm.com/site/wp-content/uploads/2024/07/spaghetti-1604836_1280-1.jpg
END:VEVENT
BEGIN:VEVENT
DTSTART;TZID=America/New_York:20240803T080000
DTEND;TZID=America/New_York:20240803T110000
DTSTAMP:20260419T133956
CREATED:20240725T014139Z
LAST-MODIFIED:20240725T014139Z
UID:10000347-1722672000-1722682800@yesfm.com
SUMMARY:14th Annual Swim-a-Mile for Hospice
DESCRIPTION:The 14th Annual Swim-a-Mile for Hospice will take place Saturday\, Aug. 3\, at 8 a.m. at Norwood Beach. Participants ages 10 and up can opt to swim a mile\, 1/2 mile or 1/4 mile length course to help fundraising for Hospice.
URL:https://yesfm.com/event/14th-annual-swim-a-mile-for-hospice/
LOCATION:Lakeshore Drive\, Norwood\, NY\, United States\, New York
CATEGORIES:Local Events
ATTACH;FMTTYPE=image/jpeg:https://yesfm.com/site/wp-content/uploads/2024/07/man-462874_1280.jpg
END:VEVENT
BEGIN:VEVENT
DTSTART;VALUE=DATE:20240802
DTEND;VALUE=DATE:20240805
DTSTAMP:20260419T133956
CREATED:20240725T013815Z
LAST-MODIFIED:20240725T013815Z
UID:10000346-1722556800-1722815999@yesfm.com
SUMMARY:community wide garage sales
DESCRIPTION:The village and township of Canton will hold its community wide garage sales on Friday\, Aug. 2 through Sunday\, Aug. 4.
URL:https://yesfm.com/event/community-wide-garage-sales-2/
CATEGORIES:Local Events
ATTACH;FMTTYPE=image/jpeg:https://yesfm.com/site/wp-content/uploads/2024/07/flea-market-970948_1280.jpg
END:VEVENT
BEGIN:VEVENT
DTSTART;TZID=America/New_York:20240801T080000
DTEND;TZID=America/New_York:20240801T170000
DTSTAMP:20260419T133956
CREATED:20240801T130744Z
LAST-MODIFIED:20240801T130744Z
UID:10000355-1722499200-1722531600@yesfm.com
SUMMARY:
DESCRIPTION:The Amazing Race Around Ogdensburg is set to happen AGAIN Saturday August 24th! If you like to solve puzzles\, this is for you. If you like to laugh\, then this is for you. If you like to have fun\, then this is for you it starts at the First Presbyterian Church of Ogdensburg.
URL:https://yesfm.com/event/28158/
CATEGORIES:Local Events
ATTACH;FMTTYPE=image/jpeg:https://yesfm.com/site/wp-content/uploads/2024/08/DEL-e1722517623705.jpg
END:VEVENT
BEGIN:VEVENT
DTSTART;TZID=America/New_York:20240730T113000
DTEND;TZID=America/New_York:20240730T163000
DTSTAMP:20260419T133956
CREATED:20240725T013612Z
LAST-MODIFIED:20240725T013612Z
UID:10000345-1722339000-1722357000@yesfm.com
SUMMARY:Red Cross blood drive
DESCRIPTION:A Red Cross blood drive will be held July 30 from 11:30 a.m.-4:30 p.m.\, at American Legion Mervin Eno Post 1539\, 264 Benson Mines Golf Course Road. Simply download the American Red Cross Blood Donor App\, visit RedCrossBlood.org\, call 1-800-RED CROSS (1-800-733-2767) or enable the Blood Donor Skill on any Alexa Echo device to make an appointment or for more information.
URL:https://yesfm.com/event/red-cross-blood-drive-5/
LOCATION:American Legion Mervin Eno Post 1539\, 264 Benson Mines Golf Course Road
CATEGORIES:Local Events
ATTACH;FMTTYPE=image/jpeg:https://yesfm.com/site/wp-content/uploads/2024/07/earth-g5edf97dac_1920-1.jpg
END:VEVENT
BEGIN:VEVENT
DTSTART;TZID=America/New_York:20240729T120000
DTEND;TZID=America/New_York:20240729T160000
DTSTAMP:20260419T133956
CREATED:20240725T013410Z
LAST-MODIFIED:20240725T013410Z
UID:10000344-1722254400-1722268800@yesfm.com
SUMMARY:Red Cross blood drive
DESCRIPTION:A Red Cross blood drive will be held Monday July 29 from 12 p.m.-4:30 p.m. at American Legion Massena\, 40 East Orvis St. Simply download the American Red Cross Blood Donor App\, visit RedCrossBlood.org\, call 1-800-RED CROSS (1-800-733-2767) or enable the Blood Donor Skill on any Alexa Echo device to make an appointment or for more information.
URL:https://yesfm.com/event/red-cross-blood-drive-4/
LOCATION:30 East Orvis Street\, Massena\, NY\, USA
ATTACH;FMTTYPE=image/jpeg:https://yesfm.com/site/wp-content/uploads/2024/07/earth-g5edf97dac_1920-1.jpg
END:VEVENT
BEGIN:VEVENT
DTSTART;TZID=America/New_York:20240728T100000
DTEND;TZID=America/New_York:20240728T110000
DTSTAMP:20260419T133956
CREATED:20240725T012422Z
LAST-MODIFIED:20240725T012422Z
UID:10000339-1722160800-1722164400@yesfm.com
SUMMARY:Walk With a Doc
DESCRIPTION:St. Lawrence Health invites regional community members to join them to Walk With a Doc on Sunday\, July 28. The event will be held from 10:00-11:00 am on the Nichols Trail in Louisville. Join Dermatologist Hung Chin Ho\, MD\, to learn and talk about skin health and cancer awareness.
URL:https://yesfm.com/event/walk-with-a-doc/
LOCATION:Nichols Trail\, Lowville\, NY\, USA
CATEGORIES:Local Events
ATTACH;FMTTYPE=image/jpeg:https://yesfm.com/site/wp-content/uploads/2024/07/woman-2141808_1280-1.jpg
END:VEVENT
BEGIN:VEVENT
DTSTART;TZID=America/New_York:20240728T093000
DTEND;TZID=America/New_York:20240728T133000
DTSTAMP:20260419T133956
CREATED:20240725T012848Z
LAST-MODIFIED:20240725T012848Z
UID:10000341-1722159000-1722173400@yesfm.com
SUMMARY:6th annual "Empower the Children" Poker Ride
DESCRIPTION:Guardians of the Children International – Brockville Chapter is having their 6th annual “Empower the Children” Poker Ride on Sunday\, July 28. Start location is at the Mobile Gas in Brockville and end location is at the Iroquois Legion/Ross Video in Iroquois. Registration starts at 9:30 am… kick stands up at 10:30 am sharp. There will be merchandise vendors and multiple food vendors set up.
URL:https://yesfm.com/event/6th-annual-empower-the-children-poker-ride/
LOCATION:Mobile Gas\, Brockville\, ON\, CA
CATEGORIES:Local Events
ATTACH;FMTTYPE=image/jpeg:https://yesfm.com/site/wp-content/uploads/2024/07/run-5077128_1280.jpg
END:VEVENT
BEGIN:VEVENT
DTSTART;TZID=America/New_York:20240727T110000
DTEND;TZID=America/New_York:20240727T123000
DTSTAMP:20260419T133956
CREATED:20240712T030338Z
LAST-MODIFIED:20240712T030338Z
UID:10000333-1722078000-1722083400@yesfm.com
SUMMARY:Dinosaur Program
DESCRIPTION:Dinosaur Program at the Children’s Museum on Saturday\, July 27th from 11am-12:30pm.\nDinosaurs – What did they look like\, how did they move\, and what did they eat? Let’s discover some surprising things about these giants of the past. Join Dr. Nagel-Myers from St. Lawrence University and a group of her students for hands-on activities exploring these fossil organisms. The museum is geared for children ages 12 and under and their families. Special weekend programs are included with the cost of membership and admission. No need to preregister for this drop-in program. The North Country Children’s Museum is located at 10 Raymond Street in downtown Potsdam. Visit the website calendar for more info:\nhttps://northcountrychildrensmuseum.org/events/
URL:https://yesfm.com/event/dinosaur-program/
LOCATION:10 Raymond Street\, Potsdam\, NY
CATEGORIES:Local Events
ATTACH;FMTTYPE=image/jpeg:https://yesfm.com/site/wp-content/uploads/2024/07/dinosaur-1310676_1280.jpg
END:VEVENT
BEGIN:VEVENT
DTSTART;TZID=America/New_York:20240727T080000
DTEND;TZID=America/New_York:20240728T233000
DTSTAMP:20260419T133956
CREATED:20240725T013155Z
LAST-MODIFIED:20240725T013155Z
UID:10000343-1722067200-1722209400@yesfm.com
SUMMARY:Hazy Lazy Days of Colton
DESCRIPTION:The Town of Colton will host its annual community celebration\, the Hazy Lazy Days of Colton\, on Saturday\, July 27 and Sunday July 28. Pancakes\, parades\, flea market\, food\, drink\, cornhole\, live music and fireworks will all be part of the two-day community event.\nA pancake breakfast and craft show will kick off the day Saturday\, July 27 at the Colton Community Church\, 11 Church St.\, beginning at 8 a.m.\nThe craft show will feature homemade items and an assortment of crafts including: sweaters\, quilts\, wreaths\, cozies\, soaps\, totes and bags\, dish cloths\, shawls\, table runners\, wood burnt plaques and more.\nFor more information contact Sandy at 315-212-4134 or Sharon at 843-560-1344.
URL:https://yesfm.com/event/hazy-lazy-days-of-colton/
CATEGORIES:Local Events
ATTACH;FMTTYPE=image/jpeg:https://yesfm.com/site/wp-content/uploads/2024/07/concert-2527495_1280-1.jpg
END:VEVENT
BEGIN:VEVENT
DTSTART;TZID=America/New_York:20240726T170000
DTEND;TZID=America/New_York:20240726T220000
DTSTAMP:20260419T133956
CREATED:20240702T022850Z
LAST-MODIFIED:20240702T022850Z
UID:10000316-1722013200-1722031200@yesfm.com
SUMMARY:Train Rides
DESCRIPTION:Train Rides Friday July 26th! Ogdensburg International Seaway Festival…train ride by the docks\, fireworks\, music\, and vendors. Tickets and boarding will be near the Dobisky Center.5 pm – 10 pm $5.00 per rider Children under 2 ride free.
URL:https://yesfm.com/event/train-rides/
LOCATION:100 Riverside Ave\, Ogdensburg\, NY 13669
CATEGORIES:Local Events
ATTACH;FMTTYPE=image/jpeg:https://yesfm.com/site/wp-content/uploads/2024/07/railway-tracks-3703349_1280.jpg
END:VEVENT
BEGIN:VEVENT
DTSTART;TZID=America/New_York:20240726T113000
DTEND;TZID=America/New_York:20240726T160000
DTSTAMP:20260419T133956
CREATED:20240711T023248Z
LAST-MODIFIED:20240711T023248Z
UID:10000330-1721993400-1722009600@yesfm.com
SUMMARY:Red Cross blood drive
DESCRIPTION:A Red Cross blood drive will be held July 26 from 11:30 a.m.-4 p.m. at New York Power Authority\, Hawkins Point Rd. Simply download the American Red Cross Blood Donor App\, visit RedCrossBlood.org\, call 1-800-RED CROSS (1-800-733-2767) or enable the Blood Donor Skill on any Alexa Echo device to make an appointment or for more information.
URL:https://yesfm.com/event/red-cross-blood-drive-3/
LOCATION:21 Hawkins Point Rd\, Massena\, NY 13662
CATEGORIES:Local Events
ATTACH;FMTTYPE=image/jpeg:https://yesfm.com/site/wp-content/uploads/2024/07/earth-g5edf97dac_1920.jpg
END:VEVENT
BEGIN:VEVENT
DTSTART;TZID=America/New_York:20240725T170000
DTEND;TZID=America/New_York:20240725T233000
DTSTAMP:20260419T133956
CREATED:20240725T012648Z
LAST-MODIFIED:20240725T012648Z
UID:10000340-1721926800-1721950200@yesfm.com
SUMMARY:Throwback Thursday in honor of Joe Spriggs
DESCRIPTION:Throwback Thursday in honor of Joe Spriggs~Come celebrate the Seaway Festival at the Ogdensburg Elks Lodge. The Band Room Band plays from 5-8pm and Double Axel plays from 8:30-11:30pm.
URL:https://yesfm.com/event/throwback-thursday-in-honor-of-joe-spriggs/
LOCATION:Ogdensburg Elks Lodge
CATEGORIES:Local Events
ATTACH;FMTTYPE=image/jpeg:https://yesfm.com/site/wp-content/uploads/2024/07/concert-4125832_1280.jpg
END:VEVENT
BEGIN:VEVENT
DTSTART;TZID=America/New_York:20240723T180000
DTEND;TZID=America/New_York:20240723T210000
DTSTAMP:20260419T133956
CREATED:20240709T022443Z
LAST-MODIFIED:20240709T022450Z
UID:10000322-1721757600-1721768400@yesfm.com
SUMMARY:CPHC Big Money Bingo
DESCRIPTION:CPHC Big Money Bingo is Tuesday July 23 at the Brockville Speedway! Gates open at 4\, calling at 6 – they’ll have a canteen. Stay in your car and play bingo! Someone will win $2500! Benefits senior programs at CPHC in Brockville! 613-242-3693 x2008
URL:https://yesfm.com/event/cphc-big-money-bingo/
LOCATION:Temperance Lake Rd\, Brockville\, ON K6V 5T4\, Canada
CATEGORIES:Local Events
ATTACH;FMTTYPE=image/jpeg:https://yesfm.com/site/wp-content/uploads/2024/07/lottery-3846567_1280.jpg
END:VEVENT
END:VCALENDAR