BEGIN:VCALENDAR
VERSION:2.0
PRODID:-//YES FM - ECPv6.15.15//NONSGML v1.0//EN
CALSCALE:GREGORIAN
METHOD:PUBLISH
X-WR-CALNAME:YES FM
X-ORIGINAL-URL:https://yesfm.com
X-WR-CALDESC:Events for YES FM
REFRESH-INTERVAL;VALUE=DURATION:PT1H
X-Robots-Tag:noindex
X-PUBLISHED-TTL:PT1H
BEGIN:VTIMEZONE
TZID:America/New_York
BEGIN:DAYLIGHT
TZOFFSETFROM:-0500
TZOFFSETTO:-0400
TZNAME:EDT
DTSTART:20230312T070000
END:DAYLIGHT
BEGIN:STANDARD
TZOFFSETFROM:-0400
TZOFFSETTO:-0500
TZNAME:EST
DTSTART:20231105T060000
END:STANDARD
BEGIN:DAYLIGHT
TZOFFSETFROM:-0500
TZOFFSETTO:-0400
TZNAME:EDT
DTSTART:20240310T070000
END:DAYLIGHT
BEGIN:STANDARD
TZOFFSETFROM:-0400
TZOFFSETTO:-0500
TZNAME:EST
DTSTART:20241103T060000
END:STANDARD
BEGIN:DAYLIGHT
TZOFFSETFROM:-0500
TZOFFSETTO:-0400
TZNAME:EDT
DTSTART:20250309T070000
END:DAYLIGHT
BEGIN:STANDARD
TZOFFSETFROM:-0400
TZOFFSETTO:-0500
TZNAME:EST
DTSTART:20251102T060000
END:STANDARD
END:VTIMEZONE
BEGIN:VEVENT
DTSTART;TZID=America/New_York:20240727T110000
DTEND;TZID=America/New_York:20240727T123000
DTSTAMP:20260419T170700
CREATED:20240712T030338Z
LAST-MODIFIED:20240712T030338Z
UID:10000333-1722078000-1722083400@yesfm.com
SUMMARY:Dinosaur Program
DESCRIPTION:Dinosaur Program at the Children’s Museum on Saturday\, July 27th from 11am-12:30pm.\nDinosaurs – What did they look like\, how did they move\, and what did they eat? Let’s discover some surprising things about these giants of the past. Join Dr. Nagel-Myers from St. Lawrence University and a group of her students for hands-on activities exploring these fossil organisms. The museum is geared for children ages 12 and under and their families. Special weekend programs are included with the cost of membership and admission. No need to preregister for this drop-in program. The North Country Children’s Museum is located at 10 Raymond Street in downtown Potsdam. Visit the website calendar for more info:\nhttps://northcountrychildrensmuseum.org/events/
URL:https://yesfm.com/event/dinosaur-program/
LOCATION:10 Raymond Street\, Potsdam\, NY
CATEGORIES:Local Events
ATTACH;FMTTYPE=image/jpeg:https://yesfm.com/site/wp-content/uploads/2024/07/dinosaur-1310676_1280.jpg
END:VEVENT
BEGIN:VEVENT
DTSTART;TZID=America/New_York:20240727T080000
DTEND;TZID=America/New_York:20240728T233000
DTSTAMP:20260419T170700
CREATED:20240725T013155Z
LAST-MODIFIED:20240725T013155Z
UID:10000343-1722067200-1722209400@yesfm.com
SUMMARY:Hazy Lazy Days of Colton
DESCRIPTION:The Town of Colton will host its annual community celebration\, the Hazy Lazy Days of Colton\, on Saturday\, July 27 and Sunday July 28. Pancakes\, parades\, flea market\, food\, drink\, cornhole\, live music and fireworks will all be part of the two-day community event.\nA pancake breakfast and craft show will kick off the day Saturday\, July 27 at the Colton Community Church\, 11 Church St.\, beginning at 8 a.m.\nThe craft show will feature homemade items and an assortment of crafts including: sweaters\, quilts\, wreaths\, cozies\, soaps\, totes and bags\, dish cloths\, shawls\, table runners\, wood burnt plaques and more.\nFor more information contact Sandy at 315-212-4134 or Sharon at 843-560-1344.
URL:https://yesfm.com/event/hazy-lazy-days-of-colton/
LOCATION:NY
CATEGORIES:Local Events
ATTACH;FMTTYPE=image/jpeg:https://yesfm.com/site/wp-content/uploads/2024/07/concert-2527495_1280-1.jpg
END:VEVENT
BEGIN:VEVENT
DTSTART;TZID=America/New_York:20240726T170000
DTEND;TZID=America/New_York:20240726T220000
DTSTAMP:20260419T170700
CREATED:20240702T022850Z
LAST-MODIFIED:20240702T022850Z
UID:10000316-1722013200-1722031200@yesfm.com
SUMMARY:Train Rides
DESCRIPTION:Train Rides Friday July 26th! Ogdensburg International Seaway Festival…train ride by the docks\, fireworks\, music\, and vendors. Tickets and boarding will be near the Dobisky Center.5 pm – 10 pm $5.00 per rider Children under 2 ride free.
URL:https://yesfm.com/event/train-rides/
LOCATION:100 Riverside Ave\, Ogdensburg\, NY 13669
CATEGORIES:Local Events
ATTACH;FMTTYPE=image/jpeg:https://yesfm.com/site/wp-content/uploads/2024/07/railway-tracks-3703349_1280.jpg
END:VEVENT
BEGIN:VEVENT
DTSTART;TZID=America/New_York:20240726T113000
DTEND;TZID=America/New_York:20240726T160000
DTSTAMP:20260419T170700
CREATED:20240711T023248Z
LAST-MODIFIED:20240711T023248Z
UID:10000330-1721993400-1722009600@yesfm.com
SUMMARY:Red Cross blood drive
DESCRIPTION:A Red Cross blood drive will be held July 26 from 11:30 a.m.-4 p.m. at New York Power Authority\, Hawkins Point Rd. Simply download the American Red Cross Blood Donor App\, visit RedCrossBlood.org\, call 1-800-RED CROSS (1-800-733-2767) or enable the Blood Donor Skill on any Alexa Echo device to make an appointment or for more information.
URL:https://yesfm.com/event/red-cross-blood-drive-3/
LOCATION:21 Hawkins Point Rd\, Massena\, NY 13662
CATEGORIES:Local Events
ATTACH;FMTTYPE=image/jpeg:https://yesfm.com/site/wp-content/uploads/2024/07/earth-g5edf97dac_1920.jpg
END:VEVENT
BEGIN:VEVENT
DTSTART;TZID=America/New_York:20240725T170000
DTEND;TZID=America/New_York:20240725T233000
DTSTAMP:20260419T170700
CREATED:20240725T012648Z
LAST-MODIFIED:20240725T012648Z
UID:10000340-1721926800-1721950200@yesfm.com
SUMMARY:Throwback Thursday in honor of Joe Spriggs
DESCRIPTION:Throwback Thursday in honor of Joe Spriggs~Come celebrate the Seaway Festival at the Ogdensburg Elks Lodge. The Band Room Band plays from 5-8pm and Double Axel plays from 8:30-11:30pm.
URL:https://yesfm.com/event/throwback-thursday-in-honor-of-joe-spriggs/
LOCATION:Ogdensburg Elks Lodge
CATEGORIES:Local Events
ATTACH;FMTTYPE=image/jpeg:https://yesfm.com/site/wp-content/uploads/2024/07/concert-4125832_1280.jpg
END:VEVENT
BEGIN:VEVENT
DTSTART;TZID=America/New_York:20240723T180000
DTEND;TZID=America/New_York:20240723T210000
DTSTAMP:20260419T170700
CREATED:20240709T022443Z
LAST-MODIFIED:20240709T022450Z
UID:10000322-1721757600-1721768400@yesfm.com
SUMMARY:CPHC Big Money Bingo
DESCRIPTION:CPHC Big Money Bingo is Tuesday July 23 at the Brockville Speedway! Gates open at 4\, calling at 6 – they’ll have a canteen. Stay in your car and play bingo! Someone will win $2500! Benefits senior programs at CPHC in Brockville! 613-242-3693 x2008
URL:https://yesfm.com/event/cphc-big-money-bingo/
LOCATION:Temperance Lake Rd\, Brockville\, ON K6V 5T4\, Canada
CATEGORIES:Local Events
ATTACH;FMTTYPE=image/jpeg:https://yesfm.com/site/wp-content/uploads/2024/07/lottery-3846567_1280.jpg
END:VEVENT
BEGIN:VEVENT
DTSTART;TZID=America/New_York:20240720T193000
DTEND;TZID=America/New_York:20240720T223000
DTSTAMP:20260419T170700
CREATED:20240711T022614Z
LAST-MODIFIED:20240711T022614Z
UID:10000327-1721503800-1721514600@yesfm.com
SUMMARY:annual fireworks event
DESCRIPTION:The Higley Association will hold its annual fireworks event on Saturday\, July 20 at the Colton Firemen’s Field. Gates will open at 7:30 p.m. The event is free with ice cream and refreshments available for sale and musical entertainment provided until 9 p.m.
URL:https://yesfm.com/event/annual-fireworks-event/
LOCATION:87 Riverside Dr\, Colton\, NY
CATEGORIES:Local Events
ATTACH;FMTTYPE=image/jpeg:https://yesfm.com/site/wp-content/uploads/2024/07/fireworks-1758_640.jpg
END:VEVENT
BEGIN:VEVENT
DTSTART;TZID=America/New_York:20240720T150000
DTEND;TZID=America/New_York:20240720T200000
DTSTAMP:20260419T170700
CREATED:20240702T022546Z
LAST-MODIFIED:20240702T022546Z
UID:10000315-1721487600-1721505600@yesfm.com
SUMMARY:Falls Festival Concert Series
DESCRIPTION:Falls Festival Concert Series continues Saturday July 20 in Rensselaer Falls: 3 pm – 8 pm Cornhole Tournament registration 2pm. Tournament starts at 3pm. Food trucks and Live Music!
URL:https://yesfm.com/event/falls-festival-concert-series/
LOCATION:rensselaer falls\, Pioneer Park\, Rensselaer Falls\, 13680\, United States
ATTACH;FMTTYPE=image/jpeg:https://yesfm.com/site/wp-content/uploads/2024/07/cornhole-3752877_1280-3.jpg
END:VEVENT
BEGIN:VEVENT
DTSTART;TZID=America/New_York:20240720T100000
DTEND;TZID=America/New_York:20240720T160000
DTSTAMP:20260419T170700
CREATED:20240702T022358Z
LAST-MODIFIED:20240702T022358Z
UID:10000314-1721469600-1721491200@yesfm.com
SUMMARY:Seaway Festival Summer Wine and Craft Show
DESCRIPTION:Seaway Festival Summer Wine and Craft Show Saturday July 20th 10-4 at Lockwood Arena in Ogdensburg. Part of the Seaway Festival!
URL:https://yesfm.com/event/seaway-festival-summer-wine-and-craft-show/
LOCATION:141 W River St\, Ogdensburg\, NY 13669
CATEGORIES:Local Events
ATTACH;FMTTYPE=image/jpeg:https://yesfm.com/site/wp-content/uploads/2024/07/knitting-1614283_1280-3.jpg
END:VEVENT
BEGIN:VEVENT
DTSTART;TZID=America/New_York:20240720T090000
DTEND;TZID=America/New_York:20240720T110000
DTSTAMP:20260419T170700
CREATED:20240709T023300Z
LAST-MODIFIED:20240709T023300Z
UID:10000326-1721466000-1721473200@yesfm.com
SUMMARY:monthly food distribution
DESCRIPTION:The Norfolk Raymondville Food Pantry will be holding its monthly food distribution on Saturday\, July 20th from 9-11 a.m. The pantry is a five day pantry meaning that we give the equivalent of 15 meals per person in the household. The pantry is open to families/ individuals living in Norwood\, Norfolk and Raymondville. We follow the financial eligibility guidelines set by the Food Bank of Central New York. If you have questions\, please call 315-212-0520
URL:https://yesfm.com/event/monthly-food-distribution/
LOCATION:9 West Main Street Norfolk NY 13667
CATEGORIES:Local Events
ATTACH;FMTTYPE=image/jpeg:https://yesfm.com/site/wp-content/uploads/2024/07/dumplings-7040097_1280.jpg
END:VEVENT
BEGIN:VEVENT
DTSTART;VALUE=DATE:20240720
DTEND;VALUE=DATE:20240722
DTSTAMP:20260419T170700
CREATED:20240621T002028Z
LAST-MODIFIED:20240621T002037Z
UID:10000294-1721433600-1721606399@yesfm.com
SUMMARY:Fort Fest a Craft and Vendor Fair
DESCRIPTION:Fort Fest a Craft and Vendor Fair will be held in conjunction with Fort LaPresentation Association’s “LeSiege du Fort de La Presentation” — a live re-enactment of land and water battles of the French and Indian War. LeSiege and Fort Fest will be held on Saturday\, July 20th and Sunday\, July 21st. at Fort La Presentation in Ogdensburg.
URL:https://yesfm.com/event/fort-fest-a-craft-and-vendor-fair/
LOCATION:Van Rensselaer Point\, 22 Albany Ave\, Ogdensburg\, NY 13669
CATEGORIES:Local Events
ATTACH;FMTTYPE=image/jpeg:https://yesfm.com/site/wp-content/uploads/2024/06/english-civil-war-1712677_1280.jpg
END:VEVENT
BEGIN:VEVENT
DTSTART;VALUE=DATE:20240720
DTEND;VALUE=DATE:20240721
DTSTAMP:20260419T170700
CREATED:20240711T023045Z
LAST-MODIFIED:20240711T023045Z
UID:10000329-1721433600-1721519999@yesfm.com
SUMMARY:Russell-Fest 2024
DESCRIPTION:Russell-Fest 2024 is Saturday\, July 20 with a variety of events throughout the day on Pestle Street\, including a craft fair\, races and live music.\nTown Hall scavenger hunt\, art contest display/bake sale/book sale at the library\, and craft fair at the firehouse at 10 a.m. KMCS Alumni Celebration will be held at 10:30 a.m. at the Pierrepont Fire Hall. Craft hour at the library gazebo will take place at noon. Bird feeder workshop will be held at 1 p.m. at the library gazebo. Three wheeler races will be held at 2 p.m. at Town Hall. Duck Pluck behind the Courthouse takes place at 3 p.m. Live music by The BackWater Duo on Pestle Street will happen at 5 p.m.
URL:https://yesfm.com/event/russell-fest-2024/
LOCATION:Russell\, NY
CATEGORIES:Local Events
ATTACH;FMTTYPE=image/jpeg:https://yesfm.com/site/wp-content/uploads/2024/07/woman-2539150_1280.jpg
END:VEVENT
BEGIN:VEVENT
DTSTART;VALUE=DATE:20240720
DTEND;VALUE=DATE:20240721
DTSTAMP:20260419T170700
CREATED:20240711T022821Z
LAST-MODIFIED:20240711T022821Z
UID:10000328-1721433600-1721519999@yesfm.com
SUMMARY:Hammond Fire and Rescue Annual Field Day
DESCRIPTION:The Hammond Fire and Rescue Annual Field Day will be held on Saturday\, July 20\, at the fire station on Lake St. Chicken BBQ from 2-3:30. Pre-order take out or eat in chicken dinner by calling 315-783-2396. The Firemen’s Parade follows at 7 p.m.
URL:https://yesfm.com/event/hammond-fire-and-rescue-annual-field-day/
LOCATION:300 Lake St\, Hammond\, NY 13646
CATEGORIES:Local Events
ATTACH;FMTTYPE=image/jpeg:https://yesfm.com/site/wp-content/uploads/2024/07/people-2585733_1280.jpg
END:VEVENT
BEGIN:VEVENT
DTSTART;VALUE=DATE:20240720
DTEND;VALUE=DATE:20240721
DTSTAMP:20260419T170700
CREATED:20240621T002825Z
LAST-MODIFIED:20240621T002825Z
UID:10000296-1721433600-1721519999@yesfm.com
SUMMARY:The Amazing Chase 2024
DESCRIPTION:Welcome to The Amazing Chase 2024 July 20th! 🙌 Get ready for an exciting in-person event happening in Downtown Brockville! Join us for afternoon filled with challenges as you race around the downtown streets to conquer your tasks. 👟 Gather your friends\, co-workers\, and family to form a team of 3-6 people and see if you have what it takes to come out on top!
URL:https://yesfm.com/event/the-amazing-chase-2024/
LOCATION:Downtown Brockville
CATEGORIES:Local Events
ATTACH;FMTTYPE=image/jpeg:https://yesfm.com/site/wp-content/uploads/2024/06/running-4782722_1280.jpg
END:VEVENT
BEGIN:VEVENT
DTSTART;TZID=America/New_York:20240719T200000
DTEND;TZID=America/New_York:20240719T230000
DTSTAMP:20260419T170700
CREATED:20240621T002431Z
LAST-MODIFIED:20240621T002431Z
UID:10000295-1721419200-1721430000@yesfm.com
SUMMARY:Outdoor Movie Night!
DESCRIPTION:Outdoor Movie Night! 🌌🎬 to kick-off of the Seaway Festival! Seaway Valley Prevention Council sponsors the Movie Under the Stars at Ogdensburg’s Library Park Friday July 19\, featuring “Toy Story.” This FREE\, fun family event will include popcorn\, snowcones\, and cotton candy. The movie will begin at 8 p.m. Bring a chair or blanket and enjoy Toy Story\, Under the Stars!
URL:https://yesfm.com/event/outdoor-movie-night/
LOCATION:312 Washington St\, Ogdensburg\, NY 13669
CATEGORIES:Local Events
ATTACH;FMTTYPE=image/jpeg:https://yesfm.com/site/wp-content/uploads/2024/06/ticket-2974645_1280-1.jpg
END:VEVENT
BEGIN:VEVENT
DTSTART;TZID=America/New_York:20240718T110000
DTEND;TZID=America/New_York:20240718T170000
DTSTAMP:20260419T170700
CREATED:20240621T003740Z
LAST-MODIFIED:20240621T003740Z
UID:10000299-1721300400-1721322000@yesfm.com
SUMMARY:Food Truck Thursdays
DESCRIPTION:Weather depending Clifton-Fine Hospital in Star Lake will be hosting Food Truck Thursdays with Nibbles Snackery and PorkBusters BBQ Thursday July 18th 11-5. This is available to all employees and surrounding community members to take advantage of!
URL:https://yesfm.com/event/food-truck-thursdays-2/
LOCATION:1014 Oswegatchie Trail Rd\, Star Lake\, NY 13690
CATEGORIES:Local Events
ATTACH;FMTTYPE=image/jpeg:https://yesfm.com/site/wp-content/uploads/2024/06/food-truck-2690194_1280.jpg
END:VEVENT
BEGIN:VEVENT
DTSTART;TZID=America/New_York:20240717T190000
DTEND;TZID=America/New_York:20240717T220000
DTSTAMP:20260419T170700
CREATED:20240621T003335Z
LAST-MODIFIED:20240621T003912Z
UID:10000297-1721242800-1721253600@yesfm.com
SUMMARY:Kemptville Live Music Festival
DESCRIPTION:Join us on “kick off” night of the Kemptville Live Music Festival Wednesday July 17th at 7pm at 830 Prescott Street. Admission is free with a donation at the gate to the local Salvation Army Food Bank in either cash or food.
URL:https://yesfm.com/event/kemptville-live-music-festival/
LOCATION:830 Prescott Street\, Kemptville\, ON
CATEGORIES:Local Events
ATTACH;FMTTYPE=image/jpeg:https://yesfm.com/site/wp-content/uploads/2024/06/hands-4212584_1280-1.jpg
END:VEVENT
BEGIN:VEVENT
DTSTART;TZID=America/New_York:20240716T160000
DTEND;TZID=America/New_York:20240716T190000
DTSTAMP:20260419T170700
CREATED:20240702T023033Z
LAST-MODIFIED:20240702T023033Z
UID:10000317-1721145600-1721156400@yesfm.com
SUMMARY:Twilight Tuesday Makers Market
DESCRIPTION:Tuesday July 16th Twilight Tuesday Makers Market 4-7pm at the Brockville Railway Tunnel. Over 35 crafters\, creators. Skip the dishes and get yourself a delicious meal while walking and listening to the live music! At Tunnel Plaza! This event is rain or shine.
URL:https://yesfm.com/event/twilight-tuesday-makers-market/
LOCATION:NY
CATEGORIES:Local Events
ATTACH;FMTTYPE=image/jpeg:https://yesfm.com/site/wp-content/uploads/2024/07/knitting-1614283_1280-3.jpg
END:VEVENT
BEGIN:VEVENT
DTSTART;TZID=America/New_York:20240714T190000
DTEND;TZID=America/New_York:20240714T220000
DTSTAMP:20260419T170700
CREATED:20240621T003511Z
LAST-MODIFIED:20240621T003511Z
UID:10000298-1720983600-1720994400@yesfm.com
SUMMARY:Free Outdoor Concert
DESCRIPTION:Free Outdoor Concert at the Kinsmen Ampitheatre on the water in Prescott with The Monarchs. 7pm Sunday July 14th!
URL:https://yesfm.com/event/free-outdoor-concert/
LOCATION:101 Water St W\, Prescott\, ON K0E 1T0\, Canada
CATEGORIES:Local Events
ATTACH;FMTTYPE=image/jpeg:https://yesfm.com/site/wp-content/uploads/2024/06/hands-4212584_1280-1.jpg
END:VEVENT
BEGIN:VEVENT
DTSTART;TZID=America/New_York:20240714T100000
DTEND;TZID=America/New_York:20240714T150000
DTSTAMP:20260419T170700
CREATED:20240603T184529Z
LAST-MODIFIED:20240603T184529Z
UID:10000008-1720951200-1720969200@yesfm.com
SUMMARY:Classic Car Show
DESCRIPTION:Classic Car Show at the Brier Hill Fire Department on Sunday July 14th 10-3.  Hot Dogs\, Hambugers and Refreshments.  Lots of cars to see.  $10 admission for a car\, $20 to be a vendor at the craft fair.  Get more info: 315-323-4096.
URL:https://yesfm.com/event/classic-car-show/
LOCATION:Briar Hill Fire Dept\, New York 37\, Brier Hill\, NY\, United States
CATEGORIES:Local Events
ATTACH;FMTTYPE=image/webp:https://yesfm.com/site/wp-content/uploads/2024/06/ford-fairlane-586930-1280-2.webp
END:VEVENT
BEGIN:VEVENT
DTSTART;TZID=America/New_York:20240713T120000
DTEND;TZID=America/New_York:20240713T160000
DTSTAMP:20260419T170700
CREATED:20240614T021513Z
LAST-MODIFIED:20240614T021513Z
UID:10000284-1720872000-1720886400@yesfm.com
SUMMARY:complimentary BBQ\, Inflatables\, and fun yard games
DESCRIPTION:Join us for a complimentary BBQ\, Inflatables\, and fun yard games to celebrate the recent upgrades at Benson Memory Park in Cardinal on Saturday July 13th from Noon to 4. This event is in memory and honor of Glen Hartle\, who was instrumental in developing the park and helping with many great causes in our community.
URL:https://yesfm.com/event/complimentary-bbq-inflatables-and-fun-yard-games/
LOCATION:3079 John St\, Cardinal\, ON K0E 1E0\, Canada
ATTACH;FMTTYPE=image/jpeg:https://yesfm.com/site/wp-content/uploads/2024/06/rest-836292_1280.jpg
END:VEVENT
BEGIN:VEVENT
DTSTART;TZID=America/New_York:20240713T100000
DTEND;TZID=America/New_York:20240713T150000
DTSTAMP:20260419T170700
CREATED:20240614T021821Z
LAST-MODIFIED:20240614T021821Z
UID:10000285-1720864800-1720882800@yesfm.com
SUMMARY:Day 2 Care Family Fair
DESCRIPTION:Day 2 Care Family Fair in support of Brockville and Area Food Bank Saturday July 13th from 10 to 3 at Hardy Park. A day for the whole family with live music\, face painting\, bouncy castles\, food and more. Bring a lawn chair! You don’t want to miss it.
URL:https://yesfm.com/event/day-2-care-family-fair/
LOCATION:Hardy Park\, Brockville\, ON K6V 6M4\, Canada
ATTACH;FMTTYPE=image/jpeg:https://yesfm.com/site/wp-content/uploads/2024/06/family-6398107_1280.jpg
END:VEVENT
BEGIN:VEVENT
DTSTART;TZID=America/New_York:20240713T090000
DTEND;TZID=America/New_York:20240713T170000
DTSTAMP:20260419T170700
CREATED:20240709T022913Z
LAST-MODIFIED:20240709T022913Z
UID:10000324-1720861200-1720890000@yesfm.com
SUMMARY:6th annual Scottish Festival
DESCRIPTION:Hammond Historical Museum will host its 6th annual Scottish Festival on Saturday\, July 13\, 9 a.m.-5 p.m. The entrance fee is only $10/person\, $5 for ages 6-16 & ages 5 and under are free to attend. New to the festival this year will be Youth Highland Games for ages 10-14\, and additional food vendors.
URL:https://yesfm.com/event/6th-annual-scottish-festival/
LOCATION:1 A\, N Main St\, Hammond\, NY 13646
CATEGORIES:Local Events
ATTACH;FMTTYPE=image/jpeg:https://yesfm.com/site/wp-content/uploads/2024/07/scotland-3658032_1280.jpg
END:VEVENT
BEGIN:VEVENT
DTSTART;TZID=America/New_York:20240713T090000
DTEND;TZID=America/New_York:20240713T120000
DTSTAMP:20260419T170700
CREATED:20240709T023053Z
LAST-MODIFIED:20240709T023053Z
UID:10000325-1720861200-1720872000@yesfm.com
SUMMARY:annual Turtle Trot Walk-Run
DESCRIPTION:The annual Turtle Trot Walk-Run will be July 13 at Whalen Park on Rt. 131 starting at 9 a.m. Same day registration will start at 7:30 a.m. Register in person or at the Town of Louisville web site at https://www.louisvillenewyork.com
URL:https://yesfm.com/event/annual-turtle-trot-walk-run/
LOCATION:280 Whalen Rd\, Massena\, NY 13662
CATEGORIES:Local Events
ATTACH;FMTTYPE=image/jpeg:https://yesfm.com/site/wp-content/uploads/2024/07/running-4782722_1280-1-e1768927323399.jpg
END:VEVENT
BEGIN:VEVENT
DTSTART;TZID=America/New_York:20240713T080000
DTEND;TZID=America/New_York:20240713T170000
DTSTAMP:20260419T170700
CREATED:20240613T132242Z
LAST-MODIFIED:20240613T132242Z
UID:10000275-1720857600-1720890000@yesfm.com
SUMMARY:19th Annual Motorcycle Charity Ride
DESCRIPTION:The 19th Annual Motorcycle Charity Ride will take place July 13\, hosted by The American Legion Riders of Norfolk. Registration will be 9 a.m.-11a.m.\, with kickstands up at 11:00.
URL:https://yesfm.com/event/19th-annual-motorcycle-charity-ride/
LOCATION:norfolk american legion\, 2 E High St\, Norfolk\, 13667\, United States
CATEGORIES:Local Events
ATTACH;FMTTYPE=image/jpeg:https://yesfm.com/site/wp-content/uploads/2024/06/del-1.jpg
END:VEVENT
BEGIN:VEVENT
DTSTART;TZID=America/New_York:20240711T113000
DTEND;TZID=America/New_York:20240711T163000
DTSTAMP:20260419T170700
CREATED:20240626T030801Z
LAST-MODIFIED:20240626T030801Z
UID:10000302-1720697400-1720715400@yesfm.com
SUMMARY:Red Cross Blood Drive
DESCRIPTION:Gouverneur Hospital is sponsoring a Red Cross Blood Drive on Thursday\, July 11 at the Gouverneur Community Center\, Route 58\, Gouverneur. Hours are 11:30am – 4:30pm. \nDonors must be healthy\, at least 16 years of age\, and weigh at least 110 lbs. Please consider a Double Red donation if you are O Neg\, O Pos\, A Neg\, or B Neg. \nDonors can pre-register using RapidPass (www.redcrossblood.org/rapidpass). Pre-registration can only be completed the day of the drive prior to arrival. \nRegistration can be made online at www.redcrossblood.org\, or by contacting 1 (800) RED CROSS. First time donors and walk-ins are welcome. \nFor a list of upcoming blood drives sponsored by St. Lawrence Health\, please visit https://stlawrencehealthsystem.org/about/events.
URL:https://yesfm.com/event/red-cross-blood-drive-2/
LOCATION:4673 NY-58\, Gouverneur\, NY 13642
CATEGORIES:Local Events
ATTACH;FMTTYPE=image/jpeg:https://yesfm.com/site/wp-content/uploads/2024/06/earth-g5edf97dac_1920-1.jpg
END:VEVENT
BEGIN:VEVENT
DTSTART;TZID=America/New_York:20240711T080000
DTEND;TZID=America/New_York:20240711T170000
DTSTAMP:20260419T170700
CREATED:20240711T153819Z
LAST-MODIFIED:20240711T153819Z
UID:10000332-1720684800-1720717200@yesfm.com
SUMMARY:Downtown Brockville Retro Revival July 20th!
DESCRIPTION:Get Ready for Retro Fun at Shop the Street: Retro Revival! \n Date: July 20th\, 2024 Time: 10:00 AM – 4:00 PM Location: King St\, Downtown Brockville\nStep back in time with us at the Brockville BIA Retro Revival event! This month\, we’re bringing the ’50s\, ’60s\, and ’70s to Downtown Brockville.\nWhat’s Happening?\n Shopping: local businesses & vendors on the street with great deals\n Brockville Farmers’ Market: 8am-1pm on Market St E\n Live music: – Uother2– Amanda Keeley Trio featuring Mark Lloyd & Rob Riesberry– I Am Kentucky– James King– Siobhan McGovern– Jarred Sine Music – IssaBel Music– Brockville Lions Steel Band– Nate Hardy Music– The ReTreds Trio– Irina Alexandrova\n FREE activities sponsored by the Downtown Brockville BIA:– Face painting by Gleeful Face Painting– Caricature art by Ottawa Caricatures– Henna tattooing by Aesthetic Henna\n Dance fit and pop line-dance with Tandem Unified Wellness\n Demo classes from Peak Performance Training\n Red Hot & Blue Rockabilly Weekend taking over King St E\n The Amazing Chase hosted by Brockville Young Professionals\n Capture the Moment: Pose for retro-themed photos and create memories that will last a lifetime\n The Amazing Chase hosted by Brockville Young Professionals  Kids’ Zone: Games & activities\n Giveaways & Contests:– Colouring contest hosted by Fun Art Paint Parties– Best Dressed Contest – Stop by our booth in front of Shoppers Drug Mart and let us snap a picture for a chance to win a $50 Downtown Brockville gift card– Receipt Contest – Submit your receipt at our booth for a chance to win one of three $25 Downtown Brockville gift cards\nDon’t miss out on this nostalgic celebration! Save the date and join us for a day of retro fun at the Shop the Street: Retro Revival.
URL:https://yesfm.com/event/downtown-brockville-retro-revival-july-20th/
LOCATION:NY
CATEGORIES:Local Events
ATTACH;FMTTYPE=image/jpeg:https://yesfm.com/site/wp-content/uploads/2024/07/DEL-e1720712247384.jpg
END:VEVENT
BEGIN:VEVENT
DTSTART;VALUE=DATE:20240711
DTEND;VALUE=DATE:20240714
DTSTAMP:20260419T170700
CREATED:20240531T200212Z
LAST-MODIFIED:20240531T200212Z
UID:10000001-1720656000-1720915199@yesfm.com
SUMMARY:Potsdam Summer Festival
DESCRIPTION:Potsdam Summer Festival is back July 11-13 in downtown Potsdam!  Three days of vendors\, live music\, food trucks\, and all Potsdam has to offer.    https://www.potsdamchamber.com/
URL:https://yesfm.com/event/potsdam-summer-festival/
LOCATION:Downtown Potsdam\, Potsdam\, NY\, United States
CATEGORIES:Local Events
ATTACH;FMTTYPE=image/webp:https://yesfm.com/site/wp-content/uploads/2024/05/concert-3084876-1280-e1768927498598.webp
END:VEVENT
BEGIN:VEVENT
DTSTART;TZID=America/New_York:20240710T110000
DTEND;TZID=America/New_York:20240710T160000
DTSTAMP:20260419T170700
CREATED:20240709T022721Z
LAST-MODIFIED:20240709T022721Z
UID:10000323-1720609200-1720627200@yesfm.com
SUMMARY:Blood Drive
DESCRIPTION:Massena Hospital is sponsoring a Blood Drive Wednesday\, July 10 in Massena Hospital’s Community Education Room\, 1 Hospital Drive\, Massena. Walk-ins accepted from 11:00 am – 4:00 pm.\nDonors must be healthy\, at least 16 years of age\, and weigh at least 110 lbs. Advanced registration is not required; however\, donors are asked to provide identification.\nFor more information\, please call CVPH at 518.561.2000 and ask for the Donor Center.\nFor a list of upcoming blood drives sponsored by St. Lawrence Health\, please visit https://stlawrencehealthsystem.org/about/events.
URL:https://yesfm.com/event/blood-drive/
LOCATION:1 Hospital Dr\, Massena\, NY 13662
CATEGORIES:Local Events
ATTACH;FMTTYPE=image/jpeg:https://yesfm.com/site/wp-content/uploads/2024/07/earth-g5edf97dac_1920.jpg
END:VEVENT
BEGIN:VEVENT
DTSTART;TZID=America/New_York:20240707T080000
DTEND;TZID=America/New_York:20240707T110000
DTSTAMP:20260419T170700
CREATED:20240614T015608Z
LAST-MODIFIED:20240614T015608Z
UID:10000282-1720339200-1720350000@yesfm.com
SUMMARY:All You Can Eat Breakfast Fundraiser
DESCRIPTION:Join the Morristown Trap Team – 2024 Nationals Team Members & their Parents for an All You Can Eat Breakfast Fundraiser at the Black Lake Fish & Game Association on Gilmour Road. Sunday\, July 7th – 8am-11am\nAdults $12; Kids 10 and under $5; Kids 3 and under are free\nThe parents are cooking up a delicious spread of Pancakes\, French Toast\, Scrambled Eggs\, Eggs Made to Order\, Sausage\, Bacon\, Homemade Hashbrowns\, Coffee & Juice!\nScarlett\, Korey\, Zack\, Eli\, Carson and Lexy will be serving you buffet style. This is your chance to meet them and wish them well as they head off to Nationals!!\nCome out and support the great group of young adults that will be representing the Morristown Trap Team & Morristown Community at Nationals in Mason\, MI!!\nDrawing of our Lottery Rake Raffle will take place at 11am
URL:https://yesfm.com/event/all-you-can-eat-breakfast-fundraiser/
LOCATION:NY
CATEGORIES:Local Events
ATTACH;FMTTYPE=image/jpeg:https://yesfm.com/site/wp-content/uploads/2024/06/waffles-5192625_1280-1.jpg
END:VEVENT
END:VCALENDAR