BEGIN:VCALENDAR
VERSION:2.0
PRODID:-//YES FM - ECPv6.15.15//NONSGML v1.0//EN
CALSCALE:GREGORIAN
METHOD:PUBLISH
X-WR-CALNAME:YES FM
X-ORIGINAL-URL:https://yesfm.com
X-WR-CALDESC:Events for YES FM
REFRESH-INTERVAL;VALUE=DURATION:PT1H
X-Robots-Tag:noindex
X-PUBLISHED-TTL:PT1H
BEGIN:VTIMEZONE
TZID:America/New_York
BEGIN:DAYLIGHT
TZOFFSETFROM:-0500
TZOFFSETTO:-0400
TZNAME:EDT
DTSTART:20240310T070000
END:DAYLIGHT
BEGIN:STANDARD
TZOFFSETFROM:-0400
TZOFFSETTO:-0500
TZNAME:EST
DTSTART:20241103T060000
END:STANDARD
BEGIN:DAYLIGHT
TZOFFSETFROM:-0500
TZOFFSETTO:-0400
TZNAME:EDT
DTSTART:20250309T070000
END:DAYLIGHT
BEGIN:STANDARD
TZOFFSETFROM:-0400
TZOFFSETTO:-0500
TZNAME:EST
DTSTART:20251102T060000
END:STANDARD
BEGIN:DAYLIGHT
TZOFFSETFROM:-0500
TZOFFSETTO:-0400
TZNAME:EDT
DTSTART:20260308T070000
END:DAYLIGHT
BEGIN:STANDARD
TZOFFSETFROM:-0400
TZOFFSETTO:-0500
TZNAME:EST
DTSTART:20261101T060000
END:STANDARD
END:VTIMEZONE
BEGIN:VEVENT
DTSTART;TZID=America/New_York:20250802T110000
DTEND;TZID=America/New_York:20250802T190000
DTSTAMP:20260420T035602
CREATED:20250729T132722Z
LAST-MODIFIED:20250729T132858Z
UID:10001461-1754132400-1754161200@yesfm.com
SUMMARY:Picnic In The Park
DESCRIPTION:A picnic in the park will be held starting at 11 a.m. at Norfolk Memorial Park. There will be a color romp held by the library\, followed by a kids treasure hunt and a picnic from 11:30 a.m. to 1 p.m. A movie will screen at 8:30 p.m.  More info: visit Norfolk Memorial Park in Facebook and find the event.
URL:https://yesfm.com/event/picnic-in-the-park/
LOCATION:9 West Main Street Norfolk NY 13667
CATEGORIES:Local Events
ATTACH;FMTTYPE=image/jpeg:https://yesfm.com/site/wp-content/uploads/2025/07/del-15.jpg
END:VEVENT
BEGIN:VEVENT
DTSTART;TZID=America/New_York:20250803T080000
DTEND;TZID=America/New_York:20250803T170000
DTSTAMP:20260420T035602
CREATED:20250718T140655Z
LAST-MODIFIED:20250718T140717Z
UID:10001439-1754208000-1754240400@yesfm.com
SUMMARY:8th annual Norwood Lake Association Paddle Poker Run
DESCRIPTION:“Pre Registration for the 8th annual Norwood Lake Association Paddle Poker Run is open until Aug 3rd @ norwoodlakeassociation.org. or by calling 315-262-6106 for the August 9th event at the Norwood Beach. Day of event registration also available. Gates open @730 the Poker Run is 9 til noon. Cash prizes in 3 categories (even non-paddlers can participate). 50/50 and Silent Auction as well. Also the Beach is hosting Family Day from 9-12 w music\, kids activities\, food trucks. “
URL:https://yesfm.com/event/8th-annual-norwood-lake-association-paddle-poker-run/
LOCATION:norwood beach\, lakeshore drive\, Norwood\, United States
CATEGORIES:Local Events
ATTACH;FMTTYPE=image/jpeg:https://yesfm.com/site/wp-content/uploads/2025/07/del-3.jpg
END:VEVENT
BEGIN:VEVENT
DTSTART;TZID=America/New_York:20250804T163000
DTEND;TZID=America/New_York:20250804T183000
DTSTAMP:20260420T035602
CREATED:20250725T132135Z
LAST-MODIFIED:20250725T132146Z
UID:10001457-1754325000-1754332200@yesfm.com
SUMMARY:Italian Night Dinner
DESCRIPTION:Italian Night Dinner by Parishville AmVets Ladies Auxiliary 265 on Rutman Road will be offered on Monday August 4 from 4:30-6:30 p.m. The menu includes spaghetti with meatballs\, lasagna\, tossed salad\, bread and butter\, beverage and dessert for $12 per person. Eat in or take out.
URL:https://yesfm.com/event/34884/
LOCATION:Amvet’s hall\, 25 Rutman Rd Parishville\, NY\, USA
ATTACH;FMTTYPE=image/jpeg:https://yesfm.com/site/wp-content/uploads/2025/07/del-12.jpg
END:VEVENT
BEGIN:VEVENT
DTSTART;TZID=America/New_York:20250806T190000
DTEND;TZID=America/New_York:20250806T203000
DTSTAMP:20260420T035602
CREATED:20250729T141720Z
LAST-MODIFIED:20250729T141720Z
UID:10001458-1754506800-1754512200@yesfm.com
SUMMARY:Messages of Love From Above
DESCRIPTION:Join internationally known medium Carol Cottrell for an unforgettable evening of spirit messages\, healing\, and connection. Messages of Love From Above offers comfort\, hope\, and signs from loved ones passed. Aug 6\, 7–8:30pm at Norwood Municipal Hall.
URL:https://yesfm.com/event/messages-of-love-from-above/
LOCATION:11 South Main Street Norwood\, NY 13668\, 11 South Main Street\, Norwood\, New York\, 13668
CATEGORIES:Local Events
ATTACH;FMTTYPE=image/jpeg:https://yesfm.com/site/wp-content/uploads/2025/07/del-21.jpg
ORGANIZER;CN="Carol Cottrell":MAILTO:alexis@ccottrell.com
END:VEVENT
BEGIN:VEVENT
DTSTART;TZID=America/New_York:20250807T160000
DTEND;TZID=America/New_York:20250807T183000
DTSTAMP:20260420T035602
CREATED:20250721T145817Z
LAST-MODIFIED:20250721T145817Z
UID:10001442-1754582400-1754591400@yesfm.com
SUMMARY:Hamburger/Hotdog/ICE CREAM SOCIAL
DESCRIPTION:ICE CREAM SOCIAL on Thursday\, August 7\, 2025 to benefit the Crary Mills Playground will be held at the Crary Mills Community Center- 35 Post Road. We will be serving Hotdogs/hamburgers/fries/ice cream from 4-6:30pm. We hope you have a chance to walk down to play at the playground after. Follow us on fb
URL:https://yesfm.com/event/hamburger-hotdog-ice-cream-social/
ATTACH;FMTTYPE=image/jpeg:https://yesfm.com/site/wp-content/uploads/2025/07/del-10.jpg
END:VEVENT
BEGIN:VEVENT
DTSTART;VALUE=DATE:20250808
DTEND;VALUE=DATE:20250811
DTSTAMP:20260420T035602
CREATED:20250722T235538Z
LAST-MODIFIED:20250722T235538Z
UID:10001455-1754611200-1754870399@yesfm.com
SUMMARY:Brockivlle Ribfest
DESCRIPTION:Don’t miss Brockivlle Ribfest! It’s Friday to Sunday August 8th to 10th at Hardy Park! Ribs\, Blooming Onions\, Vendors and lots of fun for the whole family! And it all benefits Big Brothers/Big Sisters of Leeds-Grenville! More info at mentoring matters.ca
URL:https://yesfm.com/event/brockivlle-ribfest/
CATEGORIES:Local Events
ATTACH;FMTTYPE=image/jpeg:https://yesfm.com/site/wp-content/uploads/2025/07/freddys-657466_1280.jpg
END:VEVENT
BEGIN:VEVENT
DTSTART;TZID=America/New_York:20250808T090000
DTEND;TZID=America/New_York:20250809T150000
DTSTAMP:20260420T035602
CREATED:20250729T141357Z
LAST-MODIFIED:20250729T141410Z
UID:10001449-1754643600-1754751600@yesfm.com
SUMMARY:Waddington Hepburn Library Book Sale
DESCRIPTION:Waddington Hepburn Library Book Sale 30 Main Street Waddington\, N.Y.\nFriday August 8th and Saturday August 9th from 9 am to 3 pm.\nIn addition to the variety of generous community donations and books weeded from the library collection we are fortunate to have a large collection of popular novels donated by the family of an avid reader who has recently passed away. These books have been read once\, maintained in a home library and are in very good shape.\nHardcover books will be $1.00. Children’s books and all other items will be 50 cents.\nWe are also having a Pampered Chef Fund Raiser during the book sale. Catalogs and order sheets will be available during the sale. In addition\, there is an option to go online to order. Orders will be shipped directly to your home address.
URL:https://yesfm.com/event/waddington-hepburn-library-book-sale/2025-08-08/
LOCATION:Waddington Hepburn Library\, 30 Main Street\, Waddington\, 13694\, United States
CATEGORIES:Local Events
ATTACH;FMTTYPE=image/jpeg:https://yesfm.com/site/wp-content/uploads/2025/07/del-20.jpg
ORGANIZER;CN="Friends of the Waddington Library":MAILTO:wadlib@ncls.org
END:VEVENT
BEGIN:VEVENT
DTSTART;TZID=America/New_York:20250808T113000
DTEND;TZID=America/New_York:20250808T123000
DTSTAMP:20260420T035602
CREATED:20250722T235006Z
LAST-MODIFIED:20250722T235052Z
UID:10001452-1754652600-1754656200@yesfm.com
SUMMARY:Ron the Magician and Friends
DESCRIPTION:Ron the Magician and Friends will visit the Hepburn Library of Madrid Friday\, August 8\, from 11:30 a.m. – 12:30 p.m. Come see some amazing magic tricks and enjoy ice cream sundaes. Admission is free.
URL:https://yesfm.com/event/ron-the-magician-and-friends/
CATEGORIES:Local Events
ATTACH;FMTTYPE=image/jpeg:https://yesfm.com/site/wp-content/uploads/2025/07/card-3644538_1280.jpg
END:VEVENT
BEGIN:VEVENT
DTSTART;TZID=America/New_York:20250808T170000
DTEND;TZID=America/New_York:20250810T223000
DTSTAMP:20260420T035602
CREATED:20250805T151426Z
LAST-MODIFIED:20250805T151724Z
UID:10001475-1754672400-1754865000@yesfm.com
SUMMARY:Merrickville Fair
DESCRIPTION:Come celebrate agriculture and rural living at the Merrickville Fair August 8 – 10! This year\, there will be sheep\, cattle\, horses\, even a petting zoo! Enjoy the Kids zone\, arts & crafts\, Sheep shearing\, blacksmith and sword fighting demonstrations\, horse pulls\, truck pulls\, live music and take your chance on our 50/50 draw. Follow us on facebook and see you at the fair.
URL:https://yesfm.com/event/merrickville-fair-2/
CATEGORIES:Local Events
ATTACH;FMTTYPE=image/jpeg:https://yesfm.com/site/wp-content/uploads/2025/08/del-6.jpg
END:VEVENT
BEGIN:VEVENT
DTSTART;TZID=America/New_York:20250809T070000
DTEND;TZID=America/New_York:20250809T160000
DTSTAMP:20260420T035602
CREATED:20250721T143247Z
LAST-MODIFIED:20250721T143257Z
UID:10001448-1754722800-1754755200@yesfm.com
SUMMARY:Dairyfest
DESCRIPTION:Dairyfest is Saturday August 9th 7am to 4pm at the Winchester Arena. From breakfast to bounce houses\, from painting to classic cars. There’s something for everyone at Dairyfest this year!
URL:https://yesfm.com/event/dairyfest/
LOCATION:Winchester Arena\, 577 Main Street\, Winchester\, ON\, Canada
CATEGORIES:Local Events
ATTACH;FMTTYPE=image/jpeg:https://yesfm.com/site/wp-content/uploads/2025/07/del-9.jpg
END:VEVENT
BEGIN:VEVENT
DTSTART;TZID=America/New_York:20250809T080000
DTEND;TZID=America/New_York:20250809T170000
DTSTAMP:20260420T035602
CREATED:20250729T133232Z
LAST-MODIFIED:20250729T133232Z
UID:10001462-1754726400-1754758800@yesfm.com
SUMMARY:Norfolk Town Wide Garage Sales
DESCRIPTION:Town-wide garage sales will take place Saturday Aug. 9 in Norfolk. Maps will be available at Cafe 56 and the town hall. To get your name on the map\, call or text Maggie at 315-957-9206. If you live outside the town\, you can set up in Norfolk Memorial Park from 8 a.m. to 3 p.m.
URL:https://yesfm.com/event/norfolk-town-wide-garage-sales/
LOCATION:9 West Main Street Norfolk NY 13667
CATEGORIES:Local Events
ATTACH;FMTTYPE=image/jpeg:https://yesfm.com/site/wp-content/uploads/2025/07/del-16.jpg
END:VEVENT
BEGIN:VEVENT
DTSTART;TZID=America/New_York:20250809T100000
DTEND;TZID=America/New_York:20250809T150000
DTSTAMP:20260420T035602
CREATED:20250721T141452Z
LAST-MODIFIED:20250721T141452Z
UID:10001444-1754733600-1754751600@yesfm.com
SUMMARY:2nd Annual Craft Fair & Family Fun Event
DESCRIPTION:Plan on joining us August 9th from 10-3 at Norwood Park for the 2nd Annual Craft Fair & Family Fun Event. Craft Vendors\, Games\, Art & Craft projects\, and Live Music with local musicians.
URL:https://yesfm.com/event/2nd-annual-craft-fair-family-fun-event/
LOCATION:Norwood Village Park\, 28 Maple Street\, Norwood\, United States
CATEGORIES:Local Events
ATTACH;FMTTYPE=image/jpeg:https://yesfm.com/site/wp-content/uploads/2025/07/del-5.jpg
END:VEVENT
BEGIN:VEVENT
DTSTART;TZID=America/New_York:20250809T100000
DTEND;TZID=America/New_York:20250809T170000
DTSTAMP:20260420T035602
CREATED:20250722T133820Z
LAST-MODIFIED:20250722T133820Z
UID:10001450-1754733600-1754758800@yesfm.com
SUMMARY:Hopkinton Field Day
DESCRIPTION:The Hopkinton and Fort Jackson Fire Departments will host their annual Field Day on Saturday August 9. Events begin with a parade at 10 a.m.\, followed by a craft fair\, kids’ games\, and a car show from 11 a.m. to 4 p.m. at the NUMED lot\, State Highway 11B. The car show is free to enter with trophies awarded. The day wraps up with live music and fireworks. All events are free except food.
URL:https://yesfm.com/event/hopkinton-field-day/
LOCATION:NUMED\, 2876 State Highway 11B\, Hopkinton\, United States
CATEGORIES:Local Events
ATTACH;FMTTYPE=image/jpeg:https://yesfm.com/site/wp-content/uploads/2025/07/del-11.jpg
END:VEVENT
BEGIN:VEVENT
DTSTART;TZID=America/New_York:20250809T110000
DTEND;TZID=America/New_York:20250809T143000
DTSTAMP:20260420T035602
CREATED:20250805T140836Z
LAST-MODIFIED:20250805T140836Z
UID:10001469-1754737200-1754749800@yesfm.com
SUMMARY:Pierrepont Volunteer Fire Department Demolition Derby
DESCRIPTION:Pierrepont Fire Department will be hosting a demolition derby on August 9th at 11am for the first time in about 15 years. If you were to young to derby there before they closed now is your time. The demolition derby will be at the Pierrepont Volunteer FD.  We will be serving burgers\, hotdogs\, sausage\, fries\, drinks\, popcorn\, snow cones\, cotton candy\, and fried bread dough. Come on out and enjoy the summer day!
URL:https://yesfm.com/event/pierrepont-volunteer-fire-department-demolition-derby/
LOCATION:pierrepont VFD\, 62 Old County Road\, Pierrepont\, United States
CATEGORIES:Local Events
ATTACH;FMTTYPE=image/jpeg:https://yesfm.com/site/wp-content/uploads/2025/08/del-1.jpg
END:VEVENT
BEGIN:VEVENT
DTSTART;TZID=America/New_York:20250809T140000
DTEND;TZID=America/New_York:20250809T170000
DTSTAMP:20260420T035602
CREATED:20250722T235245Z
LAST-MODIFIED:20250722T235245Z
UID:10001453-1754748000-1754758800@yesfm.com
SUMMARY:Parishville Block Dance
DESCRIPTION:Parishville Block Dance will be held Aug. 9 starting at 2 p.m. Featuring Live Music: Lacy Stoddard 2-5 p.m.\, and Station 45 7-10 p.m. at Parishville AmVets Post 265\, 5 Catherine St.
URL:https://yesfm.com/event/parishville-block-dance/
CATEGORIES:Local Events
ATTACH;FMTTYPE=image/jpeg:https://yesfm.com/site/wp-content/uploads/2025/07/dj-937260_1280.jpg
END:VEVENT
BEGIN:VEVENT
DTSTART;TZID=America/New_York:20250810T160000
DTEND;TZID=America/New_York:20250810T190000
DTSTAMP:20260420T035602
CREATED:20250722T235408Z
LAST-MODIFIED:20250722T235408Z
UID:10001454-1754841600-1754852400@yesfm.com
SUMMARY:annual Chicken BBQ
DESCRIPTION:The Brier Hill Volunteer Fire Department will host its annual Chicken BBQ at 4 p.m. Sunday Aug 10 State Highway 37. Dinners include their signature BBQ chicken half\, salt potatoes\, baked beans\, coleslaw\, and dessert for $15; chicken-only meals are $10. Eat-in\, drive-thru\, and delivery (within 5 miles) are available. Reservations aren’t required but are strongly encouraged as meals often sell out. Call Jill at 315-528-3948 to reserve.
URL:https://yesfm.com/event/annual-chicken-bbq/
CATEGORIES:Local Events
ATTACH;FMTTYPE=image/jpeg:https://yesfm.com/site/wp-content/uploads/2025/06/chicken-935778_1280-1-e1774882298167.jpg
END:VEVENT
BEGIN:VEVENT
DTSTART;TZID=America/New_York:20250814T103000
DTEND;TZID=America/New_York:20250817T210000
DTSTAMP:20260420T035602
CREATED:20250805T140415Z
LAST-MODIFIED:20250805T140415Z
UID:10001468-1755167400-1755464400@yesfm.com
SUMMARY:South Mountain Fair
DESCRIPTION:The South Mountain Fair is returning in 2025 for another exciting year of family fun\, entertainment\, and community fun August 14th – 17th in South Mountain\, Ontario! From thrilling midway rides and delicious fair food to live music\, agricultural showcases\, and exciting competitions\, there’s something for everyone to enjoy!
URL:https://yesfm.com/event/south-mountain-fair/
LOCATION:South Mountain Fairgrounds\, 2967 Lough Road\, Mountain\, ON\, Canada
CATEGORIES:Local Events
ATTACH;FMTTYPE=image/jpeg:https://yesfm.com/site/wp-content/uploads/2025/08/del.jpg
END:VEVENT
BEGIN:VEVENT
DTSTART;TZID=America/New_York:20250814T170000
DTEND;TZID=America/New_York:20250814T190000
DTSTAMP:20260420T035602
CREATED:20250729T135930Z
LAST-MODIFIED:20250729T135930Z
UID:10001463-1755190800-1755198000@yesfm.com
SUMMARY:Smorgasbord Dinner
DESCRIPTION:There will be a Smorgasbord Dinner that the Russell United Methodist Church\, Pestle Street\, at 5 p.m. Thursday August 14th; eat in or take out; a free will offering will be taken to benefit the Russell and Hermon United Methodist Churches.
URL:https://yesfm.com/event/smorgasbord-dinner/
LOCATION:Russell United Methodist Church\, Pestle Street\, Russell\, United States
CATEGORIES:Local Events
ATTACH;FMTTYPE=image/jpeg:https://yesfm.com/site/wp-content/uploads/2025/07/del-17.jpg
END:VEVENT
BEGIN:VEVENT
DTSTART;TZID=America/New_York:20250815T103000
DTEND;TZID=America/New_York:20250815T163000
DTSTAMP:20260420T035602
CREATED:20250729T140939Z
LAST-MODIFIED:20250729T140939Z
UID:10001465-1755253800-1755275400@yesfm.com
SUMMARY:Red Cross Blood Drive
DESCRIPTION:Canton-Potsdam Hospital is sponsoring a Red Cross Blood Drive on Friday\, August 15\, 2025\, at the New Hope Community Church\, 33 Grant Street\, Potsdam. Hours are 10:30 am to 4:00 pm.\nDonors must be healthy\, at least 16 years of age\, and weigh at least 110 lbs. Please consider a Double Red donation if you are O Neg\, O Pos\, A Neg\, or B Neg.\nDonors can pre-register using RapidPass (www.redcrossblood.org/rapidpass). Pre-registration can only be completed the day of the drive prior to arrival. \nRegistration can be made online at www.redcrossblood.org\, or by contacting 1 (800) RED CROSS. First time donors and walk-ins are welcome.
URL:https://yesfm.com/event/red-cross-blood-drive-16/
LOCATION:New Hope Church\, 33 Grant Street\, Potsdam\, United States
CATEGORIES:Local Events
ATTACH;FMTTYPE=image/jpeg:https://yesfm.com/site/wp-content/uploads/2025/07/del-19.jpg
END:VEVENT
BEGIN:VEVENT
DTSTART;TZID=America/New_York:20250815T120000
DTEND;TZID=America/New_York:20250815T160000
DTSTAMP:20260420T035602
CREATED:20250721T142751Z
LAST-MODIFIED:20250721T142751Z
UID:10001447-1755259200-1755273600@yesfm.com
SUMMARY:2025 First Responder Expo
DESCRIPTION:Come join us for the 2025 First Responder Expo at SUNY Canton Friday August 15th 12-4pm! \nThis free\, family friendly\, community event is a chance to check out the work and equipment used by first responders across the North Country. It’s a great way for individuals and families to connect with public safety professionals\, get hands-on with equipment and gear\, and learn more about how the first responders keep our communities safe. \nWith nearly 40 Federal\, State\, Local\, and Not-for-profit agencies attending\, you’ll see everything from patrol vehicles and fire trucks to drones\, K9 units\, all-terrain vehicles\, and mobile command centers\, and even a Medical Helicopter Landing (mission and weather dependent). You can explore the vehicles up close\, meet with responders\, and find out how each team plays a role in emergencies and disaster response. \nFood trucks will be on-site\, and many agencies will have info tables for anyone interested in public safety careers or volunteer opportunities. \nWhether you’re thinking about a future in the field\, bringing the family for a fun afternoon\, or just curious to see what goes into the work behind the scenes\, there’s something for everyone.\nParking will be in Lot 7 of the SUNY Canton Campus and agencies will be scattered throughout lots 5\, 6\, and 8. You can view the camps map here: https://www.canton.edu/map/interactive/
URL:https://yesfm.com/event/2025-first-responder-expo/
LOCATION:SUNY Canton Roos House\, 34 Cornell Drive\, Canton\, United States
CATEGORIES:Local Events
ATTACH;FMTTYPE=image/jpeg:https://yesfm.com/site/wp-content/uploads/2025/07/del-8.jpg
END:VEVENT
BEGIN:VEVENT
DTSTART;TZID=America/New_York:20250815T140000
DTEND;TZID=America/New_York:20250816T073000
DTSTAMP:20260420T035602
CREATED:20250721T140526Z
LAST-MODIFIED:20250721T140653Z
UID:10001443-1755266400-1755329400@yesfm.com
SUMMARY:The Amazing Race Around Ogdensburg
DESCRIPTION:The Amazing Race Around Ogdensburg is scheduled for August 16th from 9 until 1. You don’t want to miss this! This is guaranteed fun for families\, friends\, or co-workers. The Amazing Race around Ogdensburg is NOT a foot race. You can use a vehicle to get to the various places in Ogdensburg. You will be required to complete mental and physical challenges with your team during the race. No need to worry\, none are too difficult. Winning teams will receive cash and prizes totaling more than $1000 and bragging rights. Spread the word and mark your calendars today. An Amazing time is guaranteed! Early registration is now open.  \nUPDATE: We have decided to add a festival to the race! The festival will start at 2pm on August 15th. We will have a huge water slide\, bounce houses\, a dunking booth\, vendors\, a food vendor\, and entertainment on Friday. continue to follow to learn more.  \n  \n 
URL:https://yesfm.com/event/34781/
LOCATION:First Presbyterian Church Ogdensburg\, 423 Ford Street\, Ogdensburg\, United States
CATEGORIES:Local Events
ATTACH;FMTTYPE=image/jpeg:https://yesfm.com/site/wp-content/uploads/2025/07/del-4.jpg
END:VEVENT
BEGIN:VEVENT
DTSTART;TZID=America/New_York:20250815T160000
DTEND;TZID=America/New_York:20250815T190000
DTSTAMP:20260420T035602
CREATED:20250807T144755Z
LAST-MODIFIED:20250807T144755Z
UID:10001477-1755273600-1755284400@yesfm.com
SUMMARY:Ice Cream Social
DESCRIPTION:The First Congregational UCC Church of Lisbon will host its annual ice cream social Friday\, Aug. 15\, 4-7 p.m. at the “White Church” at the corner of the Five Mile Line Road and County Route 28. Hot dogs and chips\, ice cream cones\, hot fudge\, brownie\, caramel\, and strawberry sundaes\, and the ever-famous banana splits will be available. This year the Back Door Quilters will have a quilt show in the church. There will be antique and new quilts of all sizes and designs.
URL:https://yesfm.com/event/ice-cream-social/
LOCATION:First Congregational Church of Lisbon\, 9226 Five Mile Line Road\, Lisbon\, United States
ATTACH;FMTTYPE=image/png:https://yesfm.com/site/wp-content/uploads/2025/08/del-1.png
END:VEVENT
BEGIN:VEVENT
DTSTART;TZID=America/New_York:20250816T110000
DTEND;TZID=America/New_York:20250816T130000
DTSTAMP:20260420T035602
CREATED:20250806T141348Z
LAST-MODIFIED:20250806T141348Z
UID:10001476-1755342000-1755349200@yesfm.com
SUMMARY:Live Hive Program with B.M. Dooney Farms
DESCRIPTION:On Saturday\, August 16 from 11:00 AM to 1:00 PM\, the North Country Children’s Museum will host the Live Hive Program with B.M. Dooney Farms. The program is led by local beekeepers Arden Haynes and Marnie Erin\, owners of B.M. Dooney Farms. \nChildren will have the chance to observe a live honeybee colony through a secure viewing window and learn about how bees work and live. Participants will also be able to sample raw local honey and take part in a beehive painting activity using non-toxic\, washable paints. \nPainted beehives will become part of a Community Beehive Art Project\, which includes decorated hives from across St. Lawrence County. Finished beehives will be placed at B.M. Dooney Farms’ apiaries in Colton\, Potsdam\, and Canton. \nThis program is included with museum admission and membership. The event is open to the public and pre registration is not required.
URL:https://yesfm.com/event/live-hive-program-with-b-m-dooney-farms/
LOCATION:10 Raymond St\, Potsdam\, NY 13676
CATEGORIES:Local Events
ATTACH;FMTTYPE=image/png:https://yesfm.com/site/wp-content/uploads/2025/08/del.png
END:VEVENT
BEGIN:VEVENT
DTSTART;TZID=America/New_York:20250816T110000
DTEND;TZID=America/New_York:20250816T140000
DTSTAMP:20260420T035602
CREATED:20250811T144413Z
LAST-MODIFIED:20250811T144413Z
UID:10001478-1755342000-1755352800@yesfm.com
SUMMARY:Lisbon FD Chicken BBQ
DESCRIPTION:Lisbon Fire Department annual Homecoming Chicken BBQ at the fire station Saturday at noon. Price: $15 for a full meal. $10 for a kids meal. $8 for a half of chicken only.  Dinner includes half a chicken\, mac salad\, beans\, dinner roll & dessert! Eat in or take out. No call in orders. We hope to see you all there and thank you for your support!
URL:https://yesfm.com/event/lisbon-fd-chicken-bbq/
LOCATION:Lisbon Fire Department\, 7002 County Route 10\, Lisbon\, United States
CATEGORIES:Local Events
ATTACH;FMTTYPE=image/jpeg:https://yesfm.com/site/wp-content/uploads/2025/06/chicken-935778_1280-1-e1774882298167.jpg
END:VEVENT
BEGIN:VEVENT
DTSTART;TZID=America/New_York:20250817T100000
DTEND;TZID=America/New_York:20250817T160000
DTSTAMP:20260420T035602
CREATED:20250729T140206Z
LAST-MODIFIED:20250729T140224Z
UID:10001464-1755424800-1755446400@yesfm.com
SUMMARY:Parishville AMVETS Car/Truck Show
DESCRIPTION:Amvets Hall\, 25 Rutman Rd.; 10 a.m. – 4 p.m. Sunday August 17th; show car entry fee $5; craft show\, prizes and trophies\, 50/50 drawing\, concessions and snacks; all show cars welcome; info\, call AMVETS Post 265 at 315- 268-0851.
URL:https://yesfm.com/event/parishville-amvets-car-truck-show/
LOCATION:Amvet’s hall\, 25 Rutman Rd Parishville\, NY\, USA
ATTACH;FMTTYPE=image/jpeg:https://yesfm.com/site/wp-content/uploads/2025/07/del-18.jpg
END:VEVENT
BEGIN:VEVENT
DTSTART;TZID=America/New_York:20250817T160000
DTEND;TZID=America/New_York:20250817T190000
DTSTAMP:20260420T035602
CREATED:20250701T013149Z
LAST-MODIFIED:20250701T013149Z
UID:10001409-1755446400-1755457200@yesfm.com
SUMMARY:Baked Ziti Dinner
DESCRIPTION:Baked Ziti Dinner – Pre-Orders Now Open! Rensselaer Falls Volunteer Fire Department Auxiliary is bringing you a fresh\, locally sourced\, and delicious dinner event you won’t want to miss! Dinner on August 17\, 2025\, from 4 PM to 7 PM at the Rensselaer Falls Fire Department. Pre-order your dinner now! https://docs.google.com/forms/d/e/1FAIpQLSesBbMpE6XiusZX_QXTRztoY_kvp0dRv0htYHuLVNFfAG5F3A/viewform\nor call/text Nick at (315) 854-6621 to secure your meal.
URL:https://yesfm.com/event/baked-ziti-dinner/
CATEGORIES:Local Events
ATTACH;FMTTYPE=image/jpeg:https://yesfm.com/site/wp-content/uploads/2025/06/pasta-8967124_1280.jpg
END:VEVENT
BEGIN:VEVENT
DTSTART;TZID=America/New_York:20250820T173000
DTEND;TZID=America/New_York:20250820T190000
DTSTAMP:20260420T035602
CREATED:20250805T144805Z
LAST-MODIFIED:20250805T151052Z
UID:10001473-1755711000-1755716400@yesfm.com
SUMMARY:Potsdam Back To School Fair
DESCRIPTION:Brought to you by the:\nPotsdam Snack Pack Program\n\n\n\n\n\n\n\n\nat 29 Leroy St\, Potsdam on Wednesday August 20th\, 5-7pm\n\n\n\n\nThere will be school supplies for ALL students in grades 1-12 in Potsdam Central School District (while supplies last)\n(Pre-K and K supplies are provided by the school)
URL:https://yesfm.com/event/potsdam-back-to-school-fair/
LOCATION:Potsdam Snack Pack Program\, 29 Leroy Street\, Potsdam\, United States
CATEGORIES:Local Events
ATTACH;FMTTYPE=image/gif:https://yesfm.com/site/wp-content/uploads/2025/08/del.gif
END:VEVENT
BEGIN:VEVENT
DTSTART;TZID=America/New_York:20250822T100000
DTEND;TZID=America/New_York:20250822T140000
DTSTAMP:20260420T035602
CREATED:20250805T143730Z
LAST-MODIFIED:20250805T151009Z
UID:10001471-1755856800-1755871200@yesfm.com
SUMMARY:Touch A Truck in Brockville
DESCRIPTION:The Children Services Department of the United Counties of Leeds and Grenville is pleased to announce- Touch-A-Truck 2025 Friday\, August 22nd\, 10:00am-2:00pm at the Brockville Memorial Centre. Please note this is an ALL FREE/No Sales Community EVENT.
URL:https://yesfm.com/event/touch-a-truck-in-brockville/
LOCATION:Brockville Memorial Center
CATEGORIES:Local Events
ATTACH;FMTTYPE=image/jpeg:https://yesfm.com/site/wp-content/uploads/2025/08/del-3.jpg
END:VEVENT
BEGIN:VEVENT
DTSTART;TZID=America/New_York:20250823T100000
DTEND;TZID=America/New_York:20250823T160000
DTSTAMP:20260420T035602
CREATED:20250818T154351Z
LAST-MODIFIED:20250818T154709Z
UID:10001489-1755943200-1755964800@yesfm.com
SUMMARY:Mallorytown Village Fair
DESCRIPTION:Enjoy a step back in time at the 14th annual MALLORYTOWN VILLAGE FAIR Saturday\, August 23\, 2025\, 10:00 am – 4:00 pm at the Mallory Coach House and the Community Centre where there is fun for the whole family – free admission and activities.
URL:https://yesfm.com/event/mallorytown-village-fair/
LOCATION:Mallorytown Community Centre\, 76 County Road #5\, Mallorytown\, Ontario\, Canada
CATEGORIES:Local Events
ATTACH;FMTTYPE=image/jpeg:https://yesfm.com/site/wp-content/uploads/2025/08/del-11.jpg
END:VEVENT
BEGIN:VEVENT
DTSTART;TZID=America/New_York:20250823T110000
DTEND;TZID=America/New_York:20250823T130000
DTSTAMP:20260420T035602
CREATED:20250805T144244Z
LAST-MODIFIED:20250805T144244Z
UID:10001472-1755946800-1755954000@yesfm.com
SUMMARY:Potsdam FD Chicken BBQ
DESCRIPTION:Chicken BBQ to benefit the Potsdam Fire Department. Saturday August 23rd from 11 am till sold out.   Take out or delivery in their fire protection area.  \n  \n 
URL:https://yesfm.com/event/potsdam-fd-chicken-bbq/
LOCATION:Potsdam Fire Department\, 42 Main Street\, Potsdam\, United States
CATEGORIES:Local Events
ATTACH;FMTTYPE=image/jpeg:https://yesfm.com/site/wp-content/uploads/2025/08/del-4.jpg
END:VEVENT
END:VCALENDAR