BEGIN:VCALENDAR
VERSION:2.0
PRODID:-//YES FM - ECPv6.15.15//NONSGML v1.0//EN
CALSCALE:GREGORIAN
METHOD:PUBLISH
X-ORIGINAL-URL:https://yesfm.com
X-WR-CALDESC:Events for YES FM
REFRESH-INTERVAL;VALUE=DURATION:PT1H
X-Robots-Tag:noindex
X-PUBLISHED-TTL:PT1H
BEGIN:VTIMEZONE
TZID:America/New_York
BEGIN:DAYLIGHT
TZOFFSETFROM:-0500
TZOFFSETTO:-0400
TZNAME:EDT
DTSTART:20240310T070000
END:DAYLIGHT
BEGIN:STANDARD
TZOFFSETFROM:-0400
TZOFFSETTO:-0500
TZNAME:EST
DTSTART:20241103T060000
END:STANDARD
BEGIN:DAYLIGHT
TZOFFSETFROM:-0500
TZOFFSETTO:-0400
TZNAME:EDT
DTSTART:20250309T070000
END:DAYLIGHT
BEGIN:STANDARD
TZOFFSETFROM:-0400
TZOFFSETTO:-0500
TZNAME:EST
DTSTART:20251102T060000
END:STANDARD
BEGIN:DAYLIGHT
TZOFFSETFROM:-0500
TZOFFSETTO:-0400
TZNAME:EDT
DTSTART:20260308T070000
END:DAYLIGHT
BEGIN:STANDARD
TZOFFSETFROM:-0400
TZOFFSETTO:-0500
TZNAME:EST
DTSTART:20261101T060000
END:STANDARD
END:VTIMEZONE
BEGIN:VEVENT
DTSTART;TZID=America/New_York:20250817T100000
DTEND;TZID=America/New_York:20250817T160000
DTSTAMP:20260422T065638
CREATED:20250729T140206Z
LAST-MODIFIED:20250729T140224Z
UID:10001464-1755424800-1755446400@yesfm.com
SUMMARY:Parishville AMVETS Car/Truck Show
DESCRIPTION:Amvets Hall\, 25 Rutman Rd.; 10 a.m. – 4 p.m. Sunday August 17th; show car entry fee $5; craft show\, prizes and trophies\, 50/50 drawing\, concessions and snacks; all show cars welcome; info\, call AMVETS Post 265 at 315- 268-0851.
URL:https://yesfm.com/event/parishville-amvets-car-truck-show/
LOCATION:Amvet’s hall\, 25 Rutman Rd Parishville\, NY\, USA
ATTACH;FMTTYPE=image/jpeg:https://yesfm.com/site/wp-content/uploads/2025/07/del-18.jpg
END:VEVENT
BEGIN:VEVENT
DTSTART;TZID=America/New_York:20250817T160000
DTEND;TZID=America/New_York:20250817T190000
DTSTAMP:20260422T065638
CREATED:20250701T013149Z
LAST-MODIFIED:20250701T013149Z
UID:10001409-1755446400-1755457200@yesfm.com
SUMMARY:Baked Ziti Dinner
DESCRIPTION:Baked Ziti Dinner – Pre-Orders Now Open! Rensselaer Falls Volunteer Fire Department Auxiliary is bringing you a fresh\, locally sourced\, and delicious dinner event you won’t want to miss! Dinner on August 17\, 2025\, from 4 PM to 7 PM at the Rensselaer Falls Fire Department. Pre-order your dinner now! https://docs.google.com/forms/d/e/1FAIpQLSesBbMpE6XiusZX_QXTRztoY_kvp0dRv0htYHuLVNFfAG5F3A/viewform\nor call/text Nick at (315) 854-6621 to secure your meal.
URL:https://yesfm.com/event/baked-ziti-dinner/
CATEGORIES:Local Events
ATTACH;FMTTYPE=image/jpeg:https://yesfm.com/site/wp-content/uploads/2025/06/pasta-8967124_1280.jpg
END:VEVENT
BEGIN:VEVENT
DTSTART;TZID=America/New_York:20250820T173000
DTEND;TZID=America/New_York:20250820T190000
DTSTAMP:20260422T065638
CREATED:20250805T144805Z
LAST-MODIFIED:20250805T151052Z
UID:10001473-1755711000-1755716400@yesfm.com
SUMMARY:Potsdam Back To School Fair
DESCRIPTION:Brought to you by the:\nPotsdam Snack Pack Program\n\n\n\n\n\n\n\n\nat 29 Leroy St\, Potsdam on Wednesday August 20th\, 5-7pm\n\n\n\n\nThere will be school supplies for ALL students in grades 1-12 in Potsdam Central School District (while supplies last)\n(Pre-K and K supplies are provided by the school)
URL:https://yesfm.com/event/potsdam-back-to-school-fair/
LOCATION:Potsdam Snack Pack Program\, 29 Leroy Street\, Potsdam\, United States
CATEGORIES:Local Events
ATTACH;FMTTYPE=image/gif:https://yesfm.com/site/wp-content/uploads/2025/08/del.gif
END:VEVENT
BEGIN:VEVENT
DTSTART;TZID=America/New_York:20250822T100000
DTEND;TZID=America/New_York:20250822T140000
DTSTAMP:20260422T065638
CREATED:20250805T143730Z
LAST-MODIFIED:20250805T151009Z
UID:10001471-1755856800-1755871200@yesfm.com
SUMMARY:Touch A Truck in Brockville
DESCRIPTION:The Children Services Department of the United Counties of Leeds and Grenville is pleased to announce- Touch-A-Truck 2025 Friday\, August 22nd\, 10:00am-2:00pm at the Brockville Memorial Centre. Please note this is an ALL FREE/No Sales Community EVENT.
URL:https://yesfm.com/event/touch-a-truck-in-brockville/
LOCATION:Brockville Memorial Center
CATEGORIES:Local Events
ATTACH;FMTTYPE=image/jpeg:https://yesfm.com/site/wp-content/uploads/2025/08/del-3.jpg
END:VEVENT
BEGIN:VEVENT
DTSTART;TZID=America/New_York:20250823T100000
DTEND;TZID=America/New_York:20250823T160000
DTSTAMP:20260422T065638
CREATED:20250818T154351Z
LAST-MODIFIED:20250818T154709Z
UID:10001489-1755943200-1755964800@yesfm.com
SUMMARY:Mallorytown Village Fair
DESCRIPTION:Enjoy a step back in time at the 14th annual MALLORYTOWN VILLAGE FAIR Saturday\, August 23\, 2025\, 10:00 am – 4:00 pm at the Mallory Coach House and the Community Centre where there is fun for the whole family – free admission and activities.
URL:https://yesfm.com/event/mallorytown-village-fair/
LOCATION:Mallorytown Community Centre\, 76 County Road #5\, Mallorytown\, Ontario\, Canada
CATEGORIES:Local Events
ATTACH;FMTTYPE=image/jpeg:https://yesfm.com/site/wp-content/uploads/2025/08/del-11.jpg
END:VEVENT
BEGIN:VEVENT
DTSTART;TZID=America/New_York:20250823T110000
DTEND;TZID=America/New_York:20250823T130000
DTSTAMP:20260422T065638
CREATED:20250805T144244Z
LAST-MODIFIED:20250805T144244Z
UID:10001472-1755946800-1755954000@yesfm.com
SUMMARY:Potsdam FD Chicken BBQ
DESCRIPTION:Chicken BBQ to benefit the Potsdam Fire Department. Saturday August 23rd from 11 am till sold out.   Take out or delivery in their fire protection area.  \n  \n 
URL:https://yesfm.com/event/potsdam-fd-chicken-bbq/
LOCATION:Potsdam Fire Department\, 42 Main Street\, Potsdam\, United States
CATEGORIES:Local Events
ATTACH;FMTTYPE=image/jpeg:https://yesfm.com/site/wp-content/uploads/2025/08/del-4.jpg
END:VEVENT
BEGIN:VEVENT
DTSTART;TZID=America/New_York:20250823T120000
DTEND;TZID=America/New_York:20250823T160000
DTSTAMP:20260422T065638
CREATED:20250805T141342Z
LAST-MODIFIED:20250805T141342Z
UID:10001470-1755950400-1755964800@yesfm.com
SUMMARY:Family Fun Day
DESCRIPTION:Come join the Friends of the Ogdensburg Public Library and the Frederic Remington Art Museum for end of summer fun on Saturday August 23rd from Noon to 4 in Library Park! From the Library side we will offer a kids’ book sale and reading area\, a Friends and Library information and first aid station\, water and ice pops\, washable tattoos\nThe games that will be available are: \nGiant Jenga\nCorn Hole type games (beanbag toss)\nRing toss\nJarts\nLawn bowling\nWasher Toss\nWater balloons\nSidewalk chalk\nBubble making\nStilt walkers
URL:https://yesfm.com/event/family-fun-day-2/
LOCATION:312 Washington St\, Ogdensburg\, NY 13669
CATEGORIES:Local Events
ATTACH;FMTTYPE=image/jpeg:https://yesfm.com/site/wp-content/uploads/2025/08/del-2.jpg
END:VEVENT
BEGIN:VEVENT
DTSTART;TZID=America/New_York:20250826T163000
DTEND;TZID=America/New_York:20250826T193000
DTSTAMP:20260422T065638
CREATED:20250822T020013Z
LAST-MODIFIED:20250822T020013Z
UID:10001496-1756225800-1756236600@yesfm.com
SUMMARY:chicken and biscuit dinner
DESCRIPTION:Edwards Methodist Church\, 185 Main St.; chicken and biscuit dinner Tuesday at 4:30 p.m. The menu includes chicken and biscuits\, tossed salad\, pickles\, olives\, iced tea\, and desserts. A free-will offering will be accepted\, with proceeds benefiting the church’s Mission Fund.
URL:https://yesfm.com/event/chicken-and-biscuit-dinner/
CATEGORIES:Local Events
ATTACH;FMTTYPE=image/jpeg:https://yesfm.com/site/wp-content/uploads/2025/08/republic-of-korea-4506696_1280-1.jpg
END:VEVENT
BEGIN:VEVENT
DTSTART;TZID=America/New_York:20250828T170000
DTEND;TZID=America/New_York:20250828T183000
DTSTAMP:20260422T065638
CREATED:20250818T154004Z
LAST-MODIFIED:20250818T154004Z
UID:10001488-1756400400-1756405800@yesfm.com
SUMMARY:Free will community supper
DESCRIPTION:Free will community supper; Trinity Church\, 8 Maple St. Potsdam; Thursday August 28th 5-6:30 p.m.; meal includes baked ziti\, garden veggie salad delight\, Italian bread\, and pound cake with fruit drizzle for dessert
URL:https://yesfm.com/event/free-will-community-supper/
LOCATION:8 Maple St\, Potsdam\, NY 13676
CATEGORIES:Local Events
ATTACH;FMTTYPE=image/jpeg:https://yesfm.com/site/wp-content/uploads/2025/08/del-10.jpg
END:VEVENT
BEGIN:VEVENT
DTSTART;TZID=America/New_York:20250829T130000
DTEND;TZID=America/New_York:20250829T170000
DTSTAMP:20260422T065638
CREATED:20250820T144022Z
LAST-MODIFIED:20250820T144152Z
UID:10001494-1756472400-1756486800@yesfm.com
SUMMARY:VFW Ogdensburg Chicken BBQ
DESCRIPTION:Friday August 29th 1pm til gone\nAt Ogdensburg VFW\, 1112 Champlain Street.\nAll welcome!\n$15Beef\, Pork\, or TurkeySalt PotatoesMacaroni SaladRoll
URL:https://yesfm.com/event/vfw-ogdensburg-chicken-bbq/
LOCATION:VFW Ogdensburg\, 1112 Champlain Street\, OGDENSBURG\, NY\, 13669\, United States
CATEGORIES:Local Events
END:VEVENT
BEGIN:VEVENT
DTSTART;TZID=America/New_York:20250829T180000
DTEND;TZID=America/New_York:20250829T210000
DTSTAMP:20260422T065638
CREATED:20250820T135513Z
LAST-MODIFIED:20250820T135652Z
UID:10001490-1756490400-1756501200@yesfm.com
SUMMARY:Fullbone concert in Ogdensburg
DESCRIPTION:Live music by Fullbone will be offered Friday\, August 29\, from 6:00-9:00 p.m. outside of the Dobisky Center in Morissssette Park. The concert is free\, sponsored by the City of Ogdensburg. \nBring a chair. Picnic tables and concessions will also be available. \nAt the same location and during the same time\, The Class of 2026 Project Graduation will host the “Rally at the River” Pickleball Tournament\, starting at 4 p.m. on the Morissette Park courts. Proceeds from the tournament will benefit Project Graduation\, helping to provide a safe and memorable celebration for the graduating class.
URL:https://yesfm.com/event/35301/
LOCATION:100 Riverside Ave\, Ogdensburg\, NY 13669
CATEGORIES:Local Events
ATTACH;FMTTYPE=image/jpeg:https://yesfm.com/site/wp-content/uploads/2025/08/del-12.jpg
END:VEVENT
BEGIN:VEVENT
DTSTART;TZID=America/New_York:20250830T100000
DTEND;TZID=America/New_York:20250830T160000
DTSTAMP:20260422T065638
CREATED:20250820T140143Z
LAST-MODIFIED:20250820T140143Z
UID:10001491-1756548000-1756569600@yesfm.com
SUMMARY:Car/Truck Show in Colton
DESCRIPTION:Annual Car/Truck Show at Colton Amvets Post 262\, 5082 State Highway 56 on Saturday August 30th; with Music by Marty Robinson from 1-4 p.m.; food provided; registration from 10 a.m. to noon; fee is $10
URL:https://yesfm.com/event/car-truck-show-in-colton/
LOCATION:Colton Amvets\, 5082 State Highway 56\, Colton\, United States
CATEGORIES:Local Events
ATTACH;FMTTYPE=image/jpeg:https://yesfm.com/site/wp-content/uploads/2025/06/limousine-6615329_1280.jpg
END:VEVENT
BEGIN:VEVENT
DTSTART;TZID=America/New_York:20250830T120000
DTEND;TZID=America/New_York:20250830T160000
DTSTAMP:20260422T065638
CREATED:20250811T144746Z
LAST-MODIFIED:20250811T144746Z
UID:10001479-1756555200-1756569600@yesfm.com
SUMMARY:Show & Shine Car Show
DESCRIPTION:Show & Shine Car Show – You’re Invited! \nBring out your rides\, shine them up\, and show them off at our upcoming Show & Shine Car Show! Whether you’re a gearhead\, classic car enthusiast\, or just love admiring beautiful machines – this event is for you!\n Date: Saturday August 30th Location: Cardinal Royal Canadian Legion – Branch 105 Cardinal  Time: 12:00 – 4:00pm Extras: Music • Food • Door Prizes • Family-Friendly Fun!\n Open to all makes\, models\, and years – classics\, customs\, trucks\, motorcycles\, and more!\n Tell your friends\, shine up your ride\, and come join the fun. Whether you’re entering or just coming to check out the scene – everyone’s welcome!
URL:https://yesfm.com/event/show-shine-car-show/
LOCATION:cardinal legion\, 105 Legion Way\, cardinal\, ON\, Canada
CATEGORIES:Local Events
ATTACH;FMTTYPE=image/jpeg:https://yesfm.com/site/wp-content/uploads/2025/08/del-7.jpg
END:VEVENT
BEGIN:VEVENT
DTSTART;TZID=America/New_York:20250831T100000
DTEND;TZID=America/New_York:20250831T133000
DTSTAMP:20260422T065638
CREATED:20250729T131550Z
LAST-MODIFIED:20250729T131550Z
UID:10001460-1756634400-1756647000@yesfm.com
SUMMARY:Heuvelton Amvets Chicken BBQ
DESCRIPTION:Heuvelton Amvets Post 1997\, 107 State St.\, will host its annual chicken barbecue on Aug. 31 starting at 2 p.m. after the Heuvelton Labor Day Parade. $15 per meal. Dine in or take out\, delivery in the village. Pre-orders by Sunday\, Aug. 31 at 11 a.m. by calling 315-344-7962. Menu: half chicken\, salt potatoes\, baked beans\, pickles\, rolls and desserts.
URL:https://yesfm.com/event/heuvelton-amvets-chicken-bbq/
LOCATION:Heuvelton AMVETS\, 107 State Street\, Heuvelton\, United States
CATEGORIES:Local Events
ATTACH;FMTTYPE=image/jpeg:https://yesfm.com/site/wp-content/uploads/2025/07/del-14.jpg
END:VEVENT
BEGIN:VEVENT
DTSTART;TZID=America/New_York:20250905T123000
DTEND;TZID=America/New_York:20250905T170000
DTSTAMP:20260422T065638
CREATED:20250902T145827Z
LAST-MODIFIED:20250902T145827Z
UID:10001516-1757075400-1757091600@yesfm.com
SUMMARY:Potsdam Red Cross Blood Drive
DESCRIPTION:A Red Cross blood drive will be Friday from 12:30 to 5 p.m. at the Church of Jesus Christ of Latter-day Saints\, 21 Castle Dr. Potsdam. \nDonors must be healthy\, at least 16 years of age\, and weigh at least 110 lbs. Please consider a Double Red donation if you are O Neg\, O Pos\, A Neg\, or B Neg.\nDonors can pre-register using RapidPass (www.redcrossblood.org/rapidpass). Pre-registration can only be completed the day of the drive prior to arrival.\nRegistration can be made online at www.redcrossblood.org\, or by contacting 1 (800) RED CROSS. First time donors and walk-ins are welcome.
URL:https://yesfm.com/event/potsdam-red-cross-blood-drive/
LOCATION:Church of Jesus Christ and Latter Day Saints\, 21 Castle Drive\, Potsdam\, United States
CATEGORIES:Local Events
ATTACH;FMTTYPE=image/jpeg:https://yesfm.com/site/wp-content/uploads/2025/09/del-4.jpg
END:VEVENT
BEGIN:VEVENT
DTSTART;TZID=America/New_York:20250905T160000
DTEND;TZID=America/New_York:20250906T223000
DTSTAMP:20260422T065638
CREATED:20250818T153418Z
LAST-MODIFIED:20250818T153418Z
UID:10001487-1757088000-1757197800@yesfm.com
SUMMARY:Falls Festival September 5th and 6th!
DESCRIPTION:The Falls Festival is Friday and Saturday September 5th and 6th downtown Rensselaer Falls and in Pioneer Park! 2 days of music\, food\, crafts\, corn hole and more!  Fireworks Saturday night!  Get the schedule of bands at their website! \n  \n 
URL:https://yesfm.com/event/falls-festival-september-5th-and-6th/
LOCATION:Pioneer Park\, Rensselaer Street\, Rensselaer Falls\, United States
CATEGORIES:Local Events
ATTACH;FMTTYPE=image/jpeg:https://yesfm.com/site/wp-content/uploads/2025/08/del-9.jpg
END:VEVENT
BEGIN:VEVENT
DTSTART;TZID=America/New_York:20250906T090000
DTEND;TZID=America/New_York:20250906T150000
DTSTAMP:20260422T065638
CREATED:20250902T145431Z
LAST-MODIFIED:20250902T145431Z
UID:10001514-1757149200-1757170800@yesfm.com
SUMMARY:Fall Indoor Yard Sale
DESCRIPTION:Love to get some deals?! Shop many yard sales all at the same time! All in one place this Saturday! Don’t miss the Indoor Yard Sale at Lockwood Civic Center in Ogdensburg! Shop til you drop from 9 to 3 Saturday! And you don’t have to worry about the weather! Admission is only 2 dollars! If you want to sell your stuff and de-clutter – you can! Call Michelle at 315-528-0332! Your trash could be somebody else’s treasure! Don’t miss the Indoor Yard Sale\, at Lockwood Civic Center in Ogdensburg Saturday from 9-3!
URL:https://yesfm.com/event/fall-indoor-yard-sale/
LOCATION:lockwood civic center\, 141 W. River Street\, Ogdensburg\, New York\, 13669\, United States
CATEGORIES:Local Events
ATTACH;FMTTYPE=image/jpeg:https://yesfm.com/site/wp-content/uploads/2025/09/del-11.jpg
END:VEVENT
BEGIN:VEVENT
DTSTART;TZID=America/New_York:20250906T100000
DTEND;TZID=America/New_York:20250906T133000
DTSTAMP:20260422T065638
CREATED:20250811T145833Z
LAST-MODIFIED:20250811T145833Z
UID:10001480-1757152800-1757165400@yesfm.com
SUMMARY:Sandy's Steps Walk/Run
DESCRIPTION:Sandy’s Steps 12th Annual 5k Walk/Run Saturday Sept 6th at Whalen Park in Louisville.   10am Registration 11am Start \n\n\nOur annual 5k Walk/Run fundraiser for ALS patients. \nFood\, Auction and fun
URL:https://yesfm.com/event/sandys-steps-walk-run/
LOCATION:WHALEN PARK\, State Route 131\, Louisville\, United States
CATEGORIES:Local Events
ATTACH;FMTTYPE=image/jpeg:https://yesfm.com/site/wp-content/uploads/2025/08/del-8.jpg
END:VEVENT
BEGIN:VEVENT
DTSTART;TZID=America/New_York:20250906T110000
DTEND;TZID=America/New_York:20250906T140000
DTSTAMP:20260422T065638
CREATED:20250805T145240Z
LAST-MODIFIED:20250805T145240Z
UID:10001474-1757156400-1757167200@yesfm.com
SUMMARY:Chili Fest 2025 – Rensselaer Falls Chili Cook-Off
DESCRIPTION:Chili Fest 2025 – Rensselaer Falls Chili Cook-Off\nDate & Time:Saturday\, September 6\, 202511:00 a.m. – 2:00 p.m.\nLocation:Rensselaer Falls Fire Department424 Rensselaer St\, Rensselaer Falls\, NY 13680\nJoin the Rensselaer Falls Auxiliary for Chili Fest 2025!Whether you want to cook and compete or just want to eat\, you’re in for a flavorful\, fun time.\nCook-Off Details:\n$20 per team (up to 2 people)\nOnly 20 team spots available\nTeams may arrive up to one hour early to set up and decorate your table!\nAwards:• 1st Place Overall• 2nd Place Overall• 3rd Place Overall• Most Creative (voted on by the Auxiliary)\nPublic Voting & Tastings:\n$5 per person for unlimited tastings\nVoting takes place from 11:00 a.m. – 2:00 p.m.\nPrizes awarded immediately after voting ends\nSign up your team today!\nhttps://docs.google.com/…/1FAIpQLScSkQBeNAA…/viewform…Or Contact Myra at (315) 869-0403 or email Myra.L.Cutway@gmail.com
URL:https://yesfm.com/event/chili-fest-2025-rensselaer-falls-chili-cook-off/
LOCATION:Rensselaer Falls VFD\, 424 Rensselaer St\, Rensselaer Falls\, United States
CATEGORIES:Local Events
ATTACH;FMTTYPE=image/jpeg:https://yesfm.com/site/wp-content/uploads/2025/08/del-5.jpg
END:VEVENT
BEGIN:VEVENT
DTSTART;TZID=America/New_York:20250906T140000
DTEND;TZID=America/New_York:20250906T170000
DTSTAMP:20260422T065638
CREATED:20250902T145615Z
LAST-MODIFIED:20250902T145615Z
UID:10001515-1757167200-1757178000@yesfm.com
SUMMARY:Chipman Chicken BBQ
DESCRIPTION:The 70th Chipman Chicken Barbecue will be held Saturday\, Sept. 6 at the Scotch Presbyterian Church\, with the green steeple\, at 35 County Route 33. The barbecue will be drive-thru and takeout. Drive-thru service begins at 2 p.m.
URL:https://yesfm.com/event/chipman-chicken-bbq/
LOCATION:Scotch Presbterian Church\, 35 County Rooute 33\, Chipman\, United States
CATEGORIES:Local Events
ATTACH;FMTTYPE=image/webp:https://yesfm.com/site/wp-content/uploads/2019/02/chicken-bbq.webp
END:VEVENT
BEGIN:VEVENT
DTSTART;TZID=America/New_York:20250907T080000
DTEND;TZID=America/New_York:20250907T110000
DTSTAMP:20260422T065638
CREATED:20250902T144531Z
LAST-MODIFIED:20250902T144531Z
UID:10001513-1757232000-1757242800@yesfm.com
SUMMARY:Grandparents Day Breakfast
DESCRIPTION:Heuvelton AMVETS Post 1997\, 107 State St.; grandparents day buffet breakfast\, Sunday 8-11am; donations accepted\, public welcome; menu bacon\, Sausage\, Scrambled eggs\, home fries\, sausage gravy-biscuits\, fresh fruit\, and beverage
URL:https://yesfm.com/event/grandparents-day-breakfast/
LOCATION:Heuvelton AMVETS\, 107 State Street\, Heuvelton\, United States
CATEGORIES:Local Events
ATTACH;FMTTYPE=image/jpeg:https://yesfm.com/site/wp-content/uploads/2025/09/del-10.jpg
END:VEVENT
BEGIN:VEVENT
DTSTART;TZID=America/New_York:20250910T130000
DTEND;TZID=America/New_York:20250910T180000
DTSTAMP:20260422T065638
CREATED:20250820T143229Z
LAST-MODIFIED:20250820T143229Z
UID:10001492-1757509200-1757527200@yesfm.com
SUMMARY:Battle of the Badges Blood Drive
DESCRIPTION:Firefighters\, EMS\, Canton Police\, and the St. Lawrence County Sheriff’s Office are facing off in a friendly competition at the Battle of the Badges Blood Drive on Wednesday\, Sept. 10\, from 1-6 p.m. at the Rensselaer Falls Fire Department\, 424 Rensselaer St. \nBattle of the Badges is a friendly competition to see who can recruit the most eligible blood donors to join them in this lifesaving effort.
URL:https://yesfm.com/event/battle-of-the-badges-blood-drive/
LOCATION:Rensselaer Falls VFD\, 424 Rensselaer St\, Rensselaer Falls\, United States
CATEGORIES:Local Events
ATTACH;FMTTYPE=image/jpeg:https://yesfm.com/site/wp-content/uploads/2025/08/del-13.jpg
END:VEVENT
BEGIN:VEVENT
DTSTART;TZID=America/New_York:20250911T113000
DTEND;TZID=America/New_York:20250911T163000
DTSTAMP:20260422T065638
CREATED:20250902T134209Z
LAST-MODIFIED:20250902T134226Z
UID:10001507-1757590200-1757608200@yesfm.com
SUMMARY:Gouverneur Hospital Red Cross Blood Drive
DESCRIPTION:Gouverneur Hospital is sponsoring a Red Cross Blood Drive on Thursday\, September 11 at the Gouverneur Community Center\, Route-58\, Gouverneur. Hours are 11:30 am to 4:30 pm.\nDonors must be healthy\, at least 16 years of age\, and weigh at least 110 lbs. Please consider a Double Red donation if you are O Neg\, O Pos\, A Neg\, or B Neg.\nDonors can pre-register using RapidPass (www.redcrossblood.org/rapidpass). Pre-registration can only be completed the day of the drive prior to arrival.\nRegistration can be made online at www.redcrossblood.org\, or by contacting 1 (800) RED CROSS. First time donors and walk-ins are welcome.
URL:https://yesfm.com/event/gouverneur-hospital-red-cross-blood-drive/
LOCATION:4673 NY-58\, Gouverneur\, NY 13642
CATEGORIES:Local Events
ATTACH;FMTTYPE=image/jpeg:https://yesfm.com/site/wp-content/uploads/2025/09/del-4.jpg
END:VEVENT
BEGIN:VEVENT
DTSTART;TZID=America/New_York:20250912T110000
DTEND;TZID=America/New_York:20250912T143000
DTSTAMP:20260422T065638
CREATED:20250903T144216Z
LAST-MODIFIED:20250903T144216Z
UID:10001517-1757674800-1757687400@yesfm.com
SUMMARY:Ogdensburg Elks Chicken BBQ
DESCRIPTION:Chicken BBQ at the Ogdensburg Elks Friday September 12th.  Proceeds benefit Ogdensburg Cemetary Association.  Chicken\, Salt Potatoes\, Baked Beans and Roll.  11am til gone.  315 393 5430 for pre order.
URL:https://yesfm.com/event/ogdensburg-elks-chicken-bbq/
LOCATION:Ogdensburg Elks Lodge
CATEGORIES:Local Events
ATTACH;FMTTYPE=image/jpeg:https://yesfm.com/site/wp-content/uploads/2025/09/del-12.jpg
END:VEVENT
BEGIN:VEVENT
DTSTART;TZID=America/New_York:20250912T150000
DTEND;TZID=America/New_York:20250912T163000
DTSTAMP:20260422T065638
CREATED:20250903T144507Z
LAST-MODIFIED:20250903T144507Z
UID:10001497-1757689200-1757694600@yesfm.com
SUMMARY:Dwight Church Program presented by Lamar Bliss
DESCRIPTION:On Friday September 12th at 3 p.m. in the Waddington Hepburn Library Community Room Lamar Bliss will present a fascinating program about her grandfather Dwight Church. Mr. Church made a name for himself as an aerial photographer and producer of post cards. For 40+ years he took what he called “Skyviews” of much of the North Country. Many a farmer in this region had a framed Skyview of their farm hung in the house. He participated in the Post Office’s celebration of Air Mail delivery in 1938. There were some interesting and harrowing adventures during the thousands of hours he was airborne. Fortunately\, he wrote about many of these for a pilot’s magazine. Lamar will be telling us some of these stories. Lamar grew up in New Jersey but visited her grandparents in Canton\, N.Y. every summer often flying with her grandfather. She moved to Canton in 1985 to work at North Country Public Radio. If you have a photo of your farm or postcard pictures taken by Mr. Church\, please bring them to the library to share.
URL:https://yesfm.com/event/dwight-church-program-presented-by-lamar-bliss/
LOCATION:Waddington Hepburn Library\, 30 Main Street\, Waddington\, 13694\, United States
CATEGORIES:Local Events
ATTACH;FMTTYPE=image/jpeg:https://yesfm.com/site/wp-content/uploads/2025/08/Lamar_072319-05-e1756910688515.jpg
ORGANIZER;CN="Friends of the Waddington Library":MAILTO:wadlib@ncls.org
END:VEVENT
BEGIN:VEVENT
DTSTART;TZID=America/New_York:20250913T080000
DTEND;TZID=America/New_York:20250913T150000
DTSTAMP:20260422T065638
CREATED:20250818T152720Z
LAST-MODIFIED:20250818T152720Z
UID:10001486-1757750400-1757775600@yesfm.com
SUMMARY:Wounded Warrior Outdoor Adventures Warrior Run
DESCRIPTION:Wounded Warriors Warrior Run is Saturday September 13th at Camp Serenity in Colton. Waves start at 8am! Active Duty\, First Responders and Veterans get $5 off registration.  $25 for 18+\, $10 for 13-17 and under 12 Free!   Get more info online at WWOAdventures.com or at Facebook! Come Get Muddy!
URL:https://yesfm.com/event/wounded-warrior-outdoor-adventures-warrior-run/
LOCATION:Camp Serenity\, 88 Sturtevant Road\, Colton\, United States
CATEGORIES:Local Events
ATTACH;FMTTYPE=image/png:https://yesfm.com/site/wp-content/uploads/2025/08/2025-Annual-Mudd-Run.png
END:VEVENT
BEGIN:VEVENT
DTSTART;TZID=America/New_York:20250913T080000
DTEND;TZID=America/New_York:20250913T150000
DTSTAMP:20260422T065638
CREATED:20250902T133858Z
LAST-MODIFIED:20250902T133858Z
UID:10001506-1757750400-1757775600@yesfm.com
SUMMARY:Higley Flow Fall Festival
DESCRIPTION:On Saturday\, September 13th the Friends of Higley Flow State Park will be holding a festival to celebrate the Park and introduce people to its facilities and attractions. While the summer camping season will have ended\, the Park remains a destination for other activities. The events are a chance to support the work of the Friends\, learn more about the Park\, and have some fun. \nThere’s a lot to see and enjoy at Higley. The events are planned to help you get to know the Park\, and help raise the funds needed to continue the improvements and public availability of Park facilities.. \nGet to know Higley Flow State Park and support one of the finest public places in the North Country. \nDonation to Friends of Higley Flow State Park: $20 for adults / $10 for teens. Kids under 12 free. Family max. $40
URL:https://yesfm.com/event/higley-flow-fall-festival/
LOCATION:Higley Flow State Park\, 442 Cold Brook Dr\, Colton\, United States
CATEGORIES:Local Events
ATTACH;FMTTYPE=image/jpeg:https://yesfm.com/site/wp-content/uploads/2025/09/del-3.jpg
END:VEVENT
BEGIN:VEVENT
DTSTART;TZID=America/New_York:20250913T080000
DTEND;TZID=America/New_York:20250914T170000
DTSTAMP:20260422T065638
CREATED:20250530T151122Z
LAST-MODIFIED:20250721T145019Z
UID:10001350-1757750400-1757869200@yesfm.com
SUMMARY:3rd Annual Kristie Jo Dow Memorial Softball Tournament
DESCRIPTION:The 3rd annual Kristie Jo Dow Memorial Softball Tournament is to honor a dear friend and wonderful person who tragically passed away in an ATV accident on May 20\, 2023. \nThe event is taking place September 13th-14th in Massena NY. Our goal is to host 26 co-ed softball teams and right now we are at 19! We will be running four different ball fields\, with a food truck and great prizes to be raffled off. Currently we are raffling off a family four pack to see the Syracuse Mets play! More details can be found in the public event on Facebook: 3rd Annual Kristie Jo Dow Memorial Softball Tournament. \nThis year the proceeds will be split up between the scholarship fund in Kristie’s name at Colton-Pierrepont Central School where she was employed\, Autism Awareness which she was passionate about and to a local family who has suffered a tragedy throughout this year. \nRegistration to enter a team is $250. There is a non-refundable $100 deposit that is due upon registration. To register please contact Dee at (315)323-9726.\nDonations for silent auction items are very much appreciated. If you are interested in donating please contact Ciera at (315)854-5406.
URL:https://yesfm.com/event/3rd-annual-kristie-jo-dow-memorial-softball-tournament/
CATEGORIES:Local Events
ATTACH;FMTTYPE=image/jpeg:https://yesfm.com/site/wp-content/uploads/2025/05/IMG_0868-e1753109614450.jpeg
END:VEVENT
BEGIN:VEVENT
DTSTART;TZID=America/New_York:20250913T090000
DTEND;TZID=America/New_York:20250913T120000
DTSTAMP:20260422T065638
CREATED:20250820T144850Z
LAST-MODIFIED:20250820T144910Z
UID:10001495-1757754000-1757764800@yesfm.com
SUMMARY:5TH ANNUAL 5K RECOVERY RIVER RUN
DESCRIPTION:5TH ANNUAL 5K RECOVERY RIVER RUN Saturday September 13th\, 10am at the Ogdensburg Bridge and Port Trail! Each year\, we celebrate September as National Recovery Month. We come together in September to promote and support our Recovery community. We strive to spread awareness that recovery is not only possible\, it’s within reach. Our annual Recovery River Run is a platform for our collective voice as we celebrate and promote recovery in St. Lawrence County.  
URL:https://yesfm.com/event/35318/
LOCATION:1 Bridge Plaza\, 1 Bridge Plaza\, Ogdensburg\, 13669\, United States
CATEGORIES:Local Events
ATTACH;FMTTYPE=image/jpeg:https://yesfm.com/site/wp-content/uploads/2025/08/del-14.jpg
END:VEVENT
BEGIN:VEVENT
DTSTART;TZID=America/New_York:20250913T090000
DTEND;TZID=America/New_York:20250913T180000
DTSTAMP:20260422T065638
CREATED:20250902T135623Z
LAST-MODIFIED:20250902T135623Z
UID:10001511-1757754000-1757786400@yesfm.com
SUMMARY:Brockville Community Treasure Hunt
DESCRIPTION:Join the yard sale where everything is FREE.Saturday September 13\, 2025 9am to 6pmLeave any unwanted\, but still useful\, items at the curb by 9:00 AM. Please do not remove items from anyone’s property. Collect items from the curb only.Cease collecting and remove any uncollected treasures from the curb by 6:00 PM.
URL:https://yesfm.com/event/brockville-community-treasure-hunt/
CATEGORIES:Local Events
ATTACH;FMTTYPE=image/jpeg:https://yesfm.com/site/wp-content/uploads/2025/09/del-8.jpg
END:VEVENT
END:VCALENDAR