BEGIN:VCALENDAR
VERSION:2.0
PRODID:-//YES FM - ECPv6.15.15//NONSGML v1.0//EN
CALSCALE:GREGORIAN
METHOD:PUBLISH
X-WR-CALNAME:YES FM
X-ORIGINAL-URL:https://yesfm.com
X-WR-CALDESC:Events for YES FM
REFRESH-INTERVAL;VALUE=DURATION:PT1H
X-Robots-Tag:noindex
X-PUBLISHED-TTL:PT1H
BEGIN:VTIMEZONE
TZID:America/New_York
BEGIN:DAYLIGHT
TZOFFSETFROM:-0500
TZOFFSETTO:-0400
TZNAME:EDT
DTSTART:20230312T070000
END:DAYLIGHT
BEGIN:STANDARD
TZOFFSETFROM:-0400
TZOFFSETTO:-0500
TZNAME:EST
DTSTART:20231105T060000
END:STANDARD
BEGIN:DAYLIGHT
TZOFFSETFROM:-0500
TZOFFSETTO:-0400
TZNAME:EDT
DTSTART:20240310T070000
END:DAYLIGHT
BEGIN:STANDARD
TZOFFSETFROM:-0400
TZOFFSETTO:-0500
TZNAME:EST
DTSTART:20241103T060000
END:STANDARD
BEGIN:DAYLIGHT
TZOFFSETFROM:-0500
TZOFFSETTO:-0400
TZNAME:EDT
DTSTART:20250309T070000
END:DAYLIGHT
BEGIN:STANDARD
TZOFFSETFROM:-0400
TZOFFSETTO:-0500
TZNAME:EST
DTSTART:20251102T060000
END:STANDARD
END:VTIMEZONE
BEGIN:VEVENT
DTSTART;TZID=America/New_York:20240922T113000
DTEND;TZID=America/New_York:20240922T200000
DTSTAMP:20260419T115659
CREATED:20240903T163430Z
LAST-MODIFIED:20240903T163430Z
UID:10000391-1727004600-1727035200@yesfm.com
SUMMARY:Comfort Food Fundraiser
DESCRIPTION:Comfort Food Fundraiser to benefit the St. Lawrence Valley SPCA\, Sunday Sep 22nd 11:30 to 8 at The Lakehouse in Edwardsville…on County Route 6. Chicken and Biscuit Dinner for $13.95!
URL:https://yesfm.com/event/comfort-food-fundraiser/
CATEGORIES:Local Events
ATTACH;FMTTYPE=image/jpeg:https://yesfm.com/site/wp-content/uploads/2024/09/pickles-198_1280.jpg
END:VEVENT
BEGIN:VEVENT
DTSTART;TZID=America/New_York:20240921T100000
DTEND;TZID=America/New_York:20240922T160000
DTSTAMP:20260419T115659
CREATED:20240813T122519Z
LAST-MODIFIED:20240813T122549Z
UID:10000363-1726912800-1727020800@yesfm.com
SUMMARY:15th Annual Model Train\, Toy & Collectible Expo
DESCRIPTION:The Norwood Model Railroad Club is sponsoring its 2024. 15th Annual Model Train\, Toy & Collectible Expo at the Massena Arena\,180 Harte Haven Plaza\, Massena\, NY on Saturday\, September 21st (10am to 5pm) & Sunday\, September 22nd (10am to 4pm).. Admission is $5.00 with children under 10 free. Come see 9+ operating model train layouts of varied sizes and gauges\, visit our many vendors\, and attend a clinic on model railroad scenery (Making Trees). Fun for all ages. Weather permitting free miniature outdoor train rides for young and old. The concession food stand is available.
URL:https://yesfm.com/event/15th-annual-model-train-toy-collectible-expo/
LOCATION:180 Harte Haven Plaza\, Massena\, NY
CATEGORIES:Local Events
ATTACH;FMTTYPE=image/jpeg:https://yesfm.com/site/wp-content/uploads/2024/08/central-station-1527780_1280.jpg
END:VEVENT
BEGIN:VEVENT
DTSTART;TZID=America/New_York:20240921T100000
DTEND;TZID=America/New_York:20240921T170000
DTSTAMP:20260419T115659
CREATED:20240821T205403Z
LAST-MODIFIED:20240821T205403Z
UID:10000375-1726912800-1726938000@yesfm.com
SUMMARY:Craft\, Food & Wine Open-Air Market
DESCRIPTION:The Craft\, Food & Wine Open-Air Market Saturday September 21st at the St. Lawrence Power and Equipment Museum in Madrid from 10-5! It’s a unique event featuring handmade and value-added products from the North Country and beyond. 80+ Vendors will be set up throughout the St. Lawrence Power & Equipment Museum exhibits and buildings\, like a Market set along the ‘streets’ of this living history museum. Bring your wagons and prepare to shop local!
URL:https://yesfm.com/event/craft-food-wine-open-air-market/
CATEGORIES:Local Events
ATTACH;FMTTYPE=image/jpeg:https://yesfm.com/site/wp-content/uploads/2024/08/knitting-4639828_1280-1.jpg
END:VEVENT
BEGIN:VEVENT
DTSTART;TZID=America/New_York:20240921T100000
DTEND;TZID=America/New_York:20240921T160000
DTSTAMP:20260419T115659
CREATED:20240905T162940Z
LAST-MODIFIED:20240905T162940Z
UID:10000394-1726912800-1726934400@yesfm.com
SUMMARY:King West Arts Festival
DESCRIPTION:🎵 Embrace your creative spirit at the King West Arts Festival! 🌟🛍️\n📅 Mark Your Calendars: September 21st | 10AM – 4PM\n📍 Location: King West\, Downtown Brockville\nDive into a world of artistic wonder at the King West Arts Festival! Celebrate the incredible talents of local artists and musicians while discovering the unique charm of our local shops.\n🖌️ Local Art Showcased: Wander through vibrant displays of local artwork—paintings\, crafts\, and more. Meet the artists\, hear their stories\, and maybe even take a piece of art home!\n🎶 Live Music Vibes: Enjoy the soundtrack of the streets with live performances from local musicians that capture the essence of our community’s spirit.\n🛍️ Shop Local: Support our neighborhood businesses with special promotions and exclusive finds that can’t be matched.\n🍴 Food and More: Savour delicious eats from local restaurants as you soak in the artsy atmosphere.\n👨‍👩‍👧‍👦 Family-Friendly Fun: Bring the whole family for a day full of inspiration and fun. Free admission for everyone!\nJoin us at the King West Arts Festival to celebrate art\, music\, and community in the most vibrant setting! Let’s make it a day to remember—filled with creativity\, culture\, and local love
URL:https://yesfm.com/event/king-west-arts-festival/
CATEGORIES:Local Events
ATTACH;FMTTYPE=image/jpeg:https://yesfm.com/site/wp-content/uploads/2024/09/watercolor-3445376_1280-1.jpg
END:VEVENT
BEGIN:VEVENT
DTSTART;TZID=America/New_York:20240921T100000
DTEND;TZID=America/New_York:20240921T150000
DTSTAMP:20260419T115659
CREATED:20240725T015042Z
LAST-MODIFIED:20240725T015042Z
UID:10000351-1726912800-1726930800@yesfm.com
SUMMARY:53rd Norwood Harvest Festival
DESCRIPTION:The 53rd Norwood Harvest Festival will be held Saturday\, Sept. 21\, from 10 -3 p.m. In addition to the vendors\, the festival will be an old fashioned family day that will include music\, children’s games and activities\, hay rides\, and a farmers market. An old time Virginia Reel will conclude the festivities. The event will feature crafts\, artwork\, baked goods\, and produce. There will also be a pet show\, face painting\, fairy tinsel hair weaving and cake walk. The Autumn Harvest Festival is sponsored by the village of Norwood.
URL:https://yesfm.com/event/53rd-norwood-harvest-festival/
LOCATION:Norwood\, NY\, USA
CATEGORIES:Local Events
ATTACH;FMTTYPE=image/jpeg:https://yesfm.com/site/wp-content/uploads/2024/07/dozynki-5862461_1280.jpg
END:VEVENT
BEGIN:VEVENT
DTSTART;TZID=America/New_York:20240921T100000
DTEND;TZID=America/New_York:20240921T130000
DTSTAMP:20260419T115659
CREATED:20240910T152621Z
LAST-MODIFIED:20240910T152621Z
UID:10000402-1726912800-1726923600@yesfm.com
SUMMARY:Open auditions for Ticket to Cruise
DESCRIPTION:Open auditions for Ticket to Cruise will be held on September 21\, from 10am until 1pm at the Canton Free Library. Ticket to Cruise is a murder mystery being held at the Elk’s Club in Ogdensburg on November 9th. If you have never acted before\, this is an easy way to get your feet wet. Amateur or seasoned actors\, we welcome you to audition! If you have questions\, please email Jen Berbrich at j.berb@hotmail.com .
URL:https://yesfm.com/event/open-auditions-for-ticket-to-cruise/
CATEGORIES:Local Events
ATTACH;FMTTYPE=image/jpeg:https://yesfm.com/site/wp-content/uploads/2024/09/theatre-4941742_1280.jpg
END:VEVENT
BEGIN:VEVENT
DTSTART;TZID=America/New_York:20240914T113000
DTEND;TZID=America/New_York:20240914T143000
DTSTAMP:20260419T115659
CREATED:20240911T153955Z
LAST-MODIFIED:20240911T153955Z
UID:10000404-1726313400-1726324200@yesfm.com
SUMMARY:special children's program
DESCRIPTION:The Ogdensburg History Museum is excited to announce a special children’s program on Saturday\, September 14th at 11:30 am. This free and open to the public event will take place at the museum located at 206 Ford St.\nThe theme of the storytime will be the St. Lawrence River\, perfect for curious young minds who are interested in learning about one of the largest rivers in the world. Children must be accompanied by an adult to attend.\nThe program will be led by retired kindergarten teacher Nancy Wilson Mashaw\, who has a passion for storytelling and engaging young children in learning. With her lively and interactive storytelling style\, she is sure to captivate the audience and spark their curiosity about the St. Lawrence River.\nThe Ogdensburg History Museum is thrilled to offer this educational and entertaining event for children in the community. It is a great opportunity for families to spend quality time together while also learning about the history and nature of Ogdensburg.\n“We are excited to welcome families to the museum for this special event\,” said museum president\, Julie Madlin. “It’s a great way to introduce children to the St. Lawrence River\, and we are grateful to have Nancy Wilson Mashaw as our storyteller.”\nDon’t miss this fun and educational event at the Ogdensburg History Museum on September 14th at 11:30 am. Come and join us for a morning of storytelling and learning about St. Lawrence River fish. For more information\, please contact the museum at (315) 528-0733 or visit our website at www.ogdensburghistorymuseum.com.
URL:https://yesfm.com/event/special-childrens-program/
CATEGORIES:Local Events
ATTACH;FMTTYPE=image/jpeg:https://yesfm.com/site/wp-content/uploads/2024/09/reading-3969956_1280.jpg
END:VEVENT
BEGIN:VEVENT
DTSTART;TZID=America/New_York:20240914T100000
DTEND;TZID=America/New_York:20240914T140000
DTSTAMP:20260419T115659
CREATED:20240821T210115Z
LAST-MODIFIED:20240821T210115Z
UID:10000380-1726308000-1726322400@yesfm.com
SUMMARY:North Grenville Community Day & Resource Fair
DESCRIPTION:North Grenville Community Day & Resource Fair\n📅 Date: Saturday\, September 14th\n⏰ Time: 10:00 AM – 2:00 PM\n📍 Location: Kemptville Municipal Centre\nJoin us in celebrating the amazing resources in our community!\n🎉 Celebrate\, Learn\, and Explore!\n-Learn about community resources\n-Discover services and activities for families\, youth\, and older adults\n-Explore volunteer opportunities\n-Hear from guest speakers\n-Enjoy live entertainment and presentations\n-Learn about Compassionate North Grenville\n-BBQ\n-Birthday Cake
URL:https://yesfm.com/event/north-grenville-community-day-resource-fair/
CATEGORIES:Local Events
ATTACH;FMTTYPE=image/jpeg:https://yesfm.com/site/wp-content/uploads/2024/08/balloons-732290_1280.jpg
END:VEVENT
BEGIN:VEVENT
DTSTART;TZID=America/New_York:20240914T090000
DTEND;TZID=America/New_York:20240914T150000
DTSTAMP:20260419T115659
CREATED:20240821T205215Z
LAST-MODIFIED:20240821T205304Z
UID:10000374-1726304400-1726326000@yesfm.com
SUMMARY:Swap Meet/Craft and Vendor Event
DESCRIPTION:Swap Meet/Craft and Vendor Event on Saturday September 14th 9am-3pm at the Al & Illeane Ames Youth Outdoor Education Center at the Black Lake Fish and Game Assoc!! \nSomething for everyone at the BLFGA on Saturday\, September 14th!! Looking for some gently loved or even new gear for yourself\, kids or grandkids? Or come take a look around and you may just find something unique from one of our crafters/vendors? Test your trap shooting skills and register for the 50 Bird Trap Shoot. Or just come grab a bite to eat and support our local food vendors. Literally something for everyone!\n* Fall Hunting\, Fishing\, Trapping Swap Meet\n* Craft/Vendor Fair\n* Food Trucks – Alaine’s “Not Like the Other Grill’s” and The Lemon Drop\n* 50 Bird Trap Shoot\nSee flyer for more details!!\n*Admission – $5 ($3 for BLFGA members) ~ Kids 16 & under are FREE\n50/50 Raffle & BLFGA shirts & hats\nWe do have a few spots left for vendors for the swap meet – preference goes to those that are selling items related to hunting\, fishing\, trapping\, etc. Contact Penny Young for an application (ONLY BOOK WITH PENNY YOUNG – there are scammers out there trying to post on event pages) 315-276-4500 text or call after 4pm (leave a message) or email – club@blfga.org for an application. \n 
URL:https://yesfm.com/event/swap-meet-craft-and-vendor-event/
CATEGORIES:Local Events
ATTACH;FMTTYPE=image/jpeg:https://yesfm.com/site/wp-content/uploads/2024/08/knitting-4639828_1280-1.jpg
END:VEVENT
BEGIN:VEVENT
DTSTART;TZID=America/New_York:20240914T090000
DTEND;TZID=America/New_York:20240914T120000
DTSTAMP:20260419T115659
CREATED:20240813T121955Z
LAST-MODIFIED:20240813T121955Z
UID:10000360-1726304400-1726315200@yesfm.com
SUMMARY:Color Run
DESCRIPTION:In recognition of National Suicide Prevention Month\, Liberty Energy will be hosting a “Color Run” on Saturday\, September 14 at the John Story Trail located at Massena Central High School. The Color Run starts at 9 am at the bottom of Churchill Avenue. Participants start the run by going through a sprinkler and will pass six different color (powder) stations along the trail. Participants are also encouraged to wear white t-shirts.
URL:https://yesfm.com/event/color-run/
LOCATION:Massena Central High School
CATEGORIES:Local Events
ATTACH;FMTTYPE=image/jpeg:https://yesfm.com/site/wp-content/uploads/2024/08/color-run-698417_1280.jpg
END:VEVENT
BEGIN:VEVENT
DTSTART;VALUE=DATE:20240914
DTEND;VALUE=DATE:20240915
DTSTAMP:20260419T115659
CREATED:20240821T205844Z
LAST-MODIFIED:20240821T205844Z
UID:10000378-1726272000-1726358399@yesfm.com
SUMMARY:Dodge For Dreams
DESCRIPTION:Get ready to Dodge\, Duck\, Dip\, Donate\, and Dodge again!\nDodge For Dreams is a dodgeball tournament in support of the Brockville Fire Department’s Belles & Ladders\, a girls fire fighting camp.\n1000 Islands Brewery and 5 Star Fries Food Truck will be on site 🍻🍟\nWhere: Rotary Park\nWhen: Saturday September 14th\, 2024\nWhat to wear: Your best team costume!\nREGISTER NOW! Click here ⤵️\nhttps://forms.gle/1Zsywn8gofn3ega76
URL:https://yesfm.com/event/dodge-for-dreams/
CATEGORIES:Local Events
ATTACH;FMTTYPE=image/jpeg:https://yesfm.com/site/wp-content/uploads/2024/08/volleyball-520093_1280.jpg
END:VEVENT
BEGIN:VEVENT
DTSTART;TZID=America/New_York:20240913T150000
DTEND;TZID=America/New_York:20240914T140000
DTSTAMP:20260419T115659
CREATED:20240821T210934Z
LAST-MODIFIED:20240821T210934Z
UID:10000385-1726239600-1726322400@yesfm.com
SUMMARY:2024 Fall Home & Trade Show
DESCRIPTION:2024 Fall Home & Trade Show in Brockville\, Ontario. Day #1 : Friday September 13th 3-8\, Saturday September 14th 9 to 2 at the Brockville Country Club. **All Proceeds from the Admissions are being donated to the OSPCA Leeds & Grenville Animal Shelter.
URL:https://yesfm.com/event/2024-fall-home-trade-show/
CATEGORIES:Local Events
ATTACH;FMTTYPE=image/jpeg:https://yesfm.com/site/wp-content/uploads/2024/08/flower-4764305_1280.jpg
END:VEVENT
BEGIN:VEVENT
DTSTART;TZID=America/New_York:20240912T113000
DTEND;TZID=America/New_York:20240912T163000
DTSTAMP:20260419T115659
CREATED:20240904T164746Z
LAST-MODIFIED:20240904T164746Z
UID:10000392-1726140600-1726158600@yesfm.com
SUMMARY:Red Cross Blood Drive
DESCRIPTION:Gouverneur Hospital is sponsoring a Red Cross Blood Drive on Thursday\, September 12 at the Gouverneur Community Center\, Route 58\, Gouverneur. Hours are 11:30 am – 4:30 pm.\nDonors must be healthy\, at least 16 years of age\, and weigh at least 110 lbs. Please consider a Double Red donation if you are O Neg\, O Pos\, A Neg\, or B Neg.\nDonors can pre-register using RapidPass (www.redcrossblood.org/rapidpass). Pre-registration can only be completed the day of the drive prior to arrival.\nRegistration can be made online at www.redcrossblood.org\, or by contacting 1 (800) RED CROSS. First time donors and walk-ins are welcome.
URL:https://yesfm.com/event/red-cross-blood-drive-7/
CATEGORIES:Local Events
ATTACH;FMTTYPE=image/jpeg:https://yesfm.com/site/wp-content/uploads/2024/09/earth-g5edf97dac_1920.jpg
END:VEVENT
BEGIN:VEVENT
DTSTART;TZID=America/New_York:20240911T110000
DTEND;TZID=America/New_York:20240911T160000
DTSTAMP:20260419T115659
CREATED:20240904T164850Z
LAST-MODIFIED:20240904T164850Z
UID:10000393-1726052400-1726070400@yesfm.com
SUMMARY:Blood Drive
DESCRIPTION:Massena Hospital is sponsoring a Blood Drive through the Adirondack Regional Blood Center on Wednesday\, September 11 in Massena Hospital’s Community Education Room\, 1 Hospital Drive\, Massena. Walk-ins accepted from 11 am – 4 pm.\nDonors must be healthy\, at least 16 years of age\, and weigh at least 110 lbs. Advanced registration is not required; however\, donors are asked to provide identification.\nFor more information\, please call CVPH at (518) 561-2000 and ask for the Donor Center.
URL:https://yesfm.com/event/blood-drive-2/
CATEGORIES:Local Events
ATTACH;FMTTYPE=image/jpeg:https://yesfm.com/site/wp-content/uploads/2024/09/earth-g5edf97dac_1920.jpg
END:VEVENT
BEGIN:VEVENT
DTSTART;TZID=America/New_York:20240910T163000
DTEND;TZID=America/New_York:20240910T180000
DTSTAMP:20260419T115659
CREATED:20240906T163309Z
LAST-MODIFIED:20240906T163309Z
UID:10000396-1725985800-1725991200@yesfm.com
SUMMARY:Spaghetti Dinner fundraiser
DESCRIPTION:The Massena Senior Citizens are holding a Spaghetti Dinner fundraiser for the Massena Neighborhood Center on Tuesday\, September 10th\, from 4:30 to 6pm at the Massena VFW\, 101 West Hatfield Street.\nCost is $12.00 and includes spaghetti\, meatballs\, salad\, cookies\, and coffee or tea…for eat in or take out.\nAll are welcome.
URL:https://yesfm.com/event/spaghetti-dinner-fundraiser/
CATEGORIES:Local Events
ATTACH;FMTTYPE=image/jpeg:https://yesfm.com/site/wp-content/uploads/2024/09/spaghetti-1604836_1280-2.jpg
END:VEVENT
BEGIN:VEVENT
DTSTART;TZID=America/New_York:20240908T080000
DTEND;TZID=America/New_York:20240908T160000
DTSTAMP:20260419T115659
CREATED:20240821T210601Z
LAST-MODIFIED:20240821T210601Z
UID:10000383-1725782400-1725811200@yesfm.com
SUMMARY:Nakoma Rescue Yard Sale & BBQ Fundraiser
DESCRIPTION:Nakoma Rescue Yard Sale & BBQ Fundraiser! Sunday September 8th 8-4 – 920 Stewart Blvd Brockville. We have a fantastic selection of items for sale\, from household goods to unique treasures\, and a delicious BBQ to enjoy while you shop! All proceeds will go towards helping our rescue animals find loving homes.\n🍔 What to Expect:\nGreat deals on a variety of items\nTasty BBQ treats\nFun for the whole family\nSupporting a wonderful cause\nMeet and Greet some of our rescues\nCome out and show your support for Nakoma Rescue! Every purchase helps us continue our mission to rescue and care for animals in need.\nSpread the word\, bring your friends and family\, and let’s make this event a huge success! 🙌\nThank you for your support!
URL:https://yesfm.com/event/nakoma-rescue-yard-sale-bbq-fundraiser/
CATEGORIES:Local Events
ATTACH;FMTTYPE=image/jpeg:https://yesfm.com/site/wp-content/uploads/2024/08/chicken-1559548_1280.jpg
END:VEVENT
BEGIN:VEVENT
DTSTART;TZID=America/New_York:20240907T120000
DTEND;TZID=America/New_York:20240907T150000
DTSTAMP:20260419T115659
CREATED:20240814T231951Z
LAST-MODIFIED:20240814T231951Z
UID:10000368-1725710400-1725721200@yesfm.com
SUMMARY:10th annual Spud’s Run
DESCRIPTION:The 10th annual Spud’s Run\, a motorcycle charity ride established in 2015 with the goal of honoring Shaun (Spud) O’Brien\, will be held Saturday\, Sept. 7. This year’s Spud’s Run falls on what would have been O’Brien’s 46th birthday. The ride starts off from Pike’s Place\, 138 County Route 50 in Brasher Falls\, and is open to anyone. Register from 10 a.m.-noon. Kickstands are up at noon.
URL:https://yesfm.com/event/10th-annual-spuds-run/
CATEGORIES:Local Events
ATTACH;FMTTYPE=image/jpeg:https://yesfm.com/site/wp-content/uploads/2024/08/biker-407123_1280-2.jpg
END:VEVENT
BEGIN:VEVENT
DTSTART;TZID=America/New_York:20240907T100000
DTEND;TZID=America/New_York:20240907T140000
DTSTAMP:20260419T115659
CREATED:20240821T205035Z
LAST-MODIFIED:20240821T205035Z
UID:10000373-1725703200-1725717600@yesfm.com
SUMMARY:End of Summer Indoor Yard Sale
DESCRIPTION:End of Summer Indoor Yard Sale Saturday SEPTEMBER 7 Lockwood Arena\, Ogdensburg 10AM – 2PM FOR MORE INFORMATION CALL MICHELLE 315-528-0332 Your junk is another person’s treasure. Sponsored by The Ogdensburg International Seaway Festival
URL:https://yesfm.com/event/end-of-summer-indoor-yard-sale/
CATEGORIES:Local Events
ATTACH;FMTTYPE=image/jpeg:https://yesfm.com/site/wp-content/uploads/2024/08/clothes-5371410_1280-5.jpg
END:VEVENT
BEGIN:VEVENT
DTSTART;TZID=America/New_York:20240907T090000
DTEND;TZID=America/New_York:20240907T130000
DTSTAMP:20260419T115659
CREATED:20240828T140149Z
LAST-MODIFIED:20240828T140149Z
UID:10000389-1725699600-1725714000@yesfm.com
SUMMARY:used book sale
DESCRIPTION:Friends of the Badenhausen Public Library will be holding a used book sale on Saturday\, September 7 from 9 am to 1 pm at the Badenhausen Library\, 897 Main Street\, Brasher Falls.\nFeatured this month will be a selection of woodworking and hobby books. All other genres are also available at this sale.\nBook prices are as follows: Adult Hardcover $2\, Adult Paperback $1\, Children’s Hardcover $1\, and Children’s Paperback and Board Books 2/$1. Funds raised will benefit the Badenhausen Public Library. Friends of the Badenhausen Public Library will hold book sales on the first Saturday of each month as an on-going fund raiser.
URL:https://yesfm.com/event/used-book-sale/
CATEGORIES:Local Events
ATTACH;FMTTYPE=image/jpeg:https://yesfm.com/site/wp-content/uploads/2024/08/book-1283865_1280-e1769526280611.jpg
END:VEVENT
BEGIN:VEVENT
DTSTART;TZID=America/New_York:20240907T090000
DTEND;TZID=America/New_York:20240907T120000
DTSTAMP:20260419T115659
CREATED:20240821T210446Z
LAST-MODIFIED:20240821T210446Z
UID:10000382-1725699600-1725710400@yesfm.com
SUMMARY:3rd Annual Bombay Car Show
DESCRIPTION:3rd Annual Bombay Car Show Saturday September 7th Registration starts at 9 am Entrants receive a t-shirt\, & dash plaque Prizes for first\, second\, third car & truck Grindstone food truck will be on site Concession will be open 50/50 Chinese auction
URL:https://yesfm.com/event/3rd-annual-bombay-car-show/
CATEGORIES:Local Events
ATTACH;FMTTYPE=image/jpeg:https://yesfm.com/site/wp-content/uploads/2024/08/vintage-car-6753626_1280.jpg
END:VEVENT
BEGIN:VEVENT
DTSTART;TZID=America/New_York:20240907T083000
DTEND;TZID=America/New_York:20240907T113000
DTSTAMP:20260419T115659
CREATED:20240821T205700Z
LAST-MODIFIED:20240821T205700Z
UID:10000377-1725697800-1725708600@yesfm.com
SUMMARY:4th Annual Recovery River Run
DESCRIPTION:4th Annual Recovery River Run Saturday September 7th. Regisrtration starts at 8:30am at the OBPA Grounds in Ogdensburg! Celebrating National Recovery Month with an inflatable 5K! The first 150 to register will receive free event t-shirts and runner bags.
URL:https://yesfm.com/event/4th-annual-recovery-river-run/
CATEGORIES:Local Events
ATTACH;FMTTYPE=image/jpeg:https://yesfm.com/site/wp-content/uploads/2024/08/tubing-3506869_1280.jpg
END:VEVENT
BEGIN:VEVENT
DTSTART;TZID=America/New_York:20240907T080000
DTEND;TZID=America/New_York:20240907T140000
DTSTAMP:20260419T115659
CREATED:20240821T205936Z
LAST-MODIFIED:20240821T205936Z
UID:10000379-1725696000-1725717600@yesfm.com
SUMMARY:FREE Clothing and Household Goods Giveaway
DESCRIPTION:FREE Clothing and Household Goods Giveaway- ONE DAY ONLY Saturday\, Sept 7th 8AM-2PM Massena Baptist Church. Dover St. Massena. Bring bags. Call with ?’s or to donate 315-769-0898
URL:https://yesfm.com/event/free-clothing-and-household-goods-giveaway/
CATEGORIES:Local Events
ATTACH;FMTTYPE=image/jpeg:https://yesfm.com/site/wp-content/uploads/2024/08/clothes-5371410_1280-5.jpg
END:VEVENT
BEGIN:VEVENT
DTSTART;VALUE=DATE:20240905
DTEND;VALUE=DATE:20240908
DTSTAMP:20260419T115659
CREATED:20240821T205530Z
LAST-MODIFIED:20240821T205530Z
UID:10000376-1725494400-1725753599@yesfm.com
SUMMARY:66th Annual Redwood Firemens Field Days
DESCRIPTION:66th Annual Redwood Firemens Field Days\, September 5th\, 6th and 7th. Midway rides and games all three nights provided by Ontario Amusements on Stine Road in Redwood!
URL:https://yesfm.com/event/66th-annual-redwood-firemens-field-days/
CATEGORIES:Local Events
ATTACH;FMTTYPE=image/jpeg:https://yesfm.com/site/wp-content/uploads/2024/08/girl-7008608_1280.jpg
END:VEVENT
BEGIN:VEVENT
DTSTART;TZID=America/New_York:20240901T140000
DTEND;TZID=America/New_York:20240901T170000
DTSTAMP:20260419T115659
CREATED:20240814T231812Z
LAST-MODIFIED:20240814T231812Z
UID:10000367-1725199200-1725210000@yesfm.com
SUMMARY:chicken barbecue
DESCRIPTION:Heuvelton Amvets Post 1997\, 107 State St.\, will host a chicken barbecue on Sept. 1 starting at 2 p.m. $15 cost. Dine-in or take-out. Delivery available in town.
URL:https://yesfm.com/event/chicken-barbecue-3/
CATEGORIES:Local Events
ATTACH;FMTTYPE=image/jpeg:https://yesfm.com/site/wp-content/uploads/2024/08/chicken-1559548_1280.jpg
END:VEVENT
BEGIN:VEVENT
DTSTART;TZID=America/New_York:20240831T150000
DTEND;TZID=America/New_York:20240831T180000
DTSTAMP:20260419T115659
CREATED:20240828T140328Z
LAST-MODIFIED:20240828T140328Z
UID:10000390-1725116400-1725127200@yesfm.com
SUMMARY:Jamboree for Cathy Countryman
DESCRIPTION:Jamboree for Cathy Countryman on Saturday August 31st at the Lisbon Legion. 3pm start time with food\, 50/50\, raffles and a DJ. Cathy is battling bladder cancer!
URL:https://yesfm.com/event/jamboree-for-cathy-countryman/
CATEGORIES:Local Events
ATTACH;FMTTYPE=image/jpeg:https://yesfm.com/site/wp-content/uploads/2024/08/music-7238254_1280-1.jpg
END:VEVENT
BEGIN:VEVENT
DTSTART;TZID=America/New_York:20240830T100000
DTEND;TZID=America/New_York:20240830T130000
DTSTAMP:20260419T115659
CREATED:20240814T232219Z
LAST-MODIFIED:20240814T232219Z
UID:10000370-1725012000-1725022800@yesfm.com
SUMMARY:Ogdensburg Elks Golf Tournament
DESCRIPTION:Ogdensburg Elks Golf Tournament is Friday August 30th at Langbrook Meadows in Brier Hill. Starts at 10am\, $80 a person\, $320 a team. Cost includes lunch on the course and dinner at the Elks later.
URL:https://yesfm.com/event/ogdensburg-elks-golf-tournament/
CATEGORIES:Local Events
ATTACH;FMTTYPE=image/jpeg:https://yesfm.com/site/wp-content/uploads/2024/08/golf-1486354_1280.jpg
END:VEVENT
BEGIN:VEVENT
DTSTART;TZID=America/New_York:20240828T140000
DTEND;TZID=America/New_York:20240828T150000
DTSTAMP:20260419T115659
CREATED:20240821T204856Z
LAST-MODIFIED:20240821T204856Z
UID:10000372-1724853600-1724857200@yesfm.com
SUMMARY:Tiny Tackle Learn to Fish Program
DESCRIPTION:Tiny Tackle Learn to Fish Program will be hosted by the North Country Children’s Museum on Wednesday\, August 28th from 2pm-3pm. This family program is included with the cost of museum membership and admission. Come to the Children’s Museum at 10 Raymond Street in Potsdam to pick up your fishing rod and supplies\, then head to the river with us for a fishing adventure. Program led by science educator and naturalist Joel Danko.\nAll supplies provided. Happening in the last week of summer. Visit the Children’s Museum website calendar for more info:\nhttps://northcountrychildrensmuseum.org/events/
URL:https://yesfm.com/event/tiny-tackle-learn-to-fish-program/
CATEGORIES:Local Events
ATTACH;FMTTYPE=image/jpeg:https://yesfm.com/site/wp-content/uploads/2024/08/fishing-4933219_1280-1.jpg
END:VEVENT
BEGIN:VEVENT
DTSTART;TZID=America/New_York:20240826T080000
DTEND;TZID=America/New_York:20240826T170000
DTSTAMP:20260419T115659
CREATED:20240826T224509Z
LAST-MODIFIED:20240826T224509Z
UID:10000387-1724659200-1724691600@yesfm.com
SUMMARY:Grange Freewill Dinner
DESCRIPTION:Freewill Dinner \nKendrew Grange 891 \nStevenson Rd \nThursday August 29\, 2024 \n** Take Out Only ** \nServing begins: 4:30 pm \nMeal includes: Chicken and biscuits\, corn on the cob\, dessert.
URL:https://yesfm.com/event/grange-freewill-dinner/
CATEGORIES:Local Events
ATTACH;FMTTYPE=image/jpeg:https://yesfm.com/site/wp-content/uploads/2024/08/chicken-583761_1280-3.jpg
END:VEVENT
BEGIN:VEVENT
DTSTART;TZID=America/New_York:20240824T130000
DTEND;TZID=America/New_York:20240824T150000
DTSTAMP:20260419T115659
CREATED:20240814T231655Z
LAST-MODIFIED:20240814T231655Z
UID:10000366-1724504400-1724511600@yesfm.com
SUMMARY:Second Annual Potsdam UMC Youth Car Wash
DESCRIPTION:Second Annual Potsdam UMC Youth Car Wash: to be held Saturday\, August 24th\, 1 – 3pm\, in the United Methodist Church parking lot\, 26 main Street\, Potsdam. All donations will benefit Helping Hands of Potsdam.
URL:https://yesfm.com/event/second-annual-potsdam-umc-youth-car-wash/
CATEGORIES:Local Events
ATTACH;FMTTYPE=image/jpeg:https://yesfm.com/site/wp-content/uploads/2024/08/car-wash-3960877_1280-1.jpg
END:VEVENT
BEGIN:VEVENT
DTSTART;TZID=America/New_York:20240823T113000
DTEND;TZID=America/New_York:20240823T143000
DTSTAMP:20260419T115659
CREATED:20240814T231404Z
LAST-MODIFIED:20240814T231404Z
UID:10000364-1724412600-1724423400@yesfm.com
SUMMARY:chicken barbecue
DESCRIPTION:Gouverneur VFW Post 6338 will host a chicken barbecue on Friday Aug. 23. Half chicken\, mac salad\, baked beans and a roll for $15. Starts at 11:30 a.m. Take-out and drive through.
URL:https://yesfm.com/event/chicken-barbecue-2/
CATEGORIES:Local Events
ATTACH;FMTTYPE=image/jpeg:https://yesfm.com/site/wp-content/uploads/2024/08/chicken-1559548_1280.jpg
END:VEVENT
END:VCALENDAR