BEGIN:VCALENDAR
VERSION:2.0
PRODID:-//YES FM - ECPv6.15.15//NONSGML v1.0//EN
CALSCALE:GREGORIAN
METHOD:PUBLISH
X-WR-CALNAME:YES FM
X-ORIGINAL-URL:https://yesfm.com
X-WR-CALDESC:Events for YES FM
REFRESH-INTERVAL;VALUE=DURATION:PT1H
X-Robots-Tag:noindex
X-PUBLISHED-TTL:PT1H
BEGIN:VTIMEZONE
TZID:America/New_York
BEGIN:DAYLIGHT
TZOFFSETFROM:-0500
TZOFFSETTO:-0400
TZNAME:EDT
DTSTART:20230312T070000
END:DAYLIGHT
BEGIN:STANDARD
TZOFFSETFROM:-0400
TZOFFSETTO:-0500
TZNAME:EST
DTSTART:20231105T060000
END:STANDARD
BEGIN:DAYLIGHT
TZOFFSETFROM:-0500
TZOFFSETTO:-0400
TZNAME:EDT
DTSTART:20240310T070000
END:DAYLIGHT
BEGIN:STANDARD
TZOFFSETFROM:-0400
TZOFFSETTO:-0500
TZNAME:EST
DTSTART:20241103T060000
END:STANDARD
BEGIN:DAYLIGHT
TZOFFSETFROM:-0500
TZOFFSETTO:-0400
TZNAME:EDT
DTSTART:20250309T070000
END:DAYLIGHT
BEGIN:STANDARD
TZOFFSETFROM:-0400
TZOFFSETTO:-0500
TZNAME:EST
DTSTART:20251102T060000
END:STANDARD
END:VTIMEZONE
BEGIN:VEVENT
DTSTART;TZID=America/New_York:20240622T113000
DTEND;TZID=America/New_York:20240622T133000
DTSTAMP:20260424T000619
CREATED:20240613T133054Z
LAST-MODIFIED:20240613T133054Z
UID:10000277-1719055800-1719063000@yesfm.com
SUMMARY:Cancer Survivor Day
DESCRIPTION:In celebration and recognition of Cancer Survivor Day\, the North Star Health Alliance (NSHA) and the Richard E Winter Cancer Center invite cancer survivors from across the North Country to join us on Sunday\, June 22nd at the Gran-View Restaurant in Ogdensburg from 11:30 AM to 1:30 PM for a catered\, sit-down lunch. Survivors and one guest are invited to the NSHA National Cancer Survivors Day Luncheon\, a heartfelt celebration of courage\, resilience\, and hope. We will honor the extraordinary individuals within our community who have triumphed over cancer. Your unwavering strength and resilience inspire us all\, and in recognition of National Cancer Survivors Day\, we will come together to celebrate your journey\, victories\, and indomitable spirit.
URL:https://yesfm.com/event/cancer-survivor-day/
LOCATION:gran view\, 6801 NY-37\, Ogdensburg\, New York\, United States
CATEGORIES:Local Events
ATTACH;FMTTYPE=image/jpeg:https://yesfm.com/site/wp-content/uploads/2024/06/del-3.jpg
END:VEVENT
BEGIN:VEVENT
DTSTART;TZID=America/New_York:20240622T100000
DTEND;TZID=America/New_York:20240622T140000
DTSTAMP:20260424T000619
CREATED:20240619T205449Z
LAST-MODIFIED:20240619T205819Z
UID:10000292-1719050400-1719064800@yesfm.com
SUMMARY:BBQ/Car Wash fundraiser
DESCRIPTION:Brockville Hyundai (770 Stewart Blvd) is having a BBQ/Car Wash fundraiser for Special Olympics Brockville & Area on Saturday June 22 from 10 to 2.
URL:https://yesfm.com/event/bbq-car-wash-fundraiser/
LOCATION:770 Stewart Blvd\, Brockville\, ON K6V 5T4\, Canada
CATEGORIES:Local Events
ATTACH;FMTTYPE=image/jpeg:https://yesfm.com/site/wp-content/uploads/2024/06/car-wash-3960877_1280.jpg
END:VEVENT
BEGIN:VEVENT
DTSTART;VALUE=DATE:20240622
DTEND;VALUE=DATE:20240624
DTSTAMP:20260424T000619
CREATED:20240618T024956Z
LAST-MODIFIED:20240618T024956Z
UID:10000289-1719014400-1719187199@yesfm.com
SUMMARY:community wide garage sales
DESCRIPTION:The village and township of Massena will host its community wide garage sales on Saturday\, June 22 and Sunday\, June 23. Residents are welcomed to host a garage/yard sale
URL:https://yesfm.com/event/community-wide-garage-sales/
LOCATION:Massena\, NY
ATTACH;FMTTYPE=image/jpeg:https://yesfm.com/site/wp-content/uploads/2024/06/clothes-5371410_1280-3.jpg
END:VEVENT
BEGIN:VEVENT
DTSTART;TZID=America/New_York:20240621T190000
DTEND;TZID=America/New_York:20240621T220000
DTSTAMP:20260424T000619
CREATED:20240618T024826Z
LAST-MODIFIED:20240618T024826Z
UID:10000288-1718996400-1719007200@yesfm.com
SUMMARY:TRIVIA NIGHT
DESCRIPTION:TRIVIA NIGHT Friday\, June 21 at American Legion Post #420\, Fenton Street\, Waddington Doors open at 6:30 PM – Trivia starts at 7:00 PM Register at the Door Entry fee-: $20 per team – up to 6 players Prizes
URL:https://yesfm.com/event/trivia-night/
LOCATION:23 Fenton St\, Waddington\, NY 13694
CATEGORIES:Local Events
ATTACH;FMTTYPE=image/jpeg:https://yesfm.com/site/wp-content/uploads/2024/06/woman-687560_1280-4.jpg
END:VEVENT
BEGIN:VEVENT
DTSTART;TZID=America/New_York:20240621T160000
DTEND;TZID=America/New_York:20240621T210000
DTSTAMP:20260424T000619
CREATED:20240613T133454Z
LAST-MODIFIED:20240613T133454Z
UID:10000278-1718985600-1719003600@yesfm.com
SUMMARY:Summer Nights in The Falls
DESCRIPTION:Summer Nights in The Falls concert series & Cornhole with Seaway Honey Holes! June 21: 4 pm – 9 pm. Cornhole Tournament registration 5pm. Tournament starts at 6pm. Food Trucks and more in Rensselaer Falls to raise money for Falls Fest!
URL:https://yesfm.com/event/summer-nights-in-the-falls/
LOCATION:rensselaer falls\, Pioneer Park\, Rensselaer Falls\, 13680\, United States
CATEGORIES:Local Events
ATTACH;FMTTYPE=image/jpeg:https://yesfm.com/site/wp-content/uploads/2024/06/del-4.jpg
END:VEVENT
BEGIN:VEVENT
DTSTART;TZID=America/New_York:20240621T103000
DTEND;TZID=America/New_York:20240621T160000
DTSTAMP:20260424T000619
CREATED:20240618T024525Z
LAST-MODIFIED:20240618T024525Z
UID:10000287-1718965800-1718985600@yesfm.com
SUMMARY:Red Cross Blood Drive
DESCRIPTION:St. Lawrence Health is sponsoring a Red Cross Blood Drive on Friday\, June 21 in the Potsdam High School Auditorium\, Leroy Street\, Potsdam. Hours are 10:30 am to 4:00 pm.\nDonors must be healthy\, at least 16 years of age\, and weigh at least 110 lbs. Please consider a Double Red donation if you are O Neg\, O Pos\, A Neg\, or B Neg.\nDonors can pre-register using RapidPass (www.redcrossblood.org/rapidpass). Pre-registration can only be completed the day of the drive prior to arrival.\nRegistration can be made online at www.redcrossblood.org\, or by contacting 1 (800) RED CROSS. First time donors and walk-ins are welcome.\nFor a list of upcoming blood drives sponsored by St. Lawrence Health\, please visit https://stlawrencehealthsystem.org/about/events.
URL:https://yesfm.com/event/red-cross-blood-drive/
LOCATION:29 Leroy St\, Potsdam\, NY 13676
CATEGORIES:Local Events
ATTACH;FMTTYPE=image/jpeg:https://yesfm.com/site/wp-content/uploads/2024/06/earth-g5edf97dac_1920.jpg
END:VEVENT
BEGIN:VEVENT
DTSTART;TZID=America/New_York:20240621T070000
DTEND;TZID=America/New_York:20240621T160000
DTSTAMP:20260424T000619
CREATED:20240613T141610Z
LAST-MODIFIED:20240613T141610Z
UID:10000281-1718953200-1718985600@yesfm.com
SUMMARY:Uniform\, Shoe and Accessory Sale
DESCRIPTION:Uniform\, Shoe and Accessory Sale Sponsored by the Massena Hospital Foundation. One Day Only! Friday\, June 21 From 7am to 4pm at the Community Education Room and Lower Level Conference Room at Massena Hospital.
URL:https://yesfm.com/event/uniform-shoe-and-accessory-sale/
LOCATION:massena hospital\, 1 Hospital Drive\, Massena\, United States
CATEGORIES:Local Events
ATTACH;FMTTYPE=image/jpeg:https://yesfm.com/site/wp-content/uploads/2024/06/del-7.jpg
END:VEVENT
BEGIN:VEVENT
DTSTART;TZID=America/New_York:20240620T080000
DTEND;TZID=America/New_York:20240620T120000
DTSTAMP:20260424T000619
CREATED:20240613T130532Z
LAST-MODIFIED:20240613T131511Z
UID:10000272-1718870400-1718884800@yesfm.com
SUMMARY:Food Truck Thursdays
DESCRIPTION:Weather depending Clifton-Fine Hospital will be hosting Food Truck Thursdays (next 6/20)with Nibbles Snackery and PorkBusters BBQ. Both accept cash or card and will be through October from 11am – 5 pm. This is available to all employees and surrounding community members to take advantage of.
URL:https://yesfm.com/event/food-truck-thursdays/
LOCATION:clifton fine hospial\, 1014 Oswegatchie Trail Rd\, Star Lake\, NY\, 13690\, United States
CATEGORIES:Local Events
ATTACH;FMTTYPE=image/jpeg:https://yesfm.com/site/wp-content/uploads/2024/06/domino-studio-geeZzrAXyMQ-unsplash.jpg
END:VEVENT
BEGIN:VEVENT
DTSTART;TZID=America/New_York:20240616T180000
DTEND;TZID=America/New_York:20240616T210000
DTSTAMP:20260424T000619
CREATED:20240613T132511Z
LAST-MODIFIED:20240613T132511Z
UID:10000276-1718560800-1718571600@yesfm.com
SUMMARY:Lisbon Cheer Trivia Night
DESCRIPTION:Lisbon Cheer Trivia Night Friday at 6 at Doug’s Tavern in Heuvelton! $10 per person\, teams of 4 to 6. Basket Raffle\, 50/50\, Best Costume and 1st and 2nd place winners! For more 315-514-4785!
URL:https://yesfm.com/event/lisbon-cheer-trivia-night/
LOCATION:doug’s tavern\, 36 N State\, Heuvelton\, 13654\, United States
CATEGORIES:Local Events
ATTACH;FMTTYPE=image/jpeg:https://yesfm.com/site/wp-content/uploads/2024/06/del-2.jpg
END:VEVENT
BEGIN:VEVENT
DTSTART;TZID=America/New_York:20240616T120000
DTEND;TZID=America/New_York:20240616T150000
DTSTAMP:20260424T000619
CREATED:20240603T184010Z
LAST-MODIFIED:20240603T184010Z
UID:10000005-1718539200-1718550000@yesfm.com
SUMMARY:Father's Day Chicken BBQ
DESCRIPTION:Rensselaer Falls Fire & Rescue Father’s Day Chicken BBQ Sun day June 16th at Noon at Rensselaer Falls Fire Station.  $15 per person  Driver Thru/Take-Out Only  1/2 a chicken\, salt potatoes\, baked beans\, coleslaw\, dessert.  Pre-orders can be placed 6/13\, 6/14\, 6/15 from 6pm – 8pm; and 6/16 until sold out.  Pre-order phone number:  315-344-8853.
URL:https://yesfm.com/event/fathers-day-chicken-bbq/
LOCATION:Rensselaer Falls Fire Department\, Rensselaer Street\, Rensselaer Falls\, NY\, United States
CATEGORIES:Local Events
ATTACH;FMTTYPE=image/webp:https://yesfm.com/site/wp-content/uploads/2024/06/chicken-1559548-1280.webp
END:VEVENT
BEGIN:VEVENT
DTSTART;TZID=America/New_York:20240616T090000
DTEND;TZID=America/New_York:20240616T150000
DTSTAMP:20260424T000619
CREATED:20240603T183821Z
LAST-MODIFIED:20240603T183821Z
UID:10000004-1718528400-1718550000@yesfm.com
SUMMARY:1st Father's Day Car Show
DESCRIPTION:1st Father’s Day Car Show!  This event is FREE for the public to attend and only $10 per car registration!  Sunday\, June 16th  9:00 AM- 3:00 PM at Spencerville Fairgrounds   They will  have food trucks on site.  check thewebsite spencervillefair.ca
URL:https://yesfm.com/event/1st-fathers-day-car-show/
LOCATION:The Spencerville Fair\, Ryan Street\, Spencerville\, Ontario\, Canada
ATTACH;FMTTYPE=image/webp:https://yesfm.com/site/wp-content/uploads/2024/06/ford-fairlane-586930-1280-2.webp
END:VEVENT
BEGIN:VEVENT
DTSTART;TZID=America/New_York:20240616T080000
DTEND;TZID=America/New_York:20240616T140000
DTSTAMP:20260424T000619
CREATED:20240613T130912Z
LAST-MODIFIED:20240613T131209Z
UID:10000273-1718524800-1718546400@yesfm.com
SUMMARY:Pierrepont Volunteer Fire Department’s 36th annual chicken barbecue
DESCRIPTION:Pierrepont Volunteer Fire Department’s 36th annual chicken barbecue will be held at Pierrepont Fire Hall on Father’s Day\, June 16\, starting at noon until sold out. Take out only No Pre Orders Menu: 1/2 chicken\, salt potatoes\, baked beans\, roll\, dessert
URL:https://yesfm.com/event/pierrepont-volunteer-fire-departments-36th-annual-chicken-barbecue/
LOCATION:pierrepont fire hall\, 62 Old County Rd\, Canton\, 13617\, United States
ATTACH;FMTTYPE=image/jpeg:https://yesfm.com/site/wp-content/uploads/2024/06/vincent-keiman-ul_m5dHThaM-unsplash.jpg
END:VEVENT
BEGIN:VEVENT
DTSTART;TZID=America/New_York:20240616T070000
DTEND;TZID=America/New_York:20240616T100000
DTSTAMP:20260424T000619
CREATED:20240603T184155Z
LAST-MODIFIED:20240603T184155Z
UID:10000006-1718521200-1718532000@yesfm.com
SUMMARY:Father's Day Breakfast & Car Show
DESCRIPTION:Father’s Day Breakfast & Car Show on Sunday June 16th\, 7-10am at The Drummond Building in Spencerville\, Ontario.  $10.00  $5 from 10 and under.   What better way to celebrate Father’s Day than with a Breakfast and Car Show!
URL:https://yesfm.com/event/fathers-day-breakfast-car-show/
LOCATION:Spencerville Agricultural Society\, Ryan Street\, Spencerville\,\, Ontario\, Canada
CATEGORIES:Local Events
ATTACH;FMTTYPE=image/webp:https://yesfm.com/site/wp-content/uploads/2024/06/food-2569257-1280-e1768926844471.webp
END:VEVENT
BEGIN:VEVENT
DTSTART;TZID=America/New_York:20240615T110000
DTEND;TZID=America/New_York:20240615T160000
DTSTAMP:20260424T000619
CREATED:20240613T131824Z
LAST-MODIFIED:20240613T131824Z
UID:10000274-1718449200-1718467200@yesfm.com
SUMMARY:2024 Riverfest
DESCRIPTION:JOIN US AS WE KICK OFF THE SUMMER WITH A Block Party Saturday 11 AM-4PM Live music\, food\, vendors\, family activities and more! Location: 300 block Washington Street Ogdensburg\, NY. Presented by the Seaway Festival Special Events Committee.
URL:https://yesfm.com/event/2024-riverfest/
LOCATION:Riverfest\, 300 Washington Street\, Ogdensburg\, New York\, United States
CATEGORIES:Local Events
ATTACH;FMTTYPE=image/jpeg:https://yesfm.com/site/wp-content/uploads/2024/06/del.jpg
END:VEVENT
BEGIN:VEVENT
DTSTART;TZID=America/New_York:20240615T110000
DTEND;TZID=America/New_York:20240615T150000
DTSTAMP:20260424T000619
CREATED:20240603T183625Z
LAST-MODIFIED:20240603T183625Z
UID:10000003-1718449200-1718463600@yesfm.com
SUMMARY:3rd annual community day
DESCRIPTION:The community of Morley will be hosting their 3rd annual community day on June 15th from 11:00am until 3:00pm.\nCome and enjoy a fun day of family friendly activities. There will be hayrides around the village. Also\, this year there will be horse and pony rides. There will be open houses at the Fire Department and the old “English Style” Episcopal Church. Char’s will be hosting a car show.  Visit the book sale at the library\, check out their “Morley History Room”. At the Wesleyan Church will be crafters\, vendors and games including Pickleball. The following organizations will be represented and have demonstrations and games: Boy Scouts\, Canton FFA\, Dairy Promotion\, Cooperative Extension 4H\, energy programs and a garden club.  The Morley Store will be having specials. The “Biking for Books” 50K ride for the library will also be taking place that day.\nKids\, pick up a Morley Card and have it stamped at each station and redeem it that day at the Morley Store for $.50 off an ice cream cone.\nIf possible\, please bring a non-perishable food item or monetary donation for the local food pantry.
URL:https://yesfm.com/event/3rd-annual-community-day/
LOCATION:Morley\, NY\, USA\, Morley\, NY\, United States
CATEGORIES:Local Events
ATTACH;FMTTYPE=image/webp:https://yesfm.com/site/wp-content/uploads/2022/12/team-spirit-gd374daee5-1920.webp
END:VEVENT
BEGIN:VEVENT
DTSTART;TZID=America/New_York:20240615T110000
DTEND;TZID=America/New_York:20240615T140000
DTSTAMP:20260424T000619
CREATED:20240603T174226Z
LAST-MODIFIED:20250605T141740Z
UID:10000002-1718449200-1718460000@yesfm.com
SUMMARY:CHEO Chili Dog Day
DESCRIPTION:CHEO Chili Dog Day Saturday June 15 11-2pm at Iroquois Plaza. Chili Dogs\, Hot Dogs\, Bowl of Chili with Cornbread\, Strawberry Cake\, Train Rides with CHEO Bear\, Bake Sale\, Dirt Racers\, Trucks and Displays. Balloons\, Tattoos and more! Fundraiser for the Childrens Hospital of Eastern Ontario Oncology Department.
URL:https://yesfm.com/event/cheo-chili-dog-day/
LOCATION:Iroquois Shopping Plaza\, Miller Street\, Iroquois\, ON\, Canada\, 1080 Miller St\, Iroquois\, Ontario\, K0E 1K0\, Canada
CATEGORIES:Local Events
ATTACH;FMTTYPE=image/webp:https://yesfm.com/site/wp-content/uploads/2024/06/hot-dog-468401-1280.webp
END:VEVENT
END:VCALENDAR