BEGIN:VCALENDAR
VERSION:2.0
PRODID:-//YES FM - ECPv6.15.15//NONSGML v1.0//EN
CALSCALE:GREGORIAN
METHOD:PUBLISH
X-WR-CALNAME:YES FM
X-ORIGINAL-URL:https://yesfm.com
X-WR-CALDESC:Events for YES FM
REFRESH-INTERVAL;VALUE=DURATION:PT1H
X-Robots-Tag:noindex
X-PUBLISHED-TTL:PT1H
BEGIN:VTIMEZONE
TZID:America/New_York
BEGIN:DAYLIGHT
TZOFFSETFROM:-0500
TZOFFSETTO:-0400
TZNAME:EDT
DTSTART:20240310T070000
END:DAYLIGHT
BEGIN:STANDARD
TZOFFSETFROM:-0400
TZOFFSETTO:-0500
TZNAME:EST
DTSTART:20241103T060000
END:STANDARD
BEGIN:DAYLIGHT
TZOFFSETFROM:-0500
TZOFFSETTO:-0400
TZNAME:EDT
DTSTART:20250309T070000
END:DAYLIGHT
BEGIN:STANDARD
TZOFFSETFROM:-0400
TZOFFSETTO:-0500
TZNAME:EST
DTSTART:20251102T060000
END:STANDARD
BEGIN:DAYLIGHT
TZOFFSETFROM:-0500
TZOFFSETTO:-0400
TZNAME:EDT
DTSTART:20260308T070000
END:DAYLIGHT
BEGIN:STANDARD
TZOFFSETFROM:-0400
TZOFFSETTO:-0500
TZNAME:EST
DTSTART:20261101T060000
END:STANDARD
END:VTIMEZONE
BEGIN:VEVENT
DTSTART;TZID=America/New_York:20251214T163000
DTEND;TZID=America/New_York:20251214T180000
DTSTAMP:20260423T075042
CREATED:20251202T152927Z
LAST-MODIFIED:20251202T152927Z
UID:10001860-1765729800-1765735200@yesfm.com
SUMMARY:Dekalb Tree Lighting
DESCRIPTION:The Town of Dekalb will have the annual tree lighting at the gazebo Sunday December 14 at 4:30 p.m. There will be Christmas music performed by the Hermon Dekalb School band and a visit from Santa. Afterwards everyone is invited to the Dekalb Junction Fire Dept. for snacks and hot cocoa.
URL:https://yesfm.com/event/dekalb-tree-lighting/
LOCATION:Town of Dekalb\, 2907 Co Rd 17\, Dekalb\, United States
CATEGORIES:Local Events
ATTACH;FMTTYPE=image/jpeg:https://yesfm.com/site/wp-content/uploads/2025/12/del-9.jpg
END:VEVENT
BEGIN:VEVENT
DTSTART;TZID=America/New_York:20251214T130000
DTEND;TZID=America/New_York:20251214T150000
DTSTAMP:20260423T075042
CREATED:20251208T161449Z
LAST-MODIFIED:20251208T161449Z
UID:10001865-1765717200-1765724400@yesfm.com
SUMMARY:ACT Bottle Drive
DESCRIPTION:Come get rid of your empty cans and bottles to help the ACT Children’s Theater finish out the year! Bottle Drive Sunday 1-3 at 308 Isabella Street in Ogdensburg. Our goal is to raise enough money to replace the wooden chairs we have\, which are all starting to fall apart\, with folding metal chairs. Please come and support us!
URL:https://yesfm.com/event/act-bottle-drive/
LOCATION:308 Isabella Street\, 308 Isabella Street\, OGDENSBURG\, NY\, 13669\, United States
CATEGORIES:Local Events
ATTACH;FMTTYPE=image/jpeg:https://yesfm.com/site/wp-content/uploads/2025/12/del-12.jpg
END:VEVENT
BEGIN:VEVENT
DTSTART;TZID=America/New_York:20251214T130000
DTEND;TZID=America/New_York:20251214T150000
DTSTAMP:20260423T075042
CREATED:20251118T151228Z
LAST-MODIFIED:20251118T154658Z
UID:10001838-1765717200-1765724400@yesfm.com
SUMMARY:Holiday Craft Event
DESCRIPTION:The Parishville Historical Association will host a holiday craft event Sunday December 14th from 1–3 p.m. at the Parishville Town Hall. Participants can make a handmade ornament\, cards\, or a dozen scones for a $20 fee\, with proceeds benefiting the Parishville Museum Collections Care Fund. Examples of crafts are on the Parishville Museum Facebook page. Pre-registration and payment are required by emailing ParishvilleHA1814@gmail.com
URL:https://yesfm.com/event/holiday-craft-event/
LOCATION:Parishville Town Hall\, 1772 NY 72\, Parishville\, United States
CATEGORIES:Local Events
ATTACH;FMTTYPE=image/jpeg:https://yesfm.com/site/wp-content/uploads/2025/11/kelly-sikkema-PFlWJyx6IFk-unsplash.jpg
END:VEVENT
BEGIN:VEVENT
DTSTART;TZID=America/New_York:20251213T190000
DTEND;TZID=America/New_York:20251213T213000
DTSTAMP:20260423T075042
CREATED:20251103T150950Z
LAST-MODIFIED:20251103T150950Z
UID:10001802-1765652400-1765661400@yesfm.com
SUMMARY:A Christmas Carol the Musical
DESCRIPTION:A Christmas Carol the Musical\nPresented by The Arts Program of NNY \nJoin us for a spectacular musical telling of Ebenezer Scrooge and the ghosts of Christmas Past\, Christmas Present\, and Christmas Future! \nPerformances: December 11\, 12\, and 13 at 7pm\nSaturday Matinee: December 13 at 1pm\nLocation: Christian Fellowship Center\, 3662 CR 14\, Madrid\, NY\nTickets: $5-$15 at the door or online at theartsprogram.org
URL:https://yesfm.com/event/a-christmas-carol-the-musical/2025-12-13/2/
LOCATION:Christian Fellowship Center in Madrid\, 3662 CR 14\, Madrid\, 13660\, United States
CATEGORIES:Local Events
ATTACH;FMTTYPE=image/png:https://yesfm.com/site/wp-content/uploads/2025/10/A-Christmas-Carol-3-e1762182576698.png
ORGANIZER;CN="The Arts Program of NNY":MAILTO:info@theartsprogram.org
END:VEVENT
BEGIN:VEVENT
DTSTART;TZID=America/New_York:20251213T170000
DTEND;TZID=America/New_York:20251213T210000
DTSTAMP:20260423T075042
CREATED:20251201T150245Z
LAST-MODIFIED:20251201T150245Z
UID:10001857-1765645200-1765659600@yesfm.com
SUMMARY:Lights On The River
DESCRIPTION:Lights on the River will be open at Lisbon Beach starting Saturday December 13th from 5–9 p.m. The free drive-through holiday display invites the public to enjoy community-made light scenes and donate food or funds for North Country food pantries. Organized by the Town of Lisbon and the Lisbon Recreation Department\, the event marks its 16th year supporting local families.
URL:https://yesfm.com/event/lights-on-the-river-2/
LOCATION:Lisbon Beach\, 9975 State Highway 37\, Lisbon\, United States
CATEGORIES:Local Events
ATTACH;FMTTYPE=image/jpeg:https://yesfm.com/site/wp-content/uploads/2025/12/del-8.jpg
END:VEVENT
BEGIN:VEVENT
DTSTART;TZID=America/New_York:20251213T163000
DTEND;TZID=America/New_York:20251213T210000
DTSTAMP:20260423T075042
CREATED:20251208T162321Z
LAST-MODIFIED:20251208T162354Z
UID:10001867-1765643400-1765659600@yesfm.com
SUMMARY:River Lights
DESCRIPTION:2025 River Lights Festival\, a free community event filled with holiday cheer at Bayside Park\, Morristown.\n\nThis year’s festivities include:• Extended Christmas light displays• Family fun with fire pits• Wagon and train rides for kids• Visits with Mr. and Mrs. Claus• Explore Grinch land • Live DJ playing Christmas music• Food and drinks from local businesses• Local Crafts and Gifts• Various raffles for extra excitement\n\n Bundle up\, bring the whole family\, and join us for a magical evening of holiday celebration on Saturday\, Dec 13 at 4:30 PM!
URL:https://yesfm.com/event/37977/
LOCATION:Bayside Park\, 301 Main Street\, MORRISTOWN\, NY\, NY\, 13669
CATEGORIES:Local Events
ATTACH;FMTTYPE=image/jpeg:https://yesfm.com/site/wp-content/uploads/2025/12/del-13.jpg
END:VEVENT
BEGIN:VEVENT
DTSTART;TZID=America/New_York:20251213T130000
DTEND;TZID=America/New_York:20251213T153000
DTSTAMP:20260423T075042
CREATED:20251103T150950Z
LAST-MODIFIED:20251103T150950Z
UID:10001801-1765630800-1765639800@yesfm.com
SUMMARY:A Christmas Carol the Musical
DESCRIPTION:A Christmas Carol the Musical\nPresented by The Arts Program of NNY \nJoin us for a spectacular musical telling of Ebenezer Scrooge and the ghosts of Christmas Past\, Christmas Present\, and Christmas Future! \nPerformances: December 11\, 12\, and 13 at 7pm\nSaturday Matinee: December 13 at 1pm\nLocation: Christian Fellowship Center\, 3662 CR 14\, Madrid\, NY\nTickets: $5-$15 at the door or online at theartsprogram.org
URL:https://yesfm.com/event/a-christmas-carol-the-musical/2025-12-13/1/
LOCATION:Christian Fellowship Center in Madrid\, 3662 CR 14\, Madrid\, 13660\, United States
CATEGORIES:Local Events
ATTACH;FMTTYPE=image/png:https://yesfm.com/site/wp-content/uploads/2025/10/A-Christmas-Carol-3-e1762182576698.png
ORGANIZER;CN="The Arts Program of NNY":MAILTO:info@theartsprogram.org
END:VEVENT
BEGIN:VEVENT
DTSTART;TZID=America/New_York:20251213T120000
DTEND;TZID=America/New_York:20251213T160000
DTSTAMP:20260423T075042
CREATED:20251208T160955Z
LAST-MODIFIED:20251208T160955Z
UID:10001864-1765627200-1765641600@yesfm.com
SUMMARY:Holiday P.J. Party
DESCRIPTION:Get cozy in your favorite pajamas\, grab your favorite plushy to snuggle\, and join us on Saturday\, December 13th from Noon to 4 for a Holiday P.J. Party at Kid’s Place at the Remington in Ogdensburg! Holiday movies\, holiday stories\, holiday themed arts and crafts activities\, holiday bingo\, and snacks like popcorn\, cookies and hot cocoa. Children must be accompanied by an adult and adults must be accompanied by a child.
URL:https://yesfm.com/event/holiday-p-j-party/
LOCATION:Frederic Remington Art Museum\, 303 Washington Street\, Ogdensburg\, 13669\, United States
CATEGORIES:Local Events
ATTACH;FMTTYPE=image/jpeg:https://yesfm.com/site/wp-content/uploads/2025/12/del-11.jpg
END:VEVENT
BEGIN:VEVENT
DTSTART;TZID=America/New_York:20251213T113000
DTEND;TZID=America/New_York:20251213T130000
DTSTAMP:20260423T075042
CREATED:20251118T143421Z
LAST-MODIFIED:20251118T143421Z
UID:10001832-1765625400-1765630800@yesfm.com
SUMMARY:Winter Fun Children's Program
DESCRIPTION:The Ogdensburg History Museum is excited to announce its upcoming Winter Fun children’s program on Saturday\, December 13th at 11:30 am. The event will take place at the museum\, located at 206 Ford St\, and is free and open to the public. \n  \nThe Winter Fun program will feature a variety of fun and educational activities. Participants will have the opportunity to take a horse-drawn wagon ride\, enjoy hot cocoa\, and play games. \n  \nSpace for the Winter Fun program is limited to 25 children\, so pre-registration is required. Interested families can register their child online at ogdensburghistorymuseum.com. Children must be accompanied by an adult for the duration of the event. \n\nThe Ogdensburg History Museum is dedicated to preserving and sharing the rich history of Ogdensburg and the surrounding area. The museum offers a variety of exhibits\, educational programs\, and events throughout the year for all ages to enjoy. \n  \nFor more information about the Winter Fun program or the Ogdensburg History Museum\, please visit ogdensburghistorymuseum.com or contact us at oburghistorymuseum@gmail.com.
URL:https://yesfm.com/event/winter-fun-childrens-program/
LOCATION:Ogdensburg History Museum\, 206 Ford Street\, OGDENSBURG\, NY\, 13669\, United States
CATEGORIES:Local Events
ATTACH;FMTTYPE=image/jpeg:https://yesfm.com/site/wp-content/uploads/2025/11/del-13.jpg
END:VEVENT
BEGIN:VEVENT
DTSTART;TZID=America/New_York:20251213T100000
DTEND;TZID=America/New_York:20251214T180000
DTSTAMP:20260423T075042
CREATED:20251211T164415Z
LAST-MODIFIED:20251211T164436Z
UID:10001869-1765620000-1765735200@yesfm.com
SUMMARY:Toys For Tots Toy Drive
DESCRIPTION:Haverstock Farm Christmas Shop in Massena is hosting a Toys for Tots toy drive this weekend\, Dec 13th + 14th during our customer appreciation sale! Bring your new\, unwrapped toys and drop them off in our box at our Christmas shop.
URL:https://yesfm.com/event/toys-for-tots-toy-drive/
LOCATION:326 Haverstock Road Massena NY 13662\, 326 Haverstock Road\, Massena\, 13662\, United States
CATEGORIES:Local Events
ATTACH;FMTTYPE=image/jpeg:https://yesfm.com/site/wp-content/uploads/2025/12/1-e1765471447398.jpg
END:VEVENT
BEGIN:VEVENT
DTSTART;TZID=America/New_York:20251213T100000
DTEND;TZID=America/New_York:20251213T160000
DTSTAMP:20260423T075042
CREATED:20251201T145245Z
LAST-MODIFIED:20251201T145245Z
UID:10001856-1765620000-1765641600@yesfm.com
SUMMARY:Craft & Vendor Show
DESCRIPTION:The Lisbon Central Drama Club will host its fourth annual craft and vendor show from 10 a.m. to 4 p.m. Saturday December 13th in the school cafeteria. The event is held in conjunction with Christmas in the Hamlet activities.
URL:https://yesfm.com/event/craft-vendor-show-3/
LOCATION:lisbon central school\, 6866 County Route 10\, Lisbon\, United States
CATEGORIES:Local Events
ATTACH;FMTTYPE=image/jpeg:https://yesfm.com/site/wp-content/uploads/2025/12/del-7.jpg
END:VEVENT
BEGIN:VEVENT
DTSTART;TZID=America/New_York:20251213T100000
DTEND;TZID=America/New_York:20251213T150000
DTSTAMP:20260423T075042
CREATED:20251202T153337Z
LAST-MODIFIED:20251202T153337Z
UID:10001861-1765620000-1765638000@yesfm.com
SUMMARY:12th Annual Holiday Craft Fair
DESCRIPTION:12th Annual Holiday Craft Fair at Lawrence Ave. Elementary School in Potsdam — and we’re looking for vendors to join the fun!  Saturday\, December 13\, 2025 10AM–3PM Lawrence Ave. Elementary School\, PotsdamVendors\, raffles\, a 50/50\, concessions\, face painting\, and even Santa himself — it’s a day full of festive fun for the whole family!
URL:https://yesfm.com/event/12th-annual-holiday-craft-fair/
LOCATION:lawrence avenue elementary school\, 46 Lawrence Avenue\, Potsdam\, United States
CATEGORIES:Local Events
ATTACH;FMTTYPE=image/jpeg:https://yesfm.com/site/wp-content/uploads/2025/12/del-10.jpg
END:VEVENT
BEGIN:VEVENT
DTSTART;TZID=America/New_York:20251213T090000
DTEND;TZID=America/New_York:20251213T120000
DTSTAMP:20260423T075042
CREATED:20251208T161817Z
LAST-MODIFIED:20251208T161817Z
UID:10001866-1765616400-1765627200@yesfm.com
SUMMARY:Free Breakfast with Santa
DESCRIPTION:We would like to invite any and all community members for a free breakfast with Santa at the Lisbon Fire State Saturday 9 to Noon! The menu will be pancakes\, scrambled eggs\, toast\, home fries\, bacon and sausage. There will be milk\, coffee and juice as well. We would like to give back and say thanks for all the support we get from everyone throughout the year. And make sure to bring the kids! Rumor has it Santa will be joining everyone!!
URL:https://yesfm.com/event/free-breakfast-with-santa/
LOCATION:Lisbon Fire Department\, 7002 County Route 10\, Lisbon\, United States
CATEGORIES:Local Events
ATTACH;FMTTYPE=image/webp:https://yesfm.com/site/wp-content/uploads/2018/12/Breakfast-with-Santa.webp
END:VEVENT
BEGIN:VEVENT
DTSTART;TZID=America/New_York:20251213T090000
DTEND;TZID=America/New_York:20251213T120000
DTSTAMP:20260423T075042
CREATED:20251201T144828Z
LAST-MODIFIED:20251201T144828Z
UID:10001855-1765616400-1765627200@yesfm.com
SUMMARY:Annual Christmas Cookie Sale
DESCRIPTION:Annual Christmas Cookie Sale at the First Congregational Church\, Five Mile Road\, Lisbon\, on Saturday\, December 13 from 9am to noon. Dozens of varieties of delicious\, homemade Christmas cookies will be available for your choosing. The cookies will be sold by the pound. Stop in on your way to Lisbon’s “Holidays in the Hamlet”. We look forward to seeing all the Christmas Cookie Monsters this year.
URL:https://yesfm.com/event/annual-christmas-cookie-sale-2/
LOCATION:First Congregational Church of Lisbon\, 9226 Five Mile Line Road\, Lisbon\, United States
CATEGORIES:Local Events
ATTACH;FMTTYPE=image/png:https://yesfm.com/site/wp-content/uploads/2025/12/del-1.png
END:VEVENT
BEGIN:VEVENT
DTSTART;TZID=America/New_York:20251213T080000
DTEND;TZID=America/New_York:20251213T100000
DTSTAMP:20260423T075042
CREATED:20251202T152553Z
LAST-MODIFIED:20251202T152553Z
UID:10001859-1765612800-1765620000@yesfm.com
SUMMARY:Buffet Breakfast December 13
DESCRIPTION:Heuvelton AMVETS Post 1997 will host a buffet breakfast Saturday December 13 from 8 to 11 a.m. Donations are appreciated.
URL:https://yesfm.com/event/buffet-breakfast-december-13/
LOCATION:Heuvelton AMVETS\, 107 State Street\, Heuvelton\, United States
CATEGORIES:Local Events
ATTACH;FMTTYPE=image/webp:https://yesfm.com/site/wp-content/uploads/2019/01/All-You-Can-Eat-BreakfastBuffet.webp
END:VEVENT
BEGIN:VEVENT
DTSTART;TZID=America/New_York:20251212T190000
DTEND;TZID=America/New_York:20251212T213000
DTSTAMP:20260423T075042
CREATED:20251103T150950Z
LAST-MODIFIED:20251103T150950Z
UID:10001800-1765566000-1765575000@yesfm.com
SUMMARY:A Christmas Carol the Musical
DESCRIPTION:A Christmas Carol the Musical\nPresented by The Arts Program of NNY \nJoin us for a spectacular musical telling of Ebenezer Scrooge and the ghosts of Christmas Past\, Christmas Present\, and Christmas Future! \nPerformances: December 11\, 12\, and 13 at 7pm\nSaturday Matinee: December 13 at 1pm\nLocation: Christian Fellowship Center\, 3662 CR 14\, Madrid\, NY\nTickets: $5-$15 at the door or online at theartsprogram.org
URL:https://yesfm.com/event/a-christmas-carol-the-musical/2025-12-12/
LOCATION:Christian Fellowship Center in Madrid\, 3662 CR 14\, Madrid\, 13660\, United States
CATEGORIES:Local Events
ATTACH;FMTTYPE=image/png:https://yesfm.com/site/wp-content/uploads/2025/10/A-Christmas-Carol-3-e1762182576698.png
ORGANIZER;CN="The Arts Program of NNY":MAILTO:info@theartsprogram.org
END:VEVENT
BEGIN:VEVENT
DTSTART;TZID=America/New_York:20251212T180000
DTEND;TZID=America/New_York:20251212T193000
DTSTAMP:20260423T075042
CREATED:20251201T144209Z
LAST-MODIFIED:20251201T144209Z
UID:10001853-1765562400-1765567800@yesfm.com
SUMMARY:Children's Christmas Event
DESCRIPTION:Colton Community Church will host a children’s Christmas event Friday December 12th 6 to 7:30 p.m. at 11 Church Street. The event will include crafts\, games\, and other holiday activities for children.
URL:https://yesfm.com/event/childrens-christmas-event/
LOCATION:Colton Community Curch\, 11 Church Street\, Colton\, United States
CATEGORIES:Local Events
ATTACH;FMTTYPE=image/jpeg:https://yesfm.com/site/wp-content/uploads/2025/12/del-5.jpg
END:VEVENT
BEGIN:VEVENT
DTSTART;TZID=America/New_York:20251211T190000
DTEND;TZID=America/New_York:20251211T213000
DTSTAMP:20260423T075042
CREATED:20251103T151016Z
LAST-MODIFIED:20251103T151016Z
UID:10001799-1765479600-1765488600@yesfm.com
SUMMARY:A Christmas Carol the Musical
DESCRIPTION:A Christmas Carol the Musical\nPresented by The Arts Program of NNY \nJoin us for a spectacular musical telling of Ebenezer Scrooge and the ghosts of Christmas Past\, Christmas Present\, and Christmas Future! \nPerformances: December 11\, 12\, and 13 at 7pm\nSaturday Matinee: December 13 at 1pm\nLocation: Christian Fellowship Center\, 3662 CR 14\, Madrid\, NY\nTickets: $5-$15 at the door or online at theartsprogram.org
URL:https://yesfm.com/event/a-christmas-carol-the-musical-2/
LOCATION:Christian Fellowship Center in Madrid\, 3662 CR 14\, Madrid\, 13660\, United States
CATEGORIES:Local Events
ATTACH;FMTTYPE=image/png:https://yesfm.com/site/wp-content/uploads/2025/10/A-Christmas-Carol-3-e1762182576698.png
ORGANIZER;CN="The Arts Program of NNY":MAILTO:info@theartsprogram.org
END:VEVENT
BEGIN:VEVENT
DTSTART;TZID=America/New_York:20251207T140000
DTEND;TZID=America/New_York:20251207T160000
DTSTAMP:20260423T075042
CREATED:20251201T143855Z
LAST-MODIFIED:20251201T143855Z
UID:10001852-1765116000-1765123200@yesfm.com
SUMMARY:Children's Christmas Party
DESCRIPTION:The Parishville Amvets Ladies Auxiliary will host a children’s Christmas party Sunday from 2 to 4 p.m. at the Amvets Hall\, 25 Rutman Road. The event will include games\, snacks\, crafts\, and a visit from Santa.
URL:https://yesfm.com/event/childrens-christmas-party/
LOCATION:Amvet’s hall\, 25 Rutman Rd Parishville\, NY\, USA
ATTACH;FMTTYPE=image/jpeg:https://yesfm.com/site/wp-content/uploads/2025/12/del-4.jpg
END:VEVENT
BEGIN:VEVENT
DTSTART;TZID=America/New_York:20251207T140000
DTEND;TZID=America/New_York:20251207T160000
DTSTAMP:20260423T075042
CREATED:20251118T153320Z
LAST-MODIFIED:20251118T153320Z
UID:10001840-1765116000-1765123200@yesfm.com
SUMMARY:Kid's Christmas Party
DESCRIPTION:Join us for some Christmas fun at MERC’s Kids Christmas Party on Sunday\, December 7th from 2-4 pm.\nThere will be crafts\, snacks\, games and a special visit from Santa.
URL:https://yesfm.com/event/kids-christmas-party/
LOCATION:MERC\, 120 E. McLean\, North Augusta\, Canada
CATEGORIES:Local Events
ATTACH;FMTTYPE=image/jpeg:https://yesfm.com/site/wp-content/uploads/2025/11/del-17.jpg
END:VEVENT
BEGIN:VEVENT
DTSTART;TZID=America/New_York:20251206T170000
DTEND;TZID=America/New_York:20251206T200000
DTSTAMP:20260423T075042
CREATED:20251201T143145Z
LAST-MODIFIED:20251201T143145Z
UID:10001850-1765040400-1765051200@yesfm.com
SUMMARY:Light the Night Parade
DESCRIPTION:The Potsdam Chamber of Commerce and the Village of Potsdam host the Light the Night Parade; parade lineup at 5 p.m.; parade at 6 p.m. through downtown; tree lighting ceremony in Ives Park and a Holiday Market at Market Street Mall; parade welcomes participants like local businesses\, schools\, community organizations and families; entries may include floats\, decorated vehicles\, musical performances\, or creative displays; parade applications and guidelines available at www.potsdamchamber.com; no cost to enter; for more info about the parade\, contact director@potsdamchamber.com;  for Holiday Market inquiries\, email marketsquarepotsdam@gmail.com.
URL:https://yesfm.com/event/light-the-night-parade/
LOCATION:Market Square Mall\, Potsdam NY\, 22 Depot St\, Potsdam\, NY\, 13676\, United States
CATEGORIES:Local Events
ATTACH;FMTTYPE=image/jpeg:https://yesfm.com/site/wp-content/uploads/2025/12/del-2.jpg
END:VEVENT
BEGIN:VEVENT
DTSTART;TZID=America/New_York:20251206T170000
DTEND;TZID=America/New_York:20251206T200000
DTSTAMP:20260423T075042
CREATED:20251104T151551Z
LAST-MODIFIED:20251104T151551Z
UID:10001813-1765040400-1765051200@yesfm.com
SUMMARY:Brockville Santa Claus Parade
DESCRIPTION:The City of Brockville and Brockville Tourism present the 2025 Santa Claus Parade!\nThis annual tradition brings together community groups\, local businesses\, and families for a magical celebration.\nMark your calendars for Saturday\, December 6th at 5pm and get ready to experience the wonder of the season.\nThis year’s theme is “Hometown Holiday” celebrating the charm of a cozy Brockville holiday village where sparkling lights\, festive floats\, and community spirit bring the season to life.\nFloat registration is free and will be opening soon.
URL:https://yesfm.com/event/brockville-santa-claus-parade/
LOCATION:Downtown Brockville
CATEGORIES:Local Events
ATTACH;FMTTYPE=image/jpeg:https://yesfm.com/site/wp-content/uploads/2025/11/del-5.jpg
END:VEVENT
BEGIN:VEVENT
DTSTART;TZID=America/New_York:20251206T170000
DTEND;TZID=America/New_York:20251206T190000
DTSTAMP:20260423T075042
CREATED:20251201T143517Z
LAST-MODIFIED:20251201T143517Z
UID:10001851-1765040400-1765047600@yesfm.com
SUMMARY:Parade of Lights
DESCRIPTION:The annual Norwood Parade of Lights parade will be held Saturday\, Dec. 6\, at 5 p.m. in downtown Norwood. Santa will arrive to kick off the season on a parade float. \nFollowing the parade in Norwood Park\,  Santa will be available for free photos\, along with wagon rides\, candy\, cocoa\, cookies\, a raffle\, holiday tunes by the Norwood Brass Firemen and a bonfire will be offered until 7:30 p.m.
URL:https://yesfm.com/event/parade-of-lights/
LOCATION:Lakeshore Drive\, Norwood\, NY\, United States\, New York
CATEGORIES:Local Events
ATTACH;FMTTYPE=image/jpeg:https://yesfm.com/site/wp-content/uploads/2025/12/del-3.jpg
END:VEVENT
BEGIN:VEVENT
DTSTART;TZID=America/New_York:20251206T130000
DTEND;TZID=America/New_York:20251206T150000
DTSTAMP:20260423T075042
CREATED:20251201T142132Z
LAST-MODIFIED:20251201T143242Z
UID:10001846-1765026000-1765033200@yesfm.com
SUMMARY:Community Christmas Party
DESCRIPTION:Community Christmas Party at the Massena Moose Lodge\, 4 Ames St.; Saturday 1 p.m. snacks and refreshments; ugly sweater contest with prizes; new games for kids; special visits from the Grinch and Cindy Lou Who.
URL:https://yesfm.com/event/community-christmas-party/
LOCATION:Massena Moose\, 4 Ames Street\, Massena\, United States
CATEGORIES:Local Events
ATTACH;FMTTYPE=image/jpeg:https://yesfm.com/site/wp-content/uploads/2025/12/del.jpg
END:VEVENT
BEGIN:VEVENT
DTSTART;TZID=America/New_York:20251206T130000
DTEND;TZID=America/New_York:20251206T150000
DTSTAMP:20260423T075042
CREATED:20251118T154342Z
LAST-MODIFIED:20251118T154342Z
UID:10001842-1765026000-1765033200@yesfm.com
SUMMARY:Santa At The Hammond Fire Department
DESCRIPTION:Come get in the Christmas spirit with us at Hammond Fire Department on December 6th from 1-3p All are welcome!!\nMeet Santaand Mrs Claus (kids 12 and under will receive a gift)bring your  to get lots of pictures!Hot cocoa barSugar cookie decoratingRaffles And More!!!\nIf you would like to help out or give a donation towards this event please contact Denise at 315-222-8398
URL:https://yesfm.com/event/santa-at-the-hammond-fire-department/
LOCATION:Hammond Fire Department\, 300 Lake Street\, Hammond\, United States
CATEGORIES:Local Events
ATTACH;FMTTYPE=image/jpeg:https://yesfm.com/site/wp-content/uploads/2025/11/del-19.jpg
END:VEVENT
BEGIN:VEVENT
DTSTART;TZID=America/New_York:20251206T110000
DTEND;TZID=America/New_York:20251206T230000
DTSTAMP:20260423T075042
CREATED:20251201T142816Z
LAST-MODIFIED:20251201T142816Z
UID:10001849-1765018800-1765062000@yesfm.com
SUMMARY:CHMC Festival Of The Trees
DESCRIPTION:22nd annual Festival of the Trees Saturday at the Freight House in Ogdensburg! Free events 11-4 – Hollyberry Craft Sale\, Choice Auction – 6pm $15 for Cash Bar\, Finger Foods and Tree Auction. Benefits CHMC Auxiliary!
URL:https://yesfm.com/event/chmc-festival-of-the-trees/
LOCATION:Freight House\, 20 Market Street\, OGDENSBURG\, NY\, United States
CATEGORIES:Local Events
ATTACH;FMTTYPE=image/png:https://yesfm.com/site/wp-content/uploads/2025/12/del.png
END:VEVENT
BEGIN:VEVENT
DTSTART;TZID=America/New_York:20251206T110000
DTEND;TZID=America/New_York:20251206T170000
DTSTAMP:20260423T075042
CREATED:20251104T150812Z
LAST-MODIFIED:20251104T150944Z
UID:10001812-1765018800-1765040400@yesfm.com
SUMMARY:Brockville Outdoor Christmas Market
DESCRIPTION:The Market is now going to be downtown\, on Market Street\, and will be taking place the day of the Christmas Parade on Saturday December 6th!One day only\, from 11am to 5pm\nCraft\, Christmas ornaments\, jewelry\, clothing\, spices and dips\, beauty products and more!Food\, mulled wine\, hot apple ciderLive music!
URL:https://yesfm.com/event/brockville-outdoor-christmas-market/
LOCATION:Brockville Makers Market\, Market Stret\, Brockville\, Canada
CATEGORIES:Local Events
ATTACH;FMTTYPE=image/jpeg:https://yesfm.com/site/wp-content/uploads/2025/11/del-4.jpg
END:VEVENT
BEGIN:VEVENT
DTSTART;TZID=America/New_York:20251206T110000
DTEND;TZID=America/New_York:20251206T130000
DTSTAMP:20260423T075042
CREATED:20251104T155455Z
LAST-MODIFIED:20251104T155455Z
UID:10001817-1765018800-1765026000@yesfm.com
SUMMARY:Christmas in Merrickville Parade
DESCRIPTION:Be part of the holiday fun – enter a float in the Christmas in Merrickville Parade!\nChristmas in Merrickville is Saturday\, December 6th 2025. This event kicks off the holiday season in our Village. The parade is a big part of the day and ferries Santa down St. Lawrence Street bringing good cheer and well wishes to our community.\nThe muster location is the Merrickville Fairgrounds. The Parade starts rolling at 11am sharp!\nContact Robyn Eagle for more information and to register your entry: robyn.eagle1963@gmail.com or call 343-987-3457
URL:https://yesfm.com/event/christmas-in-merrickville-parade/
LOCATION:Merrickville\, St. Lawrence Street\, Merrickville\, Canada
CATEGORIES:Local Events
ATTACH;FMTTYPE=image/jpeg:https://yesfm.com/site/wp-content/uploads/2025/11/del-9.jpg
END:VEVENT
BEGIN:VEVENT
DTSTART;TZID=America/New_York:20251206T100000
DTEND;TZID=America/New_York:20251206T130000
DTSTAMP:20260423T075042
CREATED:20251118T145724Z
LAST-MODIFIED:20251118T145724Z
UID:10001836-1765015200-1765026000@yesfm.com
SUMMARY:St. Lawrence Polar Plunge
DESCRIPTION:The Saint Lawrence Polar Plunge returns to Lisbon Beach\, 9975 State Highway 37\, inviting participants to brave the frigid St. Lawrence River in support of Special Olympics New York. Registration runs from 10 to 11:30 a.m.\, with the plunge at noon. Last year’s event drew 50 participants and raised more than $10\,000 to support local athletes’ training\, competitions\, and equipment. Register at polarplungeny.org. Info: Carolyn Braunius\, cbraunius@nyso.org
URL:https://yesfm.com/event/st-lawrence-polar-plunge/
LOCATION:Lisbon Beach\, 9975 State Highway 37\, Lisbon\, United States
CATEGORIES:Local Events
ATTACH;FMTTYPE=image/jpeg:https://yesfm.com/site/wp-content/uploads/2025/11/del-15.jpg
END:VEVENT
BEGIN:VEVENT
DTSTART;TZID=America/New_York:20251206T090000
DTEND;TZID=America/New_York:20251206T130000
DTSTAMP:20260423T075042
CREATED:20251201T142556Z
LAST-MODIFIED:20251201T142556Z
UID:10001848-1765011600-1765026000@yesfm.com
SUMMARY:Christmas Bazaar
DESCRIPTION:The Edwards United Methodist Church\, 183 Main St.\, will hold its annual Christmas bazaar Saturday from 9 a.m. to 1 p.m. The event will feature Christmas items\, crafts\, household goods and miscellaneous items. A bake sale will offer donuts\, coffee and tea. Lunch will include soup\, sandwiches and desserts.
URL:https://yesfm.com/event/christmas-bazaar-2/
LOCATION:Edwards United Methodist Church\, 185 Main Street\, Edwards\, 13635\, United States
CATEGORIES:Local Events
ATTACH;FMTTYPE=image/jpeg:https://yesfm.com/site/wp-content/uploads/2025/12/del-1.jpg
END:VEVENT
END:VCALENDAR