BEGIN:VCALENDAR
VERSION:2.0
PRODID:-//YES FM - ECPv6.15.15//NONSGML v1.0//EN
CALSCALE:GREGORIAN
METHOD:PUBLISH
X-WR-CALNAME:YES FM
X-ORIGINAL-URL:https://yesfm.com
X-WR-CALDESC:Events for YES FM
REFRESH-INTERVAL;VALUE=DURATION:PT1H
X-Robots-Tag:noindex
X-PUBLISHED-TTL:PT1H
BEGIN:VTIMEZONE
TZID:America/New_York
BEGIN:DAYLIGHT
TZOFFSETFROM:-0500
TZOFFSETTO:-0400
TZNAME:EDT
DTSTART:20240310T070000
END:DAYLIGHT
BEGIN:STANDARD
TZOFFSETFROM:-0400
TZOFFSETTO:-0500
TZNAME:EST
DTSTART:20241103T060000
END:STANDARD
BEGIN:DAYLIGHT
TZOFFSETFROM:-0500
TZOFFSETTO:-0400
TZNAME:EDT
DTSTART:20250309T070000
END:DAYLIGHT
BEGIN:STANDARD
TZOFFSETFROM:-0400
TZOFFSETTO:-0500
TZNAME:EST
DTSTART:20251102T060000
END:STANDARD
BEGIN:DAYLIGHT
TZOFFSETFROM:-0500
TZOFFSETTO:-0400
TZNAME:EDT
DTSTART:20260308T070000
END:DAYLIGHT
BEGIN:STANDARD
TZOFFSETFROM:-0400
TZOFFSETTO:-0500
TZNAME:EST
DTSTART:20261101T060000
END:STANDARD
END:VTIMEZONE
BEGIN:VEVENT
DTSTART;TZID=America/New_York:20251115T090000
DTEND;TZID=America/New_York:20251115T140000
DTSTAMP:20260423T152940
CREATED:20251104T145402Z
LAST-MODIFIED:20251104T145402Z
UID:10001809-1763197200-1763215200@yesfm.com
SUMMARY:Craft and Vendor Fair
DESCRIPTION:Morristown Auxiliary Craft and Vendor Fair on Saturday\, November 15th from 9 am -2 pm at the Morristown Fire Station. Vendors of all sorts and the auxiliary will serve food as well. Please text or call Ann @ 315-778-9614 or email: morristownauxiliarychief@gmail.com for an application.Cost is $30 for each 8 ft. table and electricity is offered. Doors will open at 7 am for vendors.\n\nConfirmed vendors as of 11/3/2025:J & D. Swift- wood crafts\, turned segmented bowls\, hand painted decorations and artR. Miller- Ribbon wreathsMorristown PTO- dipsR. IngersonC. Denney- fabric wrapped rope baskets and crochet itemsB.McDougal- diamond art and baked goodsJ.Caryl- gnomes\, keyrings\, and other craftsParos- Maple syrup S.Morrison- handcrafted cold process soaps and soap savers H.Wainwright- handmade wreathsT. Young- 3d printed toys and decor\, paintings\, bracelets and necklacesP. Truesdell- finished and unfinished wood products\, door hangers etc.A. Kroeger- plants and plants careM. Murphy- paintingsL. Tyree- Cosimano & Ferrari Olive Oils and Vinegars\, Christmas ornaments and decor\, Black Lake Key Chains\, centerpieces and more! C. Sipos- Tumblers\, cutting boards\, shirts\, cocoa bombs\, cotton candyE.Begel- crochet toys\, earringsD. Harper & A.May- Snow globe cups & accessories W. Russell- jewelry\, fishing lures\, tools\, etc.K. Barr- Tupperware C. Lust- loaded teas\, rice bags\, candy buffet\, iced coffees M. Patenaude- Mary Kay consultant C. Anderson- Tastefully Simple and Color Street
URL:https://yesfm.com/event/craft-and-vendor-fair-2/
LOCATION:Morristown Fire Department\, 200 Morris Street\, MORRISTOWN\, NY\, NY\, United States
CATEGORIES:Local Events
ATTACH;FMTTYPE=image/jpeg:https://yesfm.com/site/wp-content/uploads/2025/11/del-1.jpg
END:VEVENT
BEGIN:VEVENT
DTSTART;TZID=America/New_York:20251114T160000
DTEND;TZID=America/New_York:20251114T190000
DTSTAMP:20260423T152940
CREATED:20251029T143623Z
LAST-MODIFIED:20251029T143648Z
UID:10001796-1763136000-1763146800@yesfm.com
SUMMARY:VFW Fish Fry
DESCRIPTION:VFW Auxiliary in Canton will host an eat in or take out dining fish fry on Friday\, Nov. 14th from 4pm till 7pm. Price will be $15.00 per dinner. Menu will consist of (breaded) deep fried fish or oven baked fish\, macaroni & cheese or french-fries\, coleslaw\, roll\, and desert. Take outs will be available by calling Post @ 315-386-8953. Thank you for your continued support of our organization.
URL:https://yesfm.com/event/vfw-fish-fry-2/
LOCATION:VFW Canton\, 34 Gouverneur Street\, Canton\, United States
CATEGORIES:Local Events
ATTACH;FMTTYPE=image/jpeg:https://yesfm.com/site/wp-content/uploads/2025/03/fish-and-chips-8645438_1280.jpg
END:VEVENT
BEGIN:VEVENT
DTSTART;TZID=America/New_York:20251113T160000
DTEND;TZID=America/New_York:20251113T180000
DTSTAMP:20260423T152940
CREATED:20251103T150043Z
LAST-MODIFIED:20251103T150043Z
UID:10001806-1763049600-1763056800@yesfm.com
SUMMARY:Chicken & Biscuit Dinner
DESCRIPTION:The Norfolk American Legion\, 1 East High St.\, will hold a chicken and biscuit dinner Thursday\, Nov. 13\, from 4–6 p.m. Eat in or take out. Cost is $12 and includes mashed potatoes\, a vegetable\, dessert\, coffee\, and tea.
URL:https://yesfm.com/event/chicken-biscuit-dinner-3/
LOCATION:norfolk american legion\, 2 E High St\, Norfolk\, 13667\, United States
CATEGORIES:Local Events
ATTACH;FMTTYPE=image/jpeg:https://yesfm.com/site/wp-content/uploads/2025/10/Chicken-and-Biscuits.jpg
END:VEVENT
BEGIN:VEVENT
DTSTART;TZID=America/New_York:20251108T170000
DTEND;TZID=America/New_York:20251108T210000
DTSTAMP:20260423T152940
CREATED:20251014T134014Z
LAST-MODIFIED:20251014T134014Z
UID:10001576-1762621200-1762635600@yesfm.com
SUMMARY:Dinner Theatre: The Good\, The Bad & The Ridiculous
DESCRIPTION:Saturday November 8th at 5pm\, put on your detective hats\, slip into your best “Western” attire and get ready for an evening of mystery\, laughter and entertainment – all while supporting your local community! Murder on the Funny Side Presents – The Good\, The Bad and The Ridiculous.\n\nTicket Options:$75 per person$525 for a table of 8 (gather your friends and save!)\n\n\n Prizes to be won!  Best Detectives Best Western Attire Door Prizes\n\n\nAll proceeds will go toward supporting community events and programs at MERC.
URL:https://yesfm.com/event/dinner-theatre-the-good-the-bad-the-ridiculous/
LOCATION:Maitland Recreation Centre\, 120 East Mclean\, South Augusta\, Canada
CATEGORIES:Local Events
ATTACH;FMTTYPE=image/jpeg:https://yesfm.com/site/wp-content/uploads/2025/10/del-3.jpg
END:VEVENT
BEGIN:VEVENT
DTSTART;TZID=America/New_York:20251108T130000
DTEND;TZID=America/New_York:20251108T180000
DTSTAMP:20260423T152940
CREATED:20250917T141221Z
LAST-MODIFIED:20250917T141221Z
UID:10001519-1762606800-1762624800@yesfm.com
SUMMARY:Brynn Brothers Benefit- Spaghetti Dinner- November 8th- Heuvelton Fire Hall\, Heuvelton NY
DESCRIPTION:Brynn Brothers Benefit- Spaghetti Dinner- November 8th- Heuvelton Fire Hall\, Heuvelton NY
URL:https://yesfm.com/event/brynn-brothers-benefit-spaghetti-dinner-november-8th-heuvelton-fire-hall-heuvelton-ny/
LOCATION:heuvelton fire hall\, state street\, heuvelton\, NY
CATEGORIES:Local Events
ATTACH;FMTTYPE=image/jpeg:https://yesfm.com/site/wp-content/uploads/2024/10/spaghetti-1604836_1280-4.jpg
END:VEVENT
BEGIN:VEVENT
DTSTART;TZID=America/New_York:20251108T090000
DTEND;TZID=America/New_York:20251108T150000
DTSTAMP:20260423T152940
CREATED:20251103T151654Z
LAST-MODIFIED:20251103T151654Z
UID:10001778-1762592400-1762614000@yesfm.com
SUMMARY:Canton Bears Booster Club annual craft show
DESCRIPTION:4th annual craft show\nSaturday November 8th\n9am-3pm\nNo entry fee\nOver 45 vendors\, a photographer\, concession stand and booster club gear.
URL:https://yesfm.com/event/canton-bears-booster-club-annual-craft-show/
LOCATION:high school gym\, 99 State street\, Canton\, NY\, 13617\, United States
CATEGORIES:Local Events
ATTACH;FMTTYPE=image/jpeg:https://yesfm.com/site/wp-content/uploads/2025/10/IMG_9946-e1762182922688.jpeg
END:VEVENT
BEGIN:VEVENT
DTSTART;TZID=America/New_York:20251108T090000
DTEND;TZID=America/New_York:20251108T110000
DTSTAMP:20260423T152940
CREATED:20251027T133748Z
LAST-MODIFIED:20251027T133748Z
UID:10001787-1762592400-1762599600@yesfm.com
SUMMARY:Veterans Breakfast
DESCRIPTION:The St. Lawrence County Masons and Eastern Stars will hold a pancake breakfast to benefit veterans Saturday November 8th from 9 a.m. to noon at the Norwood Community Center\, The menu includes pancakes\, eggs\, sausage\, and drinks. \n 
URL:https://yesfm.com/event/veterans-breakfast/
LOCATION:Norwood Community Center\, 28 Maple Street\, Norwood\, United States
CATEGORIES:Local Events
ATTACH;FMTTYPE=image/webp:https://yesfm.com/site/wp-content/uploads/2018/11/Veterans-Day.webp
END:VEVENT
BEGIN:VEVENT
DTSTART;TZID=America/New_York:20251108T080000
DTEND;TZID=America/New_York:20251108T110000
DTSTAMP:20260423T152940
CREATED:20251027T134006Z
LAST-MODIFIED:20251027T134021Z
UID:10001788-1762588800-1762599600@yesfm.com
SUMMARY:Veterans Buffet Breakfast
DESCRIPTION:Saturday November 8th 8-11 a.m.; Veterans Buffet Breakfast ; free for veterans; donations appreciated.; held at Heuvelton AMVETS Post 1997\, 107 State St.
URL:https://yesfm.com/event/36913/
LOCATION:Heuvelton AMVETS\, 107 State Street\, Heuvelton\, United States
CATEGORIES:Local Events
ATTACH;FMTTYPE=image/webp:https://yesfm.com/site/wp-content/uploads/2019/02/Pancake-Breakfast-e1774535265887.webp
END:VEVENT
BEGIN:VEVENT
DTSTART;TZID=America/New_York:20251107T090000
DTEND;TZID=America/New_York:20251108T140000
DTSTAMP:20260423T152940
CREATED:20251103T145929Z
LAST-MODIFIED:20251103T145929Z
UID:10001805-1762506000-1762610400@yesfm.com
SUMMARY:Rummage Sale
DESCRIPTION:The Heuvelton United Methodist Church\, 44 Lisbon St.\, is having a rummage sale Friday and Saturday\, Nov 7 and 8\, 9 a.m.-2 p.m. There will be clothes\, household items\, silverware \, lots of dinner plates and coffee cups and much more
URL:https://yesfm.com/event/rummage-sale-4/
LOCATION:Heuvelton United Methodist Church\, 44 Lisbon Street\, Heuvelton\, United States
CATEGORIES:Local Events
ATTACH;FMTTYPE=image/png:https://yesfm.com/site/wp-content/uploads/2025/11/rummage-sale-e1776176571725.png
END:VEVENT
BEGIN:VEVENT
DTSTART;TZID=America/New_York:20251104T163000
DTEND;TZID=America/New_York:20251104T183000
DTSTAMP:20260423T152940
CREATED:20251022T135023Z
LAST-MODIFIED:20251022T135023Z
UID:10001771-1762273800-1762281000@yesfm.com
SUMMARY:Election Night Spaghetti Dinner
DESCRIPTION:Election Night Spaghetti Dinner to benefit Gracious Friends Animal Sanctuary! Tuesday\, November 4th at the Knights of Columbus in Ogdensburg! 4:30 to 6:30 – $12 a plate. Spaghetti & Meatballs\, Salad\, Bread and Dessert! Take out and delivery\, 315-393-7990.
URL:https://yesfm.com/event/election-night-spaghetti-dinner/
LOCATION:Ogdensburg Knights of Columbus\, 721 Hasbrouck Street\, OGDENSBURG\, NY\, 13669\, United States
ATTACH;FMTTYPE=image/jpeg:https://yesfm.com/site/wp-content/uploads/2024/09/spaghetti-745468_1280-1.jpg
END:VEVENT
BEGIN:VEVENT
DTSTART;TZID=America/New_York:20251104T160000
DTEND;TZID=America/New_York:20251104T180000
DTSTAMP:20260423T152940
CREATED:20251029T143459Z
LAST-MODIFIED:20251029T143459Z
UID:10001795-1762272000-1762279200@yesfm.com
SUMMARY:Election Night Dinner
DESCRIPTION:Election Night Dinner at United Presbyterian Church of Lisbon on Church Street Tuesday 4pm until gone. Ham\, Scalloped potatoes\, cabbage salad\, corn\, rolls and dessert for $15. 5 and under eat free. For Take Outs – 315-394-8303.
URL:https://yesfm.com/event/election-night-dinner/
LOCATION:26 Church Street\, Lisbon\, NY
CATEGORIES:Local Events
ATTACH;FMTTYPE=image/png:https://yesfm.com/site/wp-content/uploads/2025/10/del-1.png
END:VEVENT
BEGIN:VEVENT
DTSTART;TZID=America/New_York:20251104T160000
DTEND;TZID=America/New_York:20251104T180000
DTSTAMP:20260423T152940
CREATED:20251027T132810Z
LAST-MODIFIED:20251027T132810Z
UID:10001786-1762272000-1762279200@yesfm.com
SUMMARY:Election Night Beef Dinner
DESCRIPTION:Fowler Baptist Church\, located at 1234 Route 58 (turn at the blinking light)\, will hold its annual Election Night Beef Dinner Take-out begins at 4 p.m.\, with dine-in service at 5 p.m. The menu features beef\, vegetables\, potatoes\, squash\, rolls\, and pie. Cost is $15 for adults\, $7.50 for ages 6-10\, and free for children 5 and under. Proceeds support mission projects through the American Baptist Women of Fowler Baptist Church.
URL:https://yesfm.com/event/election-night-beef-dinner/
LOCATION:Fowler Baptist Church\, 1234 State Highway 58\, Fowler\, United States
CATEGORIES:Local Events
ATTACH;FMTTYPE=image/jpeg:https://yesfm.com/site/wp-content/uploads/2025/10/beef-dinner.jpg
END:VEVENT
BEGIN:VEVENT
DTSTART;TZID=America/New_York:20251104T160000
DTEND;TZID=America/New_York:20251104T180000
DTSTAMP:20260423T152940
CREATED:20251027T132411Z
LAST-MODIFIED:20251027T132411Z
UID:10001785-1762272000-1762279200@yesfm.com
SUMMARY:Election Day Chicken & Biscuit Dinner
DESCRIPTION:The Pierrepont Annual Election Day Chicken and Biscuit Dinner will be held from 4 to 6 p.m. at the Pierrepont Fire Hall\, 62 Old County Road (CR 29). Sponsored by the Pierrepont Ladies Auxiliary\, the meal includes chicken\, biscuits\, gravy\, mashed potatoes\, cole slaw\, vegetables\, and pies. Eat in or take out. Prices are $15 for adults\, $6 for ages 6-12\, and free for children under 6.
URL:https://yesfm.com/event/election-day-chicken-biscuit-dinner-2/
LOCATION:pierrepont fire hall\, 62 Old County Rd\, Canton\, 13617\, United States
CATEGORIES:Local Events
ATTACH;FMTTYPE=image/jpeg:https://yesfm.com/site/wp-content/uploads/2025/10/Chicken-and-Biscuits.jpg
END:VEVENT
BEGIN:VEVENT
DTSTART;TZID=America/New_York:20251104T160000
DTEND;TZID=America/New_York:20251104T180000
DTSTAMP:20260423T152940
CREATED:20251027T132119Z
LAST-MODIFIED:20251027T132119Z
UID:10001784-1762272000-1762279200@yesfm.com
SUMMARY:Election Day Chicken & Biscuit Dinner
DESCRIPTION:The Waddington United Methodist Church will hold its annual Election Day Chicken and Biscuit Dinner Tuesday November 4th starting at 4 p.m. The menu includes chicken and biscuits\, gravy\, mashed potatoes\, green beans\, squash\, coleslaw\, cranberry sauce and pie.
URL:https://yesfm.com/event/election-day-chicken-biscuit-dinner/
LOCATION:waddington united methodist church\, 116 Lincoln Ave\, Waddington\, NY
CATEGORIES:Local Events
ATTACH;FMTTYPE=image/webp:https://yesfm.com/site/wp-content/uploads/2018/11/chicken_and_biscuit-dinner1.webp
END:VEVENT
BEGIN:VEVENT
DTSTART;TZID=America/New_York:20251104T110000
DTEND;TZID=America/New_York:20251104T133000
DTSTAMP:20260423T152940
CREATED:20251027T131807Z
LAST-MODIFIED:20251027T131807Z
UID:10001783-1762254000-1762263000@yesfm.com
SUMMARY:Cabbage Roll Dinner
DESCRIPTION:The Madrid Fire Department will host a takeout-only Cabbage Roll Dinner at the Madrid Fire Station\, 200 North St. Meals will be served starting at 11 a.m. Tuesday November 4th until sold out. The menu includes two cabbage rolls\, tossed salad\, a roll\, a slice of bread and a brownie. Cost is $15\, with proceeds benefiting the Madrid Fire Department.
URL:https://yesfm.com/event/cabbage-roll-dinner-2/
LOCATION:Madrid Fire Department\, 200 North Street\, Madrid\, United States
CATEGORIES:Local Events
ATTACH;FMTTYPE=image/jpeg:https://yesfm.com/site/wp-content/uploads/2025/04/cabbage-rolls-468384_1280.jpg
END:VEVENT
BEGIN:VEVENT
DTSTART;TZID=America/New_York:20251103T160000
DTEND;TZID=America/New_York:20251103T190000
DTSTAMP:20260423T152940
CREATED:20251014T133229Z
LAST-MODIFIED:20251014T133336Z
UID:10001574-1762185600-1762196400@yesfm.com
SUMMARY:Spaghetti Dinner
DESCRIPTION:Come support the Ogdensburg Snackpack Program at our annual spaghetti dinner on November 3rd from 4pm-7pm at the Ogdensburg Moose Lodge. Dine in\, takeout\, or delivery!\n\n\nDinner includes spaghetti\, meatballs\, salad\, and bread. Desserts will also be available for $1.\n\n\nPresale tickets are $8 or $10 at the door. You will also be entered into our Fall Fuel Raffle with each presale ticket purchased
URL:https://yesfm.com/event/spaghetti-dinner-3/
LOCATION:Ogdensburg Moose Lodge\, 609 Pickering Street\, Ogdensburg\, NY
CATEGORIES:Local Events
ATTACH;FMTTYPE=image/webp:https://yesfm.com/site/wp-content/uploads/2019/03/spaghettiFundraiser-e1776176282209.webp
END:VEVENT
BEGIN:VEVENT
DTSTART;TZID=America/New_York:20251102T110000
DTEND;TZID=America/New_York:20251102T170000
DTSTAMP:20260423T152940
CREATED:20251027T131456Z
LAST-MODIFIED:20251027T131456Z
UID:10001782-1762081200-1762102800@yesfm.com
SUMMARY:Harvest Dinner
DESCRIPTION:A harvest dinner will be served Sunday from 11 a.m. to 5 p.m. (or supplies last) at St. John’s Episcopal Church parish hall\, 500 Caroline St. The meal includes turkey ands all the trimmings for $15 for adults\, and $12 children up to age 10 (dine-in only). Take-out meals will also be sold at the Knox Street entrance. For local delivery\, call 315-393-54770.
URL:https://yesfm.com/event/harvest-dinner-2/
LOCATION:St. John’s Episcopal Church\, 500 Caroline Street\, Ogdensburg\, United States
CATEGORIES:Local Events
ATTACH;FMTTYPE=image/webp:https://yesfm.com/site/wp-content/uploads/2018/10/Harvest-Dinner.webp
END:VEVENT
BEGIN:VEVENT
DTSTART;TZID=America/New_York:20251101T190000
DTEND;TZID=America/New_York:20251101T230000
DTSTAMP:20260423T152940
CREATED:20251014T134925Z
LAST-MODIFIED:20251014T134925Z
UID:10001578-1762023600-1762038000@yesfm.com
SUMMARY:Rock The Night Away: Spooktacular
DESCRIPTION:Rock The Night Away: Spooktacular Saturday\, November 1st at 7pm at the Morrisburg Royal Canadian Legion \nHalloween isn’t just for kids\, nor one night\, the adults can play too! \nRock the Night Away… \n“Diamond’s Edge” is BACK for a Spooktacular night! \nBringing you the best of the 70s and 80s… dance\, sing along (you will)\, enjoy this Monster Mashtacular FUNdraiser night. \nCostumes are optional\, a great time is Guaranteed. \nTickets: $17 in advance (stop by or call the Branch) $20 at the door.
URL:https://yesfm.com/event/rock-the-night-away-spooktacular/
LOCATION:Morrisburg Legion\, 10 Legion Street\, Morrisburg\, ON\, Canada
CATEGORIES:Local Events
ATTACH;FMTTYPE=image/jpeg:https://yesfm.com/site/wp-content/uploads/2025/10/del-5.jpg
END:VEVENT
BEGIN:VEVENT
DTSTART;TZID=America/New_York:20251101T180000
DTEND;TZID=America/New_York:20251101T230000
DTSTAMP:20260423T152940
CREATED:20251014T134359Z
LAST-MODIFIED:20251014T134359Z
UID:10001577-1762020000-1762038000@yesfm.com
SUMMARY:7th Annual Red Dress Gala
DESCRIPTION:The Alzheimer Society Lanark Leeds Grenville will be hosting our 7th “Ladies Night” Red Dress Gala on Saturday November 1\, 2025 at the Brockville Memorial Centre at 6pm.\n\nAll the proceeds from the event will benefit the Alzheimer Society Lanark Leeds Grenville\, and will go towards local services such as Support\, Education\, Overnight Stay Care\, Workshops\, Groups and Adult Day Programs.\n\nJoin us for an “Old Hollywood” night on the red carpet. Will you be nominated as Best Supporting Actress? or Best in Costume Design?\n\nFind that starlet-worthy red dress and take part in an evening of music\, dancing\, a beautiful Roast Beef buffet dinner\, silent auction and more!
URL:https://yesfm.com/event/7th-annual-red-dress-gala/
LOCATION:Brockville Memorial Center
CATEGORIES:Local Events
ATTACH;FMTTYPE=image/jpeg:https://yesfm.com/site/wp-content/uploads/2025/10/del-4.jpg
END:VEVENT
BEGIN:VEVENT
DTSTART;TZID=America/New_York:20251101T160000
DTEND;TZID=America/New_York:20251101T180000
DTSTAMP:20260423T152940
CREATED:20251027T131215Z
LAST-MODIFIED:20251027T131215Z
UID:10001781-1762012800-1762020000@yesfm.com
SUMMARY:Ham Dinner
DESCRIPTION:The Colton Community Church\, 11 Church St.\, will host a free community ham dinner Saturday from 4 to 6 p.m. Sides include macaroni and cheese\, beans\, scalloped potatoes\, rolls\, dessert\, and drinks. Eat in or take out.
URL:https://yesfm.com/event/ham-dinner/
LOCATION:Colton Community Curch\, 11 Church Street\, Colton\, United States
CATEGORIES:Local Events
ATTACH;FMTTYPE=image/jpeg:https://yesfm.com/site/wp-content/uploads/2025/06/ham-4718476_1280-e1775571274213.jpg
END:VEVENT
BEGIN:VEVENT
DTSTART;TZID=America/New_York:20251031T170000
DTEND;TZID=America/New_York:20251031T203000
DTSTAMP:20260423T152940
CREATED:20251015T151834Z
LAST-MODIFIED:20251015T151906Z
UID:10001567-1761930000-1761942600@yesfm.com
SUMMARY:Rensselaer Falls Fire & Rescue Halloween Party
DESCRIPTION:Pizza ~ Hot Cocoa ~ Fire Truck Rides\nAuxiliary Costume Contest at 6:30pm
URL:https://yesfm.com/event/rensselaer-falls-fire-rescue-halloween-party/
LOCATION:Rensselaer Falls Fire Department\, Rensselaer Street\, Rensselaer Falls\, NY\, United States
CATEGORIES:Local Events
ATTACH;FMTTYPE=image/png:https://yesfm.com/site/wp-content/uploads/2025/10/RFFR.HalloweenParty.2025-e1760541503664.png
ORGANIZER;CN="Karin Blackburn":MAILTO:karinblackburn188@gmail.com
END:VEVENT
BEGIN:VEVENT
DTSTART;TZID=America/New_York:20251031T170000
DTEND;TZID=America/New_York:20251031T200000
DTSTAMP:20260423T152940
CREATED:20251027T130657Z
LAST-MODIFIED:20251027T130657Z
UID:10001779-1761930000-1761940800@yesfm.com
SUMMARY:Seaway Youth for Christ "Trunk or Treat"
DESCRIPTION:Seaway Youth for Christ will host its annual “Trunk or Treat” Halloween from 5–8 p.m. at the YFC Impact Center\, 31 David St. Supporters will hand out candy from decorated vehicle trunks as a safer\, family-friendly Halloween alternative. Now in its 57th year\, YFC continues its mission at its new home\, formerly the Ogdensburg Wesleyan Church. The center also hosts Celebrate Recovery\, Good News Parties\, and monthly youth nights. Contact Rene Clarke at (315) 416-0425.
URL:https://yesfm.com/event/seaway-youth-for-christ-trunk-or-treat/
LOCATION:Seaway Youth For Christ\, 31 David Street\, Ogdensburg\, United States
CATEGORIES:Local Events
ATTACH;FMTTYPE=image/jpeg:https://yesfm.com/site/wp-content/uploads/2025/10/t-or-t.jpeg
END:VEVENT
BEGIN:VEVENT
DTSTART;TZID=America/New_York:20251031T170000
DTEND;TZID=America/New_York:20251031T190000
DTSTAMP:20260423T152940
CREATED:20251027T130951Z
LAST-MODIFIED:20251027T130951Z
UID:10001780-1761930000-1761937200@yesfm.com
SUMMARY:Norwood Trunk Or Treat
DESCRIPTION:Trick or treat at the Norwood Public Library on Halloween from 5:00 p.m.-7 p.m. There will be free books and candy.
URL:https://yesfm.com/event/norwood-trunk-or-treat-2/
LOCATION:Norwood Public Library\, 1 Morton Street\, Norwood\, United States
CATEGORIES:Local Events
ATTACH;FMTTYPE=image/jpeg:https://yesfm.com/site/wp-content/uploads/2025/10/Trunk-or-Treat-Event.jpg
END:VEVENT
BEGIN:VEVENT
DTSTART;TZID=America/New_York:20251031T160000
DTEND;TZID=America/New_York:20251031T200000
DTSTAMP:20260423T152940
CREATED:20251015T152230Z
LAST-MODIFIED:20251015T152230Z
UID:10001561-1761926400-1761940800@yesfm.com
SUMMARY:Halloween at the BDSC Clubhouse
DESCRIPTION:🎃👻 Halloween at the BDSC Clubhouse! 👻🎃 \nGet ready for a spooktacular Halloween night at the Brockville & District Shrine Club! 🕸️🕷️ \n🍬 We’ll be handing out candy for all the little ghouls and goblins who stop by\, plus…\n🌭 The first 100 kids will snag a FREE hotdog + juice box to fuel their trick-or-treating adventures! \n📅 Friday\, October 31\, 2025\n⏰ 4:00 PM – 8:00 PM (or until the hotdogs are gone!)\n📍 BDSC Clubhouse – 16 Reynolds Drive\, Brockville \nSo grab your costumes\, bring your best spooky spirit\, and swing by the BDSC for some Halloween treats (and eats)! 🎃✨ \n#BrockvilleHalloween #ShrinersCare #TrickOrTreat #FamilyFun
URL:https://yesfm.com/event/halloween-at-the-bdsc-clubhouse/
LOCATION:Brockville & District Shrine Club\, 16 Reynolds Drive\, Brockville\, Ontario\, K6V 1W8\, Canada
CATEGORIES:Local Events
ATTACH;FMTTYPE=image/png:https://yesfm.com/site/wp-content/uploads/2025/09/BDSC-Trick-or-Treat-1-e1760541595266.png
END:VEVENT
BEGIN:VEVENT
DTSTART;TZID=America/New_York:20251026T130000
DTEND;TZID=America/New_York:20251026T150000
DTSTAMP:20260423T152940
CREATED:20251022T141740Z
LAST-MODIFIED:20251022T141740Z
UID:10001776-1761483600-1761490800@yesfm.com
SUMMARY:Canton Trunk Or Treat
DESCRIPTION:The Canton United Methodist Church\, 41 Court St.\, will host a trunk or treat on Sunday\, Oct. 26 from 1-3 p.m. in their church parking lot. Those participating are asked to bring allergy friendly candy for little ghouls and goblins. If you are able\, dress up\, and decorate your trunk.
URL:https://yesfm.com/event/canton-trunk-or-treat/
LOCATION:canton united methodist church\, 41 court street\, canton\, ny
CATEGORIES:Local Events
ATTACH;FMTTYPE=image/png:https://yesfm.com/site/wp-content/uploads/2025/10/trunk.png
END:VEVENT
BEGIN:VEVENT
DTSTART;TZID=America/New_York:20251026T130000
DTEND;TZID=America/New_York:20251026T150000
DTSTAMP:20260423T152940
CREATED:20251015T150907Z
LAST-MODIFIED:20251015T150907Z
UID:10001583-1761483600-1761490800@yesfm.com
SUMMARY:Trunk or Treat at Canton VFW
DESCRIPTION:Canton VFW Post 1231 Auxiliary will be hosting a Trunk or Treat event on Sunday October 26th in the parking lot from 1pm till 3pm
URL:https://yesfm.com/event/trunk-or-treat-at-canton-vfw/
LOCATION:VFW Canton\, 34 Gouverneur Street\, Canton\, United States
CATEGORIES:Local Events
ATTACH;FMTTYPE=image/webp:https://yesfm.com/site/wp-content/uploads/2018/10/trunk-or-treat.webp
END:VEVENT
BEGIN:VEVENT
DTSTART;TZID=America/New_York:20251026T130000
DTEND;TZID=America/New_York:20251026T150000
DTSTAMP:20260423T152940
CREATED:20251015T150724Z
LAST-MODIFIED:20251015T152628Z
UID:10001582-1761483600-1761490800@yesfm.com
SUMMARY:Little Witches Ball
DESCRIPTION:***The 4th Annual Ogdensburg Area Zonta Club Little Witches Ball is Sunday\, October 26\, 2025 1-3pm Freight House Restaurant.   Admission $5 a person.\n\nElementary School Ages\n\nNet proceeds from this major fundraiser will go towards Ogdensburg Area Zonta Club scholarships and community projects working to build a better world for women and girls locally\, as well as worldwide.
URL:https://yesfm.com/event/little-witches-ball/
LOCATION:Freight House\, 20 Market Street\, OGDENSBURG\, NY\, United States
CATEGORIES:Local Events
ATTACH;FMTTYPE=image/jpeg:https://yesfm.com/site/wp-content/uploads/2025/10/del-8.jpg
END:VEVENT
BEGIN:VEVENT
DTSTART;TZID=America/New_York:20251026T110000
DTEND;TZID=America/New_York:20251026T130000
DTSTAMP:20260423T152940
CREATED:20251014T161237Z
LAST-MODIFIED:20251014T161252Z
UID:10001580-1761476400-1761483600@yesfm.com
SUMMARY:Annual Kid's Pumpkin Party
DESCRIPTION:Please join us for our Annual Kid’s Pumpkin Party at the Brier Hill Fire Department on Sunday October 26th from 11 to 1. We will have costume judging\, face painting\, basket raffles\, a 50/50 raffle and a Ninja Air Fryer raffle. You will also get to take home your own pumpkin to carve. Lunch will consist of hot dogs\, chips and a drink. Donations accepted but not required.
URL:https://yesfm.com/event/36684/
LOCATION:Brier Hill Fire Department\, 2678 State Highway 37\, Brier Hill\, United States
CATEGORIES:Local Events
ATTACH;FMTTYPE=image/jpeg:https://yesfm.com/site/wp-content/uploads/2024/09/halloween-4585684_1280-1.jpg
END:VEVENT
BEGIN:VEVENT
DTSTART;TZID=America/New_York:20251026T100000
DTEND;TZID=America/New_York:20251026T150000
DTSTAMP:20260423T152940
CREATED:20251022T140004Z
LAST-MODIFIED:20251022T140030Z
UID:10001773-1761472800-1761490800@yesfm.com
SUMMARY:Craft & Vendor Show
DESCRIPTION:The Parishville Amvets\, 25 Rutman Rd.\, will host a craft and vendor show on Saturday from 10 a.m.-3 p.m. $3 admission – fee goes to local scholarship program. Over 20 vendors. Soaps\, woodworking\, baked items\, hand painted signs\, hand crafted jewelry\, many seasonal items. Something for everyone. \n 
URL:https://yesfm.com/event/craft-vendor-show-2/
LOCATION:Amvet’s hall\, 25 Rutman Rd Parishville\, NY\, USA
CATEGORIES:Local Events
ATTACH;FMTTYPE=image/jpeg:https://yesfm.com/site/wp-content/uploads/2025/10/del-11.jpg
END:VEVENT
BEGIN:VEVENT
DTSTART;TZID=America/New_York:20251025T130000
DTEND;TZID=America/New_York:20251025T150000
DTSTAMP:20260423T152940
CREATED:20251014T132833Z
LAST-MODIFIED:20251014T133019Z
UID:10001573-1761397200-1761404400@yesfm.com
SUMMARY:Trunk or Treat at Heuvelton Amvets!
DESCRIPTION:Trunk or Treat at Heuvelton Amvets! \n\nJoin us on Saturday\, October 25th from 1:00–3:00 p.m. for an afternoon of family fun hosted by the Heuvelton AMVETS Ladies Auxiliary #1997!\n\nEnjoy bounce house\, food\, activities\, and photo ops while trick-or-treating from decorated trunks.\n\nWe’re also looking for volunteers to host a trunk—plus\, there’s a prize for the best decorated trunk!\n\nBring the whole family for a spooktacular time!
URL:https://yesfm.com/event/trunk-or-treat-at-heuvelton-amvets/
LOCATION:Heuvelton AMVETS\, 107 State Street\, Heuvelton\, United States
CATEGORIES:Local Events
ATTACH;FMTTYPE=image/jpeg:https://yesfm.com/site/wp-content/uploads/2025/10/del-1.jpg
END:VEVENT
END:VCALENDAR