BEGIN:VCALENDAR
VERSION:2.0
PRODID:-//YES FM - ECPv6.15.15//NONSGML v1.0//EN
CALSCALE:GREGORIAN
METHOD:PUBLISH
X-ORIGINAL-URL:https://yesfm.com
X-WR-CALDESC:Events for YES FM
REFRESH-INTERVAL;VALUE=DURATION:PT1H
X-Robots-Tag:noindex
X-PUBLISHED-TTL:PT1H
BEGIN:VTIMEZONE
TZID:America/New_York
BEGIN:DAYLIGHT
TZOFFSETFROM:-0500
TZOFFSETTO:-0400
TZNAME:EDT
DTSTART:20240310T070000
END:DAYLIGHT
BEGIN:STANDARD
TZOFFSETFROM:-0400
TZOFFSETTO:-0500
TZNAME:EST
DTSTART:20241103T060000
END:STANDARD
BEGIN:DAYLIGHT
TZOFFSETFROM:-0500
TZOFFSETTO:-0400
TZNAME:EDT
DTSTART:20250309T070000
END:DAYLIGHT
BEGIN:STANDARD
TZOFFSETFROM:-0400
TZOFFSETTO:-0500
TZNAME:EST
DTSTART:20251102T060000
END:STANDARD
BEGIN:DAYLIGHT
TZOFFSETFROM:-0500
TZOFFSETTO:-0400
TZNAME:EDT
DTSTART:20260308T070000
END:DAYLIGHT
BEGIN:STANDARD
TZOFFSETFROM:-0400
TZOFFSETTO:-0500
TZNAME:EST
DTSTART:20261101T060000
END:STANDARD
END:VTIMEZONE
BEGIN:VEVENT
DTSTART;TZID=America/New_York:20251026T130000
DTEND;TZID=America/New_York:20251026T150000
DTSTAMP:20260423T185537
CREATED:20251022T141740Z
LAST-MODIFIED:20251022T141740Z
UID:10001776-1761483600-1761490800@yesfm.com
SUMMARY:Canton Trunk Or Treat
DESCRIPTION:The Canton United Methodist Church\, 41 Court St.\, will host a trunk or treat on Sunday\, Oct. 26 from 1-3 p.m. in their church parking lot. Those participating are asked to bring allergy friendly candy for little ghouls and goblins. If you are able\, dress up\, and decorate your trunk.
URL:https://yesfm.com/event/canton-trunk-or-treat/
LOCATION:canton united methodist church\, 41 court street\, canton\, ny
CATEGORIES:Local Events
ATTACH;FMTTYPE=image/png:https://yesfm.com/site/wp-content/uploads/2025/10/trunk.png
END:VEVENT
BEGIN:VEVENT
DTSTART;TZID=America/New_York:20251026T130000
DTEND;TZID=America/New_York:20251026T150000
DTSTAMP:20260423T185537
CREATED:20251015T150907Z
LAST-MODIFIED:20251015T150907Z
UID:10001583-1761483600-1761490800@yesfm.com
SUMMARY:Trunk or Treat at Canton VFW
DESCRIPTION:Canton VFW Post 1231 Auxiliary will be hosting a Trunk or Treat event on Sunday October 26th in the parking lot from 1pm till 3pm
URL:https://yesfm.com/event/trunk-or-treat-at-canton-vfw/
LOCATION:VFW Canton\, 34 Gouverneur Street\, Canton\, United States
CATEGORIES:Local Events
ATTACH;FMTTYPE=image/webp:https://yesfm.com/site/wp-content/uploads/2018/10/trunk-or-treat.webp
END:VEVENT
BEGIN:VEVENT
DTSTART;TZID=America/New_York:20251026T130000
DTEND;TZID=America/New_York:20251026T150000
DTSTAMP:20260423T185537
CREATED:20251015T150724Z
LAST-MODIFIED:20251015T152628Z
UID:10001582-1761483600-1761490800@yesfm.com
SUMMARY:Little Witches Ball
DESCRIPTION:***The 4th Annual Ogdensburg Area Zonta Club Little Witches Ball is Sunday\, October 26\, 2025 1-3pm Freight House Restaurant.   Admission $5 a person.\n\nElementary School Ages\n\nNet proceeds from this major fundraiser will go towards Ogdensburg Area Zonta Club scholarships and community projects working to build a better world for women and girls locally\, as well as worldwide.
URL:https://yesfm.com/event/little-witches-ball/
LOCATION:Freight House\, 20 Market Street\, OGDENSBURG\, NY\, United States
CATEGORIES:Local Events
ATTACH;FMTTYPE=image/jpeg:https://yesfm.com/site/wp-content/uploads/2025/10/del-8.jpg
END:VEVENT
BEGIN:VEVENT
DTSTART;TZID=America/New_York:20251026T110000
DTEND;TZID=America/New_York:20251026T130000
DTSTAMP:20260423T185537
CREATED:20251014T161237Z
LAST-MODIFIED:20251014T161252Z
UID:10001580-1761476400-1761483600@yesfm.com
SUMMARY:Annual Kid's Pumpkin Party
DESCRIPTION:Please join us for our Annual Kid’s Pumpkin Party at the Brier Hill Fire Department on Sunday October 26th from 11 to 1. We will have costume judging\, face painting\, basket raffles\, a 50/50 raffle and a Ninja Air Fryer raffle. You will also get to take home your own pumpkin to carve. Lunch will consist of hot dogs\, chips and a drink. Donations accepted but not required.
URL:https://yesfm.com/event/36684/
LOCATION:Brier Hill Fire Department\, 2678 State Highway 37\, Brier Hill\, United States
CATEGORIES:Local Events
ATTACH;FMTTYPE=image/jpeg:https://yesfm.com/site/wp-content/uploads/2024/09/halloween-4585684_1280-1.jpg
END:VEVENT
BEGIN:VEVENT
DTSTART;TZID=America/New_York:20251026T100000
DTEND;TZID=America/New_York:20251026T150000
DTSTAMP:20260423T185537
CREATED:20251022T140004Z
LAST-MODIFIED:20251022T140030Z
UID:10001773-1761472800-1761490800@yesfm.com
SUMMARY:Craft & Vendor Show
DESCRIPTION:The Parishville Amvets\, 25 Rutman Rd.\, will host a craft and vendor show on Saturday from 10 a.m.-3 p.m. $3 admission – fee goes to local scholarship program. Over 20 vendors. Soaps\, woodworking\, baked items\, hand painted signs\, hand crafted jewelry\, many seasonal items. Something for everyone. \n 
URL:https://yesfm.com/event/craft-vendor-show-2/
LOCATION:Amvet’s hall\, 25 Rutman Rd Parishville\, NY\, USA
CATEGORIES:Local Events
ATTACH;FMTTYPE=image/jpeg:https://yesfm.com/site/wp-content/uploads/2025/10/del-11.jpg
END:VEVENT
BEGIN:VEVENT
DTSTART;TZID=America/New_York:20251025T130000
DTEND;TZID=America/New_York:20251025T150000
DTSTAMP:20260423T185537
CREATED:20251014T132833Z
LAST-MODIFIED:20251014T133019Z
UID:10001573-1761397200-1761404400@yesfm.com
SUMMARY:Trunk or Treat at Heuvelton Amvets!
DESCRIPTION:Trunk or Treat at Heuvelton Amvets! \n\nJoin us on Saturday\, October 25th from 1:00–3:00 p.m. for an afternoon of family fun hosted by the Heuvelton AMVETS Ladies Auxiliary #1997!\n\nEnjoy bounce house\, food\, activities\, and photo ops while trick-or-treating from decorated trunks.\n\nWe’re also looking for volunteers to host a trunk—plus\, there’s a prize for the best decorated trunk!\n\nBring the whole family for a spooktacular time!
URL:https://yesfm.com/event/trunk-or-treat-at-heuvelton-amvets/
LOCATION:Heuvelton AMVETS\, 107 State Street\, Heuvelton\, United States
CATEGORIES:Local Events
ATTACH;FMTTYPE=image/jpeg:https://yesfm.com/site/wp-content/uploads/2025/10/del-1.jpg
END:VEVENT
BEGIN:VEVENT
DTSTART;TZID=America/New_York:20251025T120000
DTEND;TZID=America/New_York:20251025T130000
DTSTAMP:20260423T185537
CREATED:20251022T140901Z
LAST-MODIFIED:20251022T140901Z
UID:10001774-1761393600-1761397200@yesfm.com
SUMMARY:Phantoms in the Park
DESCRIPTION:The St. Lawrence County Chamber of Commerce’s annual Phantoms in the Park will be Saturday\, Oct. 25 from noon-1 p.m. in the Canton Village Park. All ghosts\, goblins\, and ghouls are welcome. A costume contest and activities kick off at noon followed by a Trick-or-Treat parade to downtown businesses. \n  \nCanton Village Park (Noon to 1pm):\n\nGames & Entertainment: Enjoy arts and crafts\, an onsite magician\,  a variety of family games and a costume contest.\nCommunity Safety: Meet representatives from the Canton Village Police\, County Sheriff\, Fire\, and Rescue squads.\nPumpkin Carving (extends through 2pm): Carve or paint a pumpkin\, to be displayed in Heritage Park for public viewing for the weekend. Activity hosted by Nature Up North & Grasse River Heritage. Activity Contact & More Info.
URL:https://yesfm.com/event/phantoms-in-the-park/
LOCATION:Canton Village Park\, Park Street\, CAnton\, United States
CATEGORIES:Local Events
ATTACH;FMTTYPE=image/png:https://yesfm.com/site/wp-content/uploads/2025/10/del.png
END:VEVENT
BEGIN:VEVENT
DTSTART;TZID=America/New_York:20251025T110000
DTEND;TZID=America/New_York:20251025T150000
DTSTAMP:20260423T185537
CREATED:20250930T153729Z
LAST-MODIFIED:20250930T153729Z
UID:10001560-1761390000-1761404400@yesfm.com
SUMMARY:Augusta Fire Rescue Fall Fest
DESCRIPTION:Fall Fest at Augusta Fire Rescue is Saturday October 25th 11-3. Bring the whole family for a hands on day of fun. Meet firefighters\, see a live extrication and more! Donations to the South Grenville Food Bank will be taken.
URL:https://yesfm.com/event/augusta-fire-rescue-fall-fest/
LOCATION:Augusta Fire Rescue Station 1\, 1022 County Road 15\, Maitland\, Canada
CATEGORIES:Local Events
ATTACH;FMTTYPE=image/jpeg:https://yesfm.com/site/wp-content/uploads/2025/09/del-31.jpg
END:VEVENT
BEGIN:VEVENT
DTSTART;TZID=America/New_York:20251025T110000
DTEND;TZID=America/New_York:20251025T130000
DTSTAMP:20260423T185537
CREATED:20251022T141114Z
LAST-MODIFIED:20251022T141114Z
UID:10001775-1761390000-1761397200@yesfm.com
SUMMARY:Trunk or Treat
DESCRIPTION:The Ogdensburg Knights of Columbus will hold a Trunk or Treat event Saturday from 11 a.m. to 1 p.m. at their clubhouse\, 721 Hasbrouck Street\, Ogdensburg. Families can enjoy safe\, fun Halloween activities with decorated car trunks and treats. The event is free and open to the community.
URL:https://yesfm.com/event/trunk-or-treat/
LOCATION:Ogdensburg Knights of Columbus\, 721 Hasbrouck Street\, OGDENSBURG\, NY\, 13669\, United States
CATEGORIES:Local Events
ATTACH;FMTTYPE=image/png:https://yesfm.com/site/wp-content/uploads/2025/10/trunk.png
END:VEVENT
BEGIN:VEVENT
DTSTART;TZID=America/New_York:20251025T100000
DTEND;TZID=America/New_York:20251025T130000
DTSTAMP:20260423T185537
CREATED:20250902T135002Z
LAST-MODIFIED:20250902T135002Z
UID:10001509-1761386400-1761397200@yesfm.com
SUMMARY:Spook the Street!
DESCRIPTION:Spook the Street! Halloween Comes Twice This Year in Downtown Brockville!\nJoin us for a spooktacular early Halloween celebration in Downtown Brockville! Dress up in your most creative\, creepy\, or cute costumes and enjoy an afternoon of trick-or-treating\, contests\, and community fun at your favourite local shops.\n Date: Saturday\, October 25th Time: 10:00 AM – 1:00 PM Location: Participating Downtown Brockville Businesses\n Event Highlights: Trick-or-Treating at participating downtown businesses Fear Factor: Halloween Edition in the Perth Street Courtyard Best Dressed Contest – Show off your costume!– Top 3 winners will receive Downtown Brockville Gift Cards– To enter: Visit the Perth Street Courtyard Decorated Stores – Local shops will be decked out in Halloween decor and handing out treats Best Decorated Store Contest – Vote for your favourite spooky storefront!\n Don’t miss your chance to celebrate Halloween twice this year with Downtown Brockville!Grab your costume\, bring your friends and family\, and get ready for a frightfully fun day!\n See you there – if you dare!
URL:https://yesfm.com/event/spook-the-street/
LOCATION:Downtown Brockville
CATEGORIES:Local Events
ATTACH;FMTTYPE=image/jpeg:https://yesfm.com/site/wp-content/uploads/2025/09/del-6.jpg
END:VEVENT
BEGIN:VEVENT
DTSTART;TZID=America/New_York:20251024T180000
DTEND;TZID=America/New_York:20251024T200000
DTSTAMP:20260423T185537
CREATED:20251022T135639Z
LAST-MODIFIED:20251022T135639Z
UID:10001772-1761328800-1761336000@yesfm.com
SUMMARY:Gouverneur Trick or Treat
DESCRIPTION:The annual Gouverneur Trick or Treat will be held Friday\, Oct. 24 at the Gouverneur Fairgrounds from 6-8 p.m. The event is hosted by Seaway Valley Prevention Council and Community Health Center of the North Country.
URL:https://yesfm.com/event/gouverneur-trick-or-treat/
LOCATION:Gouverneur Fairgrounds\, 85 E. Barney Street\, Gouverneur\, United States
CATEGORIES:Local Events
ATTACH;FMTTYPE=image/webp:https://yesfm.com/site/wp-content/uploads/2018/10/trunk-or-treat.webp
END:VEVENT
BEGIN:VEVENT
DTSTART;TZID=America/New_York:20251023T170000
DTEND;TZID=America/New_York:20251023T200000
DTSTAMP:20260423T185537
CREATED:20250917T141951Z
LAST-MODIFIED:20250917T142021Z
UID:10001522-1761238800-1761249600@yesfm.com
SUMMARY:Potsdam‘s Fright Night
DESCRIPTION:Fright Night 2025\n📅 Thursday\, October 23\, 2025\n🕔 5:00 PM – 8:00 PM\n📍 Market Street\, Potsdam \nThe Potsdam Chamber of Commerce invites you to a night of spooky fun in downtown Potsdam! Businesses\, clubs\, and civic groups are welcome to host a trunk for Trunk or Treat\, in addition to handing out candy. The Best Trunk will win a $25 Potsdam Chamber Gift Card. \n👗 Costume Contests – 6:00 PM\n• Best Family Costume\n• Best Adult Costume\n• Best Teen Costume\n• Best Children’s Costume \nInterested in hosting a trunk or sponsoring candy?\n📧 Contact: director@potsdamchamber.com
URL:https://yesfm.com/event/potsdams-fright-night-2/
LOCATION:Market Street Potsdam\, NY\, Market Street\, Potsdam\, NY\, 13676
CATEGORIES:Local Events
ATTACH;FMTTYPE=image/png:https://yesfm.com/site/wp-content/uploads/2025/09/Beige-and-Orange-Minimalist-Cute-Ghost-Halloween-Party-Poster-e1758118764975.png
END:VEVENT
BEGIN:VEVENT
DTSTART;TZID=America/New_York:20251023T170000
DTEND;TZID=America/New_York:20251023T183000
DTSTAMP:20260423T185537
CREATED:20251010T141152Z
LAST-MODIFIED:20251015T152644Z
UID:10001572-1761238800-1761244200@yesfm.com
SUMMARY:Community Supper
DESCRIPTION:Trinity Church\, 8 Maple St. Potsdam\, will host a free-will Community Supper from 5 to 6:30 p.m. Thursday October 23rd. The meal will include spaghetti\, salad\, Italian bread and dessert.
URL:https://yesfm.com/event/community-supper/
LOCATION:Trinity Church\, 8 Maple Street\, Potsdam\, United States
CATEGORIES:Local Events
ATTACH;FMTTYPE=image/png:https://yesfm.com/site/wp-content/uploads/2025/10/Community-Supper.png
END:VEVENT
BEGIN:VEVENT
DTSTART;TZID=America/New_York:20251019T110000
DTEND;TZID=America/New_York:20251019T150000
DTSTAMP:20260423T185537
CREATED:20250930T153355Z
LAST-MODIFIED:20250930T153355Z
UID:10001559-1760871600-1760886000@yesfm.com
SUMMARY:Prescott Curling Club Open House
DESCRIPTION:The Prescott Curling Club will have an Open House on Sunday October 19th from 11-3. Come tour the facility and give curling a try! The Club is on Henry Street West in Prescott.
URL:https://yesfm.com/event/prescott-curling-club-open-house/
LOCATION:Prescott Curling Club\, 439 Henry Street West\, Prescott\, Canada
CATEGORIES:Local Events
ATTACH;FMTTYPE=image/jpeg:https://yesfm.com/site/wp-content/uploads/2025/09/del-30.jpg
END:VEVENT
BEGIN:VEVENT
DTSTART;TZID=America/New_York:20251018T190000
DTEND;TZID=America/New_York:20251018T213000
DTSTAMP:20260423T185537
CREATED:20251015T152854Z
LAST-MODIFIED:20251015T152854Z
UID:10001568-1760814000-1760823000@yesfm.com
SUMMARY:Lisbon Contra Dance!
DESCRIPTION:Join us in Lisbon at the Town Hall for a fun family friendly\, old Fashioned Contra dance\, Caller Beth Robinson will teach all dances\, No prior experience required. Live Music will be provided by Contra North Saturday October 18th at 7pm. \nFREE ADMITTANCE! Drinks and snacks. \nSponsored by Terry Family Greenhouse.
URL:https://yesfm.com/event/lisbon-contra-dance/
LOCATION:Lisbon Town Hall\, 6963 CR 10\, Lisbon\, United States
CATEGORIES:Local Events
ATTACH;FMTTYPE=image/jpeg:https://yesfm.com/site/wp-content/uploads/2025/10/IMG_5520-e1760542127774.jpeg
END:VEVENT
BEGIN:VEVENT
DTSTART;TZID=America/New_York:20251018T180000
DTEND;TZID=America/New_York:20251018T200000
DTSTAMP:20260423T185537
CREATED:20251015T151152Z
LAST-MODIFIED:20251015T151152Z
UID:10001584-1760810400-1760817600@yesfm.com
SUMMARY:OFA Basketball Trivia Night
DESCRIPTION:OFA Boys Basketball Trivia Night Saturday at the Elks Lodge in Ogdensburg. Doors open at 6pm. Teams of 4 to 6 welcome\, $20 a person!
URL:https://yesfm.com/event/ofa-basketball-trivia-night/
LOCATION:Ogdensburg Elks Lodge
CATEGORIES:Local Events
ATTACH;FMTTYPE=image/jpeg:https://yesfm.com/site/wp-content/uploads/2025/10/del-9.jpg
END:VEVENT
BEGIN:VEVENT
DTSTART;TZID=America/New_York:20251018T180000
DTEND;TZID=America/New_York:20251018T200000
DTSTAMP:20260423T185537
CREATED:20251010T140048Z
LAST-MODIFIED:20251015T152957Z
UID:10001571-1760810400-1760817600@yesfm.com
SUMMARY:Ogdensburg Trunk or Treat
DESCRIPTION:Ogdensburg Trunk or Treat 2025 will be held Saturday\, Oct. 18 from 6-8 p.m. at the corner lot at Washington and State streets. The event is hosted by Seaway Valley Prevention Council and Community Health Center of the North Country.
URL:https://yesfm.com/event/ogdensburg-trunk-or-treat/
LOCATION:SVPC
CATEGORIES:Local Events
ATTACH;FMTTYPE=image/jpeg:https://yesfm.com/site/wp-content/uploads/2025/10/trunk.jpg
END:VEVENT
BEGIN:VEVENT
DTSTART;TZID=America/New_York:20251018T180000
DTEND;TZID=America/New_York:20251018T200000
DTSTAMP:20260423T185537
CREATED:20251010T135735Z
LAST-MODIFIED:20251015T153033Z
UID:10001570-1760810400-1760817600@yesfm.com
SUMMARY:Norwood Trunk or Treat
DESCRIPTION:Norwood Trunk or Treat will be held Saturday\, Oct. 18 from 6-8 p.m. in the Norwood Police Department parking lot at 12 Bernard Ave. The event is free to attend and open to the public.
URL:https://yesfm.com/event/norwood-trunk-or-treat/
LOCATION:Norwood Police\, 12 Bernard Ave\, Norwood\, United States
CATEGORIES:Local Events
ATTACH;FMTTYPE=image/png:https://yesfm.com/site/wp-content/uploads/2025/10/trunk.png
END:VEVENT
BEGIN:VEVENT
DTSTART;TZID=America/New_York:20251018T140000
DTEND;TZID=America/New_York:20251018T143000
DTSTAMP:20260423T185537
CREATED:20251007T134205Z
LAST-MODIFIED:20251015T153100Z
UID:10001564-1760796000-1760797800@yesfm.com
SUMMARY:The North Country Children’s Museum will present its very first Kids’ Stage Production\, The Witch’s Revenge
DESCRIPTION:The North Country Children’s Museum will present its very first Kids’ Stage Production\, The Witch’s Revenge\, on Saturday\, October 18th from 2:00 PM to 2:30 PM in Addie’s Opera House on the museum’s newly renovated second floor. The Children’s Museum is located at 10 Raymond Street in downtown Potsdam. \nThis original\, family-friendly Halloween production invites children of all ages to join the fun on stage or as an audience member and experience the magic of live theater. The performance is free with museum admission and membership. \nThe Witch’s Revenge marks the debut production of NCCM’s new Youth Theater Program\, an initiative designed to provide high-quality\, year-round theater education for children ages 12 and under and their families throughout the region. The program is led by Claire Derriennic\, an educator and theater-maker for young audiences with an MFA in Drama and Theatre for Youth. Derriennic brings international experience creating original theater for children in schools\, museums\, and community settings. \nThe Youth Theater Programming is made possible through a $10\,000 grant from the VanNess Fund of the Northern New York Community Foundation. This support enables NCCM to expand its mission of fostering creativity\, learning\, and community engagement through the arts. This grant is made possible because of the generosity of donors devoted to helping enhance the quality of life in our region through the Northern New York Community Foundation.
URL:https://yesfm.com/event/the-north-country-childrens-museum-will-present-its-very-first-kids-stage-production-the-witchs-revenge/
LOCATION:north country children’s museum\, 10 Raymond Street\, Potsdam\, NY
CATEGORIES:Local Events
ATTACH;FMTTYPE=image/png:https://yesfm.com/site/wp-content/uploads/2025/10/1.png
END:VEVENT
BEGIN:VEVENT
DTSTART;TZID=America/New_York:20251018T110000
DTEND;TZID=America/New_York:20251018T140000
DTSTAMP:20260423T185537
CREATED:20251015T153306Z
LAST-MODIFIED:20251015T153306Z
UID:10001581-1760785200-1760796000@yesfm.com
SUMMARY:Down Syndrome Autumn UpFest
DESCRIPTION:Saturday 10/18/25\, 11-2\, Applewood Orchards\, 176 Johnson Rd\, Rensselaer Falls\, NY. Fun\, food and games. Free admission to orchards for families with an individual with DS. Sponsored by the DSA of SLC
URL:https://yesfm.com/event/down-syndrome-autumn-upfest/
LOCATION:NY
CATEGORIES:Local Events
ATTACH;FMTTYPE=image/png:https://yesfm.com/site/wp-content/uploads/2025/10/IMG_1793-1-scaled-e1760542294748.png
END:VEVENT
BEGIN:VEVENT
DTSTART;TZID=America/New_York:20251018T100000
DTEND;TZID=America/New_York:20251018T150000
DTSTAMP:20260423T185537
CREATED:20250929T133346Z
LAST-MODIFIED:20250929T133346Z
UID:10001553-1760781600-1760799600@yesfm.com
SUMMARY:Craft Fair & Car Show
DESCRIPTION:Craft Fair at the Heuvelton Fire Hall\, 95 State St & Car Show at AMVETS Post 1997\, 107 State St. on Saturday October 18th from 10 to 3 – Contact Tasha 315-528-2055 for more info.
URL:https://yesfm.com/event/craft-fair-car-show/
LOCATION:heuvelton fire hall\, state street\, heuvelton\, NY
CATEGORIES:Local Events
ATTACH;FMTTYPE=image/webp:https://yesfm.com/site/wp-content/uploads/2018/11/Craft-Sale.webp
END:VEVENT
BEGIN:VEVENT
DTSTART;TZID=America/New_York:20251018T100000
DTEND;TZID=America/New_York:20251018T140000
DTSTAMP:20260423T185537
CREATED:20250929T133627Z
LAST-MODIFIED:20250929T133627Z
UID:10001554-1760781600-1760796000@yesfm.com
SUMMARY:Fall Craft Fair
DESCRIPTION:The Hepburn Library of Hermon will host its Fall Craft Fair on Saturday\, Oct. 18th\, from 10 a.m. to 2 p.m. at the Hermon Fire Department\, 165 Church St. The event will feature 25 to 30 vendors\, a food sale\, lottery board\, take-a-chance auction\, turkey dinner basket\, and door prizes. Proceeds will benefit the library.
URL:https://yesfm.com/event/fall-craft-fair/
LOCATION:Hermon Fire Department\, 165 Church Street\, Hermon\, United States
CATEGORIES:Local Events
ATTACH;FMTTYPE=image/jpeg:https://yesfm.com/site/wp-content/uploads/2025/09/del-28.jpg
END:VEVENT
BEGIN:VEVENT
DTSTART;TZID=America/New_York:20251018T090000
DTEND;TZID=America/New_York:20251018T120000
DTSTAMP:20260423T185537
CREATED:20251001T155537Z
LAST-MODIFIED:20251001T155537Z
UID:10001562-1760778000-1760788800@yesfm.com
SUMMARY:Run For Donuts 5k
DESCRIPTION:The Village of Canton Police Department is hosting it’s 1st Annual Run for Donuts 5K on October 18th at Partridge Run!\n\n\nAll proceeds will benefit the Canton Neighborhood Center\, helping support our local community.\n\n\n Fun for all ages – run\, walk\, or jog at your own pace and enjoy a sweet treat at the finish line!\n\n\n Date: Saturday\, October 18th\n Registration: 9:00 AM\n Race starts: 10:00 AM\n Location: Partridge Run\, Canton\n\n\nDon’t miss out – register today!
URL:https://yesfm.com/event/run-for-donuts-5k/
LOCATION:partridge run golf course\, 70 Sullivan Drive\, Canton\, United States
CATEGORIES:Local Events
ATTACH;FMTTYPE=image/jpeg:https://yesfm.com/site/wp-content/uploads/2025/10/del.jpg
END:VEVENT
BEGIN:VEVENT
DTSTART;TZID=America/New_York:20251018T090000
DTEND;TZID=America/New_York:20251018T100000
DTSTAMP:20260423T185537
CREATED:20250923T142133Z
LAST-MODIFIED:20250923T142133Z
UID:10001548-1760778000-1760781600@yesfm.com
SUMMARY:Spook-tacular 5k Walk
DESCRIPTION:A Spook-tacular 5k walk to benefit the Hermon Cemetery Association will happen on Saturday October 18th!   Registration is at 9am with the 5k starting at 10am at the Hermon Library\, 105 Main Street. \nThe Hermon Cemetery Association is raising funds for tree removal & roof repairs.  Join us for some fun\, and help raise money to ensure preservation of the cemetery grounds!
URL:https://yesfm.com/event/spook-tacular-5k-walk/
LOCATION:Hermon Library\, 105 Main St.\, Hermon\, United States
CATEGORIES:Local Events
ATTACH;FMTTYPE=image/jpeg:https://yesfm.com/site/wp-content/uploads/2025/09/del-25.jpg
END:VEVENT
BEGIN:VEVENT
DTSTART;TZID=America/New_York:20251017T170000
DTEND;TZID=America/New_York:20251017T210000
DTSTAMP:20260423T185537
CREATED:20250902T135312Z
LAST-MODIFIED:20250902T135333Z
UID:10001510-1760720400-1760734800@yesfm.com
SUMMARY:Ladies' Shopping Night - Downtown Brockville
DESCRIPTION:Ladies’ Shopping Night – Downtown Brockville Friday\, October 17\, 2025 | 5:00pm – 9:00pm\nGrab your besties\, it’s time for a night out in our very own Stars Hollow! Throw on your coziest scarf and get ready for a night of shopping\, surprises\, and a little bit of magic in Downtown Brockville. Whether you’re team coffee or cocktails\, this is your can’t-miss fall tradition. \n What’s in Store for Everyone (GA & VIP):– Downtown Deals: Exclusive discounts and offers at your favourite shops– Giveaways & Contests: Fabulous prizes just for stopping in– Hidden Surprises: Keep an eye out for wine glasses filled with goodies tucked away in participating stores\n Go VIP and Treat Yourself to Even More:– Limo Bus Rides: Ride in style between downtown stops– Swag Bag: A custom Downtown Brockville tote filled with surprises– Photo Op: Strike a pose and snap a pic– Ladies Night Passport: Collect stamps at participating stores for a chance to win our grand prize! Spend over $25 for bonus entries. – Early Gift Card Giveaway: Click ‘Going’ on this event for a chance to win a $100 Downtown Brockville gift card– More fun to come!\n Tickets & Entry:This event is free to attend\, but if you want the full VIP experience\, grab an exclusive ticket.
URL:https://yesfm.com/event/35478/
LOCATION:Downtown Brockville
CATEGORIES:Local Events
ATTACH;FMTTYPE=image/jpeg:https://yesfm.com/site/wp-content/uploads/2025/09/del-7.jpg
END:VEVENT
BEGIN:VEVENT
DTSTART;TZID=America/New_York:20251017T160000
DTEND;TZID=America/New_York:20251017T190000
DTSTAMP:20260423T185537
CREATED:20251007T134539Z
LAST-MODIFIED:20251007T134539Z
UID:10001565-1760716800-1760727600@yesfm.com
SUMMARY:VFW Fish Fry
DESCRIPTION:VFW Post 1231 Auxiliary\, Gouverneur Street in Canton\, will host an eat in or take out dining fish fry on Friday\, Oct.17th from 4pm till 7pm. Price will be $15.00 per dinner. Menu will consist of (breaded) deep fried fish or oven baked fish\, macaroni & cheese or french-fries\, coleslaw\, roll\, and desert. Take outs will be available by calling Post @ 315-386-8953. Thank you for your continued support of our organization.
URL:https://yesfm.com/event/vfw-fish-fry/
LOCATION:VFW Canton\, 34 Gouverneur Street\, Canton\, United States
CATEGORIES:Local Events
ATTACH;FMTTYPE=image/webp:https://yesfm.com/site/wp-content/uploads/2019/02/friday-fish-fry.webp
END:VEVENT
BEGIN:VEVENT
DTSTART;TZID=America/New_York:20251017T110000
DTEND;TZID=America/New_York:20251017T160000
DTSTAMP:20260423T185537
CREATED:20251010T134455Z
LAST-MODIFIED:20251010T134455Z
UID:10001569-1760698800-1760716800@yesfm.com
SUMMARY:Red Cross Blood Drive
DESCRIPTION:Canton-Potsdam Hospital is sponsoring a Red Cross Blood Drive on Friday\, Oct. 17\, at the First Presbyterian Church Fellowship Room\, 42 Elm St. Hours are 11 a.m. to 4 p.m. \nDonors must be healthy\, at least 16 years of age\, and weigh at least 110 lbs. Please consider a Double Red donation if you are O Neg\, O Pos\, A Neg\, or B Neg. \nDonors can pre-register using RapidPass; www.redcrossblood.org/rapidpass). Registration can only be completed the day of the drive prior to arrival. \nRegistration can be made online at www.redcrossblood.org\, or by contacting 1 (800) RED CROSS. First time donors and walk-ins are welcome.
URL:https://yesfm.com/event/red-cross-blood-drive-17/
LOCATION:42 Elm Street Potsdam\, NY\, 42 Elm Street\, Potsdam\, 13676\, United States
ATTACH;FMTTYPE=image/webp:https://yesfm.com/site/wp-content/uploads/2021/02/blood-test-5601437-1920.webp
END:VEVENT
BEGIN:VEVENT
DTSTART;TZID=America/New_York:20251016T080000
DTEND;TZID=America/New_York:20251116T170000
DTSTAMP:20260423T185537
CREATED:20251016T140834Z
LAST-MODIFIED:20251016T140834Z
UID:10001585-1760601600-1763312400@yesfm.com
SUMMARY:St. Lawrence County People Project
DESCRIPTION:“Winters are cold in the North Country and no child should be without warm clothing. St. Lawrence People Project provides warm winter boots\, coats\, hats and mittens (gloves) to children in need but we need assistance. Last year we helped over 200 kids stay warm!”  You can help out by sending a donation via check or Paypal or by going to the link at Wal-Mart and buying items there! \n  \n 
URL:https://yesfm.com/event/st-lawrence-county-people-project/
LOCATION:NY
CATEGORIES:Local Events
ATTACH;FMTTYPE=image/jpeg:https://yesfm.com/site/wp-content/uploads/2025/10/del-10.jpg
END:VEVENT
BEGIN:VEVENT
DTSTART;TZID=America/New_York:20251015T083000
DTEND;TZID=America/New_York:20251015T110000
DTSTAMP:20260423T185537
CREATED:20250929T140139Z
LAST-MODIFIED:20250929T140139Z
UID:10001555-1760517000-1760526000@yesfm.com
SUMMARY:Champions for Girls Breakfast
DESCRIPTION:Wednesday October 15th from 8:30-11am come to the Maitland Recreation Centre for a morning filled with delicious food\, inspiring guest speakers\, and a celebration of the incredible girls in our community—and the champions like you who make our work possible \n\n Tickets are available now! You can grab yours OR purchase a “pay-it-forward” ticket to make sure a girl\, family\, or community member who couldn’t otherwise attend can join us for this special day.\n\n Reserve your spot here: https://forms.gle/32zfU6TY4JuBQm3V6\n\nWe can’t wait to fill the room with inspiration\, connection\, and community—see you there!
URL:https://yesfm.com/event/champions-for-girls-breakfast/
LOCATION:Maitland Recreation Centre\, 120 East Mclean\, South Augusta\, Canada
CATEGORIES:Local Events
ATTACH;FMTTYPE=image/jpeg:https://yesfm.com/site/wp-content/uploads/2025/09/del-29.jpg
END:VEVENT
BEGIN:VEVENT
DTSTART;TZID=America/New_York:20251014T080000
DTEND;TZID=America/New_York:20251014T170000
DTSTAMP:20260423T185537
CREATED:20251014T135326Z
LAST-MODIFIED:20251014T135326Z
UID:10001579-1760428800-1760461200@yesfm.com
SUMMARY:Trunk or Treat at SUNY Canton
DESCRIPTION:👻 Trunk or Treat 🎃 \nDate: Friday\, Oct. 31 \nLocation: French Hall Parking Lot – SUNY Canton \nEvent Hours: 6:00 pm – 7:30 pm \nHosted by the SUNY Canton Early Childhood Program
URL:https://yesfm.com/event/trunk-or-treat-at-suny-canton/
LOCATION:SUNY Canton\, Cornell Drive\, Canton\, United States
CATEGORIES:Local Events
ATTACH;FMTTYPE=image/jpeg:https://yesfm.com/site/wp-content/uploads/2025/10/del-6.jpg
END:VEVENT
END:VCALENDAR