BEGIN:VCALENDAR
VERSION:2.0
PRODID:-//YES FM - ECPv6.15.15//NONSGML v1.0//EN
CALSCALE:GREGORIAN
METHOD:PUBLISH
X-WR-CALNAME:YES FM
X-ORIGINAL-URL:https://yesfm.com
X-WR-CALDESC:Events for YES FM
REFRESH-INTERVAL;VALUE=DURATION:PT1H
X-Robots-Tag:noindex
X-PUBLISHED-TTL:PT1H
BEGIN:VTIMEZONE
TZID:America/New_York
BEGIN:DAYLIGHT
TZOFFSETFROM:-0500
TZOFFSETTO:-0400
TZNAME:EDT
DTSTART:20240310T070000
END:DAYLIGHT
BEGIN:STANDARD
TZOFFSETFROM:-0400
TZOFFSETTO:-0500
TZNAME:EST
DTSTART:20241103T060000
END:STANDARD
BEGIN:DAYLIGHT
TZOFFSETFROM:-0500
TZOFFSETTO:-0400
TZNAME:EDT
DTSTART:20250309T070000
END:DAYLIGHT
BEGIN:STANDARD
TZOFFSETFROM:-0400
TZOFFSETTO:-0500
TZNAME:EST
DTSTART:20251102T060000
END:STANDARD
BEGIN:DAYLIGHT
TZOFFSETFROM:-0500
TZOFFSETTO:-0400
TZNAME:EDT
DTSTART:20260308T070000
END:DAYLIGHT
BEGIN:STANDARD
TZOFFSETFROM:-0400
TZOFFSETTO:-0500
TZNAME:EST
DTSTART:20261101T060000
END:STANDARD
END:VTIMEZONE
BEGIN:VEVENT
DTSTART;TZID=America/New_York:20251017T170000
DTEND;TZID=America/New_York:20251017T210000
DTSTAMP:20260423T215739
CREATED:20250902T135312Z
LAST-MODIFIED:20250902T135333Z
UID:10001510-1760720400-1760734800@yesfm.com
SUMMARY:Ladies' Shopping Night - Downtown Brockville
DESCRIPTION:Ladies’ Shopping Night – Downtown Brockville Friday\, October 17\, 2025 | 5:00pm – 9:00pm\nGrab your besties\, it’s time for a night out in our very own Stars Hollow! Throw on your coziest scarf and get ready for a night of shopping\, surprises\, and a little bit of magic in Downtown Brockville. Whether you’re team coffee or cocktails\, this is your can’t-miss fall tradition. \n What’s in Store for Everyone (GA & VIP):– Downtown Deals: Exclusive discounts and offers at your favourite shops– Giveaways & Contests: Fabulous prizes just for stopping in– Hidden Surprises: Keep an eye out for wine glasses filled with goodies tucked away in participating stores\n Go VIP and Treat Yourself to Even More:– Limo Bus Rides: Ride in style between downtown stops– Swag Bag: A custom Downtown Brockville tote filled with surprises– Photo Op: Strike a pose and snap a pic– Ladies Night Passport: Collect stamps at participating stores for a chance to win our grand prize! Spend over $25 for bonus entries. – Early Gift Card Giveaway: Click ‘Going’ on this event for a chance to win a $100 Downtown Brockville gift card– More fun to come!\n Tickets & Entry:This event is free to attend\, but if you want the full VIP experience\, grab an exclusive ticket.
URL:https://yesfm.com/event/35478/
LOCATION:Downtown Brockville
CATEGORIES:Local Events
ATTACH;FMTTYPE=image/jpeg:https://yesfm.com/site/wp-content/uploads/2025/09/del-7.jpg
END:VEVENT
BEGIN:VEVENT
DTSTART;TZID=America/New_York:20251017T160000
DTEND;TZID=America/New_York:20251017T190000
DTSTAMP:20260423T215739
CREATED:20251007T134539Z
LAST-MODIFIED:20251007T134539Z
UID:10001565-1760716800-1760727600@yesfm.com
SUMMARY:VFW Fish Fry
DESCRIPTION:VFW Post 1231 Auxiliary\, Gouverneur Street in Canton\, will host an eat in or take out dining fish fry on Friday\, Oct.17th from 4pm till 7pm. Price will be $15.00 per dinner. Menu will consist of (breaded) deep fried fish or oven baked fish\, macaroni & cheese or french-fries\, coleslaw\, roll\, and desert. Take outs will be available by calling Post @ 315-386-8953. Thank you for your continued support of our organization.
URL:https://yesfm.com/event/vfw-fish-fry/
LOCATION:VFW Canton\, 34 Gouverneur Street\, Canton\, United States
CATEGORIES:Local Events
ATTACH;FMTTYPE=image/webp:https://yesfm.com/site/wp-content/uploads/2019/02/friday-fish-fry.webp
END:VEVENT
BEGIN:VEVENT
DTSTART;TZID=America/New_York:20251017T110000
DTEND;TZID=America/New_York:20251017T160000
DTSTAMP:20260423T215739
CREATED:20251010T134455Z
LAST-MODIFIED:20251010T134455Z
UID:10001569-1760698800-1760716800@yesfm.com
SUMMARY:Red Cross Blood Drive
DESCRIPTION:Canton-Potsdam Hospital is sponsoring a Red Cross Blood Drive on Friday\, Oct. 17\, at the First Presbyterian Church Fellowship Room\, 42 Elm St. Hours are 11 a.m. to 4 p.m. \nDonors must be healthy\, at least 16 years of age\, and weigh at least 110 lbs. Please consider a Double Red donation if you are O Neg\, O Pos\, A Neg\, or B Neg. \nDonors can pre-register using RapidPass; www.redcrossblood.org/rapidpass). Registration can only be completed the day of the drive prior to arrival. \nRegistration can be made online at www.redcrossblood.org\, or by contacting 1 (800) RED CROSS. First time donors and walk-ins are welcome.
URL:https://yesfm.com/event/red-cross-blood-drive-17/
LOCATION:42 Elm Street Potsdam\, NY\, 42 Elm Street\, Potsdam\, 13676\, United States
ATTACH;FMTTYPE=image/webp:https://yesfm.com/site/wp-content/uploads/2021/02/blood-test-5601437-1920.webp
END:VEVENT
BEGIN:VEVENT
DTSTART;TZID=America/New_York:20251016T080000
DTEND;TZID=America/New_York:20251116T170000
DTSTAMP:20260423T215739
CREATED:20251016T140834Z
LAST-MODIFIED:20251016T140834Z
UID:10001585-1760601600-1763312400@yesfm.com
SUMMARY:St. Lawrence County People Project
DESCRIPTION:“Winters are cold in the North Country and no child should be without warm clothing. St. Lawrence People Project provides warm winter boots\, coats\, hats and mittens (gloves) to children in need but we need assistance. Last year we helped over 200 kids stay warm!”  You can help out by sending a donation via check or Paypal or by going to the link at Wal-Mart and buying items there! \n  \n 
URL:https://yesfm.com/event/st-lawrence-county-people-project/
LOCATION:NY
CATEGORIES:Local Events
ATTACH;FMTTYPE=image/jpeg:https://yesfm.com/site/wp-content/uploads/2025/10/del-10.jpg
END:VEVENT
BEGIN:VEVENT
DTSTART;TZID=America/New_York:20251015T083000
DTEND;TZID=America/New_York:20251015T110000
DTSTAMP:20260423T215739
CREATED:20250929T140139Z
LAST-MODIFIED:20250929T140139Z
UID:10001555-1760517000-1760526000@yesfm.com
SUMMARY:Champions for Girls Breakfast
DESCRIPTION:Wednesday October 15th from 8:30-11am come to the Maitland Recreation Centre for a morning filled with delicious food\, inspiring guest speakers\, and a celebration of the incredible girls in our community—and the champions like you who make our work possible \n\n Tickets are available now! You can grab yours OR purchase a “pay-it-forward” ticket to make sure a girl\, family\, or community member who couldn’t otherwise attend can join us for this special day.\n\n Reserve your spot here: https://forms.gle/32zfU6TY4JuBQm3V6\n\nWe can’t wait to fill the room with inspiration\, connection\, and community—see you there!
URL:https://yesfm.com/event/champions-for-girls-breakfast/
LOCATION:Maitland Recreation Centre\, 120 East Mclean\, South Augusta\, Canada
CATEGORIES:Local Events
ATTACH;FMTTYPE=image/jpeg:https://yesfm.com/site/wp-content/uploads/2025/09/del-29.jpg
END:VEVENT
BEGIN:VEVENT
DTSTART;TZID=America/New_York:20251014T080000
DTEND;TZID=America/New_York:20251014T170000
DTSTAMP:20260423T215739
CREATED:20251014T135326Z
LAST-MODIFIED:20251014T135326Z
UID:10001579-1760428800-1760461200@yesfm.com
SUMMARY:Trunk or Treat at SUNY Canton
DESCRIPTION:👻 Trunk or Treat 🎃 \nDate: Friday\, Oct. 31 \nLocation: French Hall Parking Lot – SUNY Canton \nEvent Hours: 6:00 pm – 7:30 pm \nHosted by the SUNY Canton Early Childhood Program
URL:https://yesfm.com/event/trunk-or-treat-at-suny-canton/
LOCATION:SUNY Canton\, Cornell Drive\, Canton\, United States
CATEGORIES:Local Events
ATTACH;FMTTYPE=image/jpeg:https://yesfm.com/site/wp-content/uploads/2025/10/del-6.jpg
END:VEVENT
BEGIN:VEVENT
DTSTART;TZID=America/New_York:20251014T080000
DTEND;TZID=America/New_York:20251014T170000
DTSTAMP:20260423T215739
CREATED:20251014T133600Z
LAST-MODIFIED:20251014T133600Z
UID:10001575-1760428800-1760461200@yesfm.com
SUMMARY:Kids' Halloween Party
DESCRIPTION:🎃 Kids’ Halloween Party 🎃 Maitland Recreation Centre \nSunday\, October 26th | 2pm to 4pm \nGet ready for a spooktacular afternoon with games\, crafts\, snacks and more! Take a daring walk through the Maitland Trails\, where spooky surprises await around every turn. \nDon’t forget to come dressed in your Halloween costume!
URL:https://yesfm.com/event/kids-halloween-party/
LOCATION:Maitland Recreation Centre\, 120 East Mclean\, South Augusta\, Canada
CATEGORIES:Local Events
ATTACH;FMTTYPE=image/jpeg:https://yesfm.com/site/wp-content/uploads/2025/10/del-2.jpg
END:VEVENT
BEGIN:VEVENT
DTSTART;TZID=America/New_York:20251012T080000
DTEND;TZID=America/New_York:20251012T110000
DTSTAMP:20260423T215739
CREATED:20250929T133041Z
LAST-MODIFIED:20250929T133041Z
UID:10001552-1760256000-1760266800@yesfm.com
SUMMARY:AMVETS Breakfast
DESCRIPTION:The Heuvelton AMVETS will have a Buffet Breakfast on Sunday October 12th from 8 to 11am . Donations accepted – AMVETS Post 1997 is at 107 State Street in Heuvelton.
URL:https://yesfm.com/event/amvets-breakfast-3/
LOCATION:Heuvelton AMVETS\, 107 State Street\, Heuvelton\, United States
CATEGORIES:Local Events
ATTACH;FMTTYPE=image/jpeg:https://yesfm.com/site/wp-content/uploads/2024/09/bigbreakfastpancakes-e1768926023543.jpg
END:VEVENT
BEGIN:VEVENT
DTSTART;TZID=America/New_York:20251011T150000
DTEND;TZID=America/New_York:20251011T180000
DTSTAMP:20260423T215739
CREATED:20250923T135059Z
LAST-MODIFIED:20250923T135059Z
UID:10001547-1760194800-1760205600@yesfm.com
SUMMARY:Benefit Spaghetti Dinner
DESCRIPTION:A benefit spaghetti dinner for the Norwood Brass Firemen will be held Saturday October 11th from 3 to 6 p.m. at the Norwood American Legion\, 10 Maple St. The menu includes spaghetti with meatballs\, salad\, Italian bread\, and dessert. Donations are accepted at the door. Entertainment will feature the Brass Firemen from 4–5 p.m. and Marty Robinson from 5–7 p.m. Proceeds support the purchase of a new bus.
URL:https://yesfm.com/event/benefit-spaghetti-dinner/
LOCATION:norwood legion\, 10 Maple Street\, Norwood\, United States
CATEGORIES:Local Events
ATTACH;FMTTYPE=image/jpeg:https://yesfm.com/site/wp-content/uploads/2024/09/spaghetti-745468_1280-1.jpg
END:VEVENT
BEGIN:VEVENT
DTSTART;TZID=America/New_York:20251011T120000
DTEND;TZID=America/New_York:20251011T170000
DTSTAMP:20260423T215739
CREATED:20251003T120323Z
LAST-MODIFIED:20251003T120323Z
UID:10001563-1760184000-1760202000@yesfm.com
SUMMARY:Massena Hospital Auxiliary Annual Spaghetti Dinner Fundraiser
DESCRIPTION:Massena Hospital Auxiliary Annual Spaghetti Dinner Fundraiser on Saturday\, October 11 12 pm – 6 pm or until sold out at the Italian-American Club\, 16 Beach Street\, in Massena.  Spaghetti\, meatballs\, salad\, bread& butter\, beverage\, and dessert for $12. Beverage choices include coffee\, tea\, or water. Sit down or takeout available.
URL:https://yesfm.com/event/massena-hospital-auxiliary-annual-spaghetti-dinner-fundraiser/
LOCATION:Italian American Club\, 16 Beach Street\, Massena\, United States
CATEGORIES:Local Events
ATTACH;FMTTYPE=image/jpeg:https://yesfm.com/site/wp-content/uploads/2024/09/spaghetti-1604836_1280-3.jpg
END:VEVENT
BEGIN:VEVENT
DTSTART;TZID=America/New_York:20251011T093000
DTEND;TZID=America/New_York:20251011T110000
DTSTAMP:20260423T215739
CREATED:20250926T125241Z
LAST-MODIFIED:20250926T125241Z
UID:10001550-1760175000-1760180400@yesfm.com
SUMMARY:Angel Dash
DESCRIPTION:Angel Dash Saturday October 11th at the Potsdam High School Outdoor Track It’s an un-timed 5k Run & Walk Gates & Registration open at 9:30am Dash starts at 10:00am Dash in person or virtually for $25
URL:https://yesfm.com/event/angel-dash/
LOCATION:potsdam high school track\, 29 Leroy Street\, Potsdam\, United States
CATEGORIES:Local Events
ATTACH;FMTTYPE=image/jpeg:https://yesfm.com/site/wp-content/uploads/2025/09/del-27.jpg
END:VEVENT
BEGIN:VEVENT
DTSTART;TZID=America/New_York:20251010T163000
DTEND;TZID=America/New_York:20251010T183000
DTSTAMP:20260423T215739
CREATED:20250929T132747Z
LAST-MODIFIED:20250929T132747Z
UID:10001551-1760113800-1760121000@yesfm.com
SUMMARY:K of C Fish Fry
DESCRIPTION:A fish fry will be held Friday\, Oct 10\, at Knights of Columbus\, 721 Hasbrouck St. The menu includes fried haddock\, Mac and cheese\, fries\, fried clams\, fried shrimp\, chicken nuggets\, Cole slaw\, baked potato and rolls. Baked haddock needs a half hour notice. The meal is served from 4:30 to 6:30 p.m. and is dine-in\, pick up or delivery. A single serving is $14\, and $17 for two trips to the buffet. Desserts are $1.
URL:https://yesfm.com/event/k-of-c-fish-fry/
LOCATION:Ogdensburg Knights of Columbus\, 721 Hasbrouck Street\, OGDENSBURG\, NY\, 13669\, United States
CATEGORIES:Local Events
ATTACH;FMTTYPE=image/webp:https://yesfm.com/site/wp-content/uploads/2019/03/Fish-Fry-e1774276265627.webp
END:VEVENT
BEGIN:VEVENT
DTSTART;TZID=America/New_York:20251010T130000
DTEND;TZID=America/New_York:20251010T150000
DTSTAMP:20260423T215739
CREATED:20250903T144348Z
LAST-MODIFIED:20250903T144348Z
UID:10001499-1760101200-1760108400@yesfm.com
SUMMARY:United Helpers Independent Senior Living Open House
DESCRIPTION:United Helpers Independent Senior Living will host an open house on Friday\, Oct. 10 from 1 to 3 pm. Staff will lead tours of the building and be available to answer any questions you may have. Applications will be available.
URL:https://yesfm.com/event/united-helpers-independent-senior-living-open-house/
LOCATION:30 Sullivan Drive\, Canton\, NY\, 30 Sullivan Drive\, Canton\, 13617\, United States
CATEGORIES:Local Events
ATTACH;FMTTYPE=image/jpeg:https://yesfm.com/site/wp-content/uploads/2025/08/ISL-image-crop-scaled-e1756910609847.jpg
END:VEVENT
BEGIN:VEVENT
DTSTART;TZID=America/New_York:20251009T163000
DTEND;TZID=America/New_York:20251009T180000
DTSTAMP:20260423T215739
CREATED:20250923T143150Z
LAST-MODIFIED:20250923T143150Z
UID:10001540-1760027400-1760032800@yesfm.com
SUMMARY:Presentation by Nellie Coakley
DESCRIPTION:Nellie served as an Army nurse at the 7th Surgical Hospital in Vietnam from 1968-1969. She completed her military service after Vietnam as the head nurse of the orthopedic-amputee ward at Walter Reed Medical Center in Washington DC. Nellie obtained the first VA Center contract to counsel veterans with war trauma in St. Lawrence\, Jefferson and Lewis counties\, providing counseling services for 28 years. Nellie also served as the New York State coordinator for the Vietnam Women’s Memorial Project. Her presentation will focus on her own experience as it relates to the New York Times Best Selling author Kristin Hannah’s book “The Women”.
URL:https://yesfm.com/event/presentation-by-nellie-coakley/
LOCATION:Waddinton Hepburn Library\, 30 Main Street\, Waddington\, 13694\, United States
CATEGORIES:Local Events
ATTACH;FMTTYPE=image/jpeg:https://yesfm.com/site/wp-content/uploads/2025/09/lib.jpg
ORGANIZER;CN="Friends of the Waddington Library":MAILTO:wadlib@ncls.org
END:VEVENT
BEGIN:VEVENT
DTSTART;TZID=America/New_York:20251005T103000
DTEND;TZID=America/New_York:20251005T120000
DTSTAMP:20260423T215739
CREATED:20250926T120056Z
LAST-MODIFIED:20250926T120056Z
UID:10001549-1759660200-1759665600@yesfm.com
SUMMARY:2025 Brockville Butterfly Run
DESCRIPTION:2025 Brockville Butterfly Run is taking place on Sunday\, October 5 at the TISS track.\n� This year our goal is to raise $8\,000! �\nYou can help us get reach that goal:� Register to walk with us and collect donations� Donate to a registered walker or team\nThis year’s funds will be going to QueenCare – its a Mom thing to continue to support loss mom’s and families in Leeds and Grenville and to Lachlan’s Light Canada to support their annual retreat for loss mom’s\, which some of you may have previously attended.\nWe thank you for all of your support as we work towards reaching our goal and continue to support loss families.\nTo register or donate: https://raceroster.com/…/2025-brockville-butterfly-run…
URL:https://yesfm.com/event/2025-brockville-butterfly-run/
LOCATION:Brockville Tunnel\, 16 Market Street\, Brockville\, Canada
ATTACH;FMTTYPE=image/jpeg:https://yesfm.com/site/wp-content/uploads/2025/09/del-26.jpg
END:VEVENT
BEGIN:VEVENT
DTSTART;TZID=America/New_York:20251004T170000
DTEND;TZID=America/New_York:20251004T190000
DTSTAMP:20260423T215739
CREATED:20250930T153127Z
LAST-MODIFIED:20250930T153127Z
UID:10001558-1759597200-1759604400@yesfm.com
SUMMARY:Spaghetti Night Fundraiser
DESCRIPTION:Spaghetti Night Fundraiser Saturday at 5pm at the Cardinal Legion\, 105 Cardinal Way. Dinner served until gone\, benefits the building fund.
URL:https://yesfm.com/event/spaghetti-night-fundraiser/
LOCATION:cardinal legion\, 105 Legion Way\, cardinal\, ON\, Canada
CATEGORIES:Local Events
ATTACH;FMTTYPE=image/webp:https://yesfm.com/site/wp-content/uploads/2018/12/Spaghetti-Dinner.webp
END:VEVENT
BEGIN:VEVENT
DTSTART;TZID=America/New_York:20251004T120000
DTEND;TZID=America/New_York:20251004T170000
DTSTAMP:20260423T215739
CREATED:20250922T135150Z
LAST-MODIFIED:20250922T135221Z
UID:10001542-1759579200-1759597200@yesfm.com
SUMMARY:Remington's Birthday
DESCRIPTION:You’re invited to a party more than a century in the making! Join us at the Frederic Remington Art Museum on Saturday\, October 4th\, 2025 from 12:00PM – 4:00PM as we celebrate the life and legacy of the legendary American artist on his birthday.\n\nStep into Remington’s world for a day filled with art\, history\, community\, and fun. We’ll honor the man behind the masterpieces with free admission and of course\, birthday cake!
URL:https://yesfm.com/event/remingtons-birthday/
LOCATION:Frederic Remington Art Museum\, 303 Washington Street\, Ogdensburg\, 13669\, United States
CATEGORIES:Local Events
ATTACH;FMTTYPE=image/jpeg:https://yesfm.com/site/wp-content/uploads/2025/09/del-21.jpg
END:VEVENT
BEGIN:VEVENT
DTSTART;TZID=America/New_York:20251004T100000
DTEND;TZID=America/New_York:20251004T140000
DTSTAMP:20260423T215739
CREATED:20250930T152957Z
LAST-MODIFIED:20250930T152957Z
UID:10001557-1759572000-1759586400@yesfm.com
SUMMARY:Bake and Craft Sale
DESCRIPTION:Bake and Craft Sale with 28 vendors Saturday from 10-2 at St. John’s United Church\, 2120 Dundas Street in Cardinal. Adults $12\, kids $6.
URL:https://yesfm.com/event/bake-and-craft-sale/
LOCATION:St. John’s United Church\, 2120 Dundas Street\, Cardinal\, Canada
CATEGORIES:Local Events
ATTACH;FMTTYPE=image/webp:https://yesfm.com/site/wp-content/uploads/2018/11/Craft-Sale.webp
END:VEVENT
BEGIN:VEVENT
DTSTART;TZID=America/New_York:20251004T090000
DTEND;TZID=America/New_York:20251004T130000
DTSTAMP:20260423T215739
CREATED:20250923T143356Z
LAST-MODIFIED:20250923T143356Z
UID:10001532-1759568400-1759582800@yesfm.com
SUMMARY:Used Book Sale
DESCRIPTION:BRASHER FALLS – Friends of the Badenhausen Public Library will be holding their monthly used book sale on Saturday\, October 4th from 9 am to 1 pm at the Badenhausen Library\, 897 Main Street\, Brasher Falls. \nBook prices are as follows: Adult Hardcover $2\, Adult Paperback $1\, Children’s Hardcover $1\, and Children’s Paperback and Board Books 2/$1. Children and young adults can select one free book at each monthly book sale. Funds raised will benefit the Badenhausen Public Library. Friends of the Badenhausen Public Library will hold book sales on the first Saturday of each month as an on-going fundraiser.
URL:https://yesfm.com/event/used-book-sale-2/
LOCATION:Badenhausen Library
CATEGORIES:Local Events
ATTACH;FMTTYPE=image/jpeg:https://yesfm.com/site/wp-content/uploads/2025/04/books-8594725_1280-e1758638028730.jpg
ORGANIZER;CN="Friends of the Badenhausen Library":MAILTO:annnorton1895@gmail.com
END:VEVENT
BEGIN:VEVENT
DTSTART;TZID=America/New_York:20251004T090000
DTEND;TZID=America/New_York:20251004T120000
DTSTAMP:20260423T215739
CREATED:20250922T134636Z
LAST-MODIFIED:20250922T134636Z
UID:10001539-1759568400-1759579200@yesfm.com
SUMMARY:Fall Shred Day
DESCRIPTION:Fall Shred Day is Saturday October 4th from 9 to Noon at the St. Lawrence Federal Credit Union\, Commerce Park Drive location. Safely and securely dispose of your outdated personal and confidential documents during our FREE shred event. Limit of 10 boxes per automobile. \nNo 3 ring binders or hanging files. \nShredding is provided by Summit Shred Lab
URL:https://yesfm.com/event/fall-shred-day/
LOCATION:St. Lawrence Federal Credit Union\, 800 Commerce Park Drive\, OGDENSBURG\, NY\, United States
CATEGORIES:Local Events
ATTACH;FMTTYPE=image/jpeg:https://yesfm.com/site/wp-content/uploads/2025/09/del-19.jpg
END:VEVENT
BEGIN:VEVENT
DTSTART;TZID=America/New_York:20251004T080000
DTEND;TZID=America/New_York:20251004T110000
DTSTAMP:20260423T215739
CREATED:20250923T134751Z
LAST-MODIFIED:20250923T134751Z
UID:10001546-1759564800-1759575600@yesfm.com
SUMMARY:Potsdam AMVETS Breakfast
DESCRIPTION:Potsdam Amvets Post 282\, 6771 U.S. Highway 11\, will host a breakfast from Saturday October 4th 8-11 a.m.; open to the public; donations are appreciated.
URL:https://yesfm.com/event/potsdam-amvets-breakfast/
LOCATION:Potsdam Amvets\, 6771 US-11\, potsdam\, United States
CATEGORIES:Local Events
ATTACH;FMTTYPE=image/jpeg:https://yesfm.com/site/wp-content/uploads/2024/09/bigbreakfastpancakes-e1768926023543.jpg
END:VEVENT
BEGIN:VEVENT
DTSTART;TZID=America/New_York:20251004T080000
DTEND;TZID=America/New_York:20251004T110000
DTSTAMP:20260423T215739
CREATED:20250919T134732Z
LAST-MODIFIED:20250919T134759Z
UID:10001535-1759564800-1759575600@yesfm.com
SUMMARY:Amvets Breakfast
DESCRIPTION:Potsdam Amvets Post 282\, 6771 U.S. Highway 11\, will host a breakfast from 8-11 a.m. on Saturday October 4th; open to the public; donations are appreciated.
URL:https://yesfm.com/event/amvets-breakfast-2/
LOCATION:Potsdam Amvets\, 6771 US-11\, potsdam\, United States
CATEGORIES:Local Events
ATTACH;FMTTYPE=image/webp:https://yesfm.com/site/wp-content/uploads/2019/01/Breakfast.webp
END:VEVENT
BEGIN:VEVENT
DTSTART;TZID=America/New_York:20251003T100000
DTEND;TZID=America/New_York:20251003T160000
DTSTAMP:20260423T215739
CREATED:20250923T134357Z
LAST-MODIFIED:20250923T134357Z
UID:10001545-1759485600-1759507200@yesfm.com
SUMMARY:Colton AMVETS Flea Market
DESCRIPTION:The Colton Ladies Auxiliary AMVETS Post 262 will host a flea market from 10 a.m. to 4 p.m. Friday October 3rd at 5082 State Highway 56. Vendor tables are available for $10. To reserve a spot\, call Grace at 315-262-2439 or Linda at 315-244-2100.
URL:https://yesfm.com/event/colton-amvets-flea-market/
LOCATION:Colton Amvets\, 5082 State Highway 56\, Colton\, United States
CATEGORIES:Local Events
ATTACH;FMTTYPE=image/jpeg:https://yesfm.com/site/wp-content/uploads/2025/09/del-24.jpg
END:VEVENT
BEGIN:VEVENT
DTSTART;TZID=America/New_York:20251003T083000
DTEND;TZID=America/New_York:20251004T120000
DTSTAMP:20260423T215739
CREATED:20250923T133752Z
LAST-MODIFIED:20250923T133752Z
UID:10001544-1759480200-1759579200@yesfm.com
SUMMARY:Rummage Sale
DESCRIPTION:Rummage Sale at First Presbyterian Church\, 42 Elm St. Potsdam; Friday (10/3) from 8:30 a.m. to 4 p.m.; and Sat.(10/4) from 8:30 a.m. to noon.
URL:https://yesfm.com/event/rummage-sale-3/
LOCATION:potsdam first presbyterian church\, 42 Elm Street\, Potsdam\, United States
CATEGORIES:Local Events
ATTACH;FMTTYPE=image/jpeg:https://yesfm.com/site/wp-content/uploads/2025/09/del-23.jpg
END:VEVENT
BEGIN:VEVENT
DTSTART;TZID=America/New_York:20251002T090000
DTEND;TZID=America/New_York:20251003T140000
DTSTAMP:20260423T215739
CREATED:20250919T134137Z
LAST-MODIFIED:20250919T134137Z
UID:10001534-1759395600-1759500000@yesfm.com
SUMMARY:Rummage Sale
DESCRIPTION:Trinity Church\, 8 Maple St.\, will hold a rummage sale on Thursday\, October 2nd from 8 a.m. to 4 p.m. and on Friday\, October 3rd from 8 a.m. to 2 p.m.
URL:https://yesfm.com/event/rummage-sale-2/
LOCATION:Trinity Church\, 8 Maple Street\, Potsdam\, United States
CATEGORIES:Local Events
ATTACH;FMTTYPE=image/jpeg:https://yesfm.com/site/wp-content/uploads/2025/09/del-18.jpg
END:VEVENT
BEGIN:VEVENT
DTSTART;TZID=America/New_York:20250930T160000
DTEND;TZID=America/New_York:20250930T180000
DTSTAMP:20260423T215739
CREATED:20250919T133756Z
LAST-MODIFIED:20250919T133756Z
UID:10001533-1759248000-1759255200@yesfm.com
SUMMARY:Chicken & Biscuit Dinner
DESCRIPTION:West Stockholm United Methodist Church will host a takeout Chicken & Biscuit Dinner from 4–6 p.m. (or until sold out) at 36 County Route 57. Menu includes chicken with biscuits\, mashed potatoes\, gravy\, pickles\, green beans\, and cake. Cost is $12. Pre-order by calling or texting 315-261-0966 or 315-212-8479.
URL:https://yesfm.com/event/chicken-biscuit-dinner-2/
LOCATION:West Stockholm United Methodist Church\, 36 County Route 57\, West Stockholm\, NY
CATEGORIES:Local Events
ATTACH;FMTTYPE=image/webp:https://yesfm.com/site/wp-content/uploads/2018/11/chicken_and_biscuit-dinner1.webp
END:VEVENT
BEGIN:VEVENT
DTSTART;TZID=America/New_York:20250927T100000
DTEND;TZID=America/New_York:20250927T170000
DTSTAMP:20260423T215739
CREATED:20250917T145757Z
LAST-MODIFIED:20250917T145757Z
UID:10001531-1758967200-1758992400@yesfm.com
SUMMARY:Ogdensburg Fall Festival
DESCRIPTION:The annual Fall Festival\, with live music\, food\, alcohol and craft vendors\, and kids activities\, is returning to Ogdensburg Saturday Sept. 27. The event at Morissette Park will kick off with a 5K run starting at 9 a.m. Live music from Elev8 Entertainment\, a petting zoo\, hay rides\, pumpkin painting\, bounce houses\, and games will be offered from 10 a.m.-2 p.m.\, From 2 p.m.-p.m.\, live bands Permanent Detour and Plan B will be performing. There will be food trucks\, craft vendors\, and alcohol vendors from 10 a.m.-7 p.m. The free event is hosted by the City of Ogdensburg and the Seaway Festival Special Events Committee. If you are a vendor interested in this event\, please contact Michelle Morrison at 315-528-0332. For more information phone 315-393-1980. \n  \n 
URL:https://yesfm.com/event/ogdensburg-fall-festival/
LOCATION:Morrisette Park\, 2 Caroline Street\, Ogdensburg\, United States
CATEGORIES:Local Events
ATTACH;FMTTYPE=image/jpeg:https://yesfm.com/site/wp-content/uploads/2025/09/del-17.jpg
END:VEVENT
BEGIN:VEVENT
DTSTART;TZID=America/New_York:20250927T100000
DTEND;TZID=America/New_York:20250927T153000
DTSTAMP:20260423T215739
CREATED:20250917T144533Z
LAST-MODIFIED:20250917T144533Z
UID:10001530-1758967200-1758987000@yesfm.com
SUMMARY:Classic Car Show
DESCRIPTION:Trinity Church\, 8 Maple St Potsdam\, will host a Classic Car Show on Saturday\, Sept 27 from 10 a.m. until 3 p.m. on the church grounds. Besides the car show there will be food\, coffee\, raffles and a silent auction.
URL:https://yesfm.com/event/classic-car-show-2/
LOCATION:Trinity Church\, 8 Maple Street\, Potsdam\, United States
CATEGORIES:Local Events
ATTACH;FMTTYPE=image/jpeg:https://yesfm.com/site/wp-content/uploads/2025/09/del-16.jpg
END:VEVENT
BEGIN:VEVENT
DTSTART;TZID=America/New_York:20250927T100000
DTEND;TZID=America/New_York:20250927T130000
DTSTAMP:20260423T215739
CREATED:20250922T134852Z
LAST-MODIFIED:20250922T134919Z
UID:10001541-1758967200-1758978000@yesfm.com
SUMMARY:Slime Fest
DESCRIPTION:The North Country Children’s Museum will celebrate Worldwide Day of Play with SlimeFest on Saturday\, September 27\, from 10 a.m. to 1 p.m. Families can explore the science of polymers and non-Newtonian fluids by trying a slime buffet\, stepping into a pool of oobleck\, testing a vacuum chamber\, and more. Worldwide Day of Play is a international effort encouraging children and families to get moving\, play\, and learn together. Sponsored by Nickelodeon and the Association of Children’s Museums\, the event is included with museum admission and membership. No preregistration is required.
URL:https://yesfm.com/event/slime-fest/
LOCATION:north country children’s museum\, 10 Raymond Street\, Potsdam\, NY
CATEGORIES:Local Events
ATTACH;FMTTYPE=image/jpeg:https://yesfm.com/site/wp-content/uploads/2025/09/del-20.jpg
END:VEVENT
BEGIN:VEVENT
DTSTART;TZID=America/New_York:20250927T090000
DTEND;TZID=America/New_York:20250927T170000
DTSTAMP:20260423T215739
CREATED:20250902T140554Z
LAST-MODIFIED:20250902T140554Z
UID:10001512-1758963600-1758992400@yesfm.com
SUMMARY:Balls of Fire Dodgeball Tournament
DESCRIPTION:Get Ready to Dodge\, Duck\, Dip\, Dive & DODGE! \nWe’re turning up the heat with the Balls of Fire Dodgeball Tournament in support of the Bells and Ladders Women in Firefighting Program!\n Date: Saturday\, September 27  Location: Rotary Park ODR Entry Fee: $299/team\n Why join?\n Support women breaking barriers in firefighting  High-energy fun for players & fans alike  Prizes\, bragging rights\, and community spirit \n Gather your team\, bring your best game face\, and let’s make this event one for the books! Register today: informationatpeak@gmail.com\n All proceeds go to support women in firefighting through the Bells and Ladders program.\nThank you to Heavy Weights Gym and @tier1supps for being our Main Sponsors of this years event\n Don’t miss it – spots are limited!
URL:https://yesfm.com/event/balls-of-fire-dodgeball-tournament/
LOCATION:rotary park\, 148 George Street\, Brockville\, ON\, Canada
CATEGORIES:Local Events
ATTACH;FMTTYPE=image/jpeg:https://yesfm.com/site/wp-content/uploads/2025/09/del-9.jpg
END:VEVENT
END:VCALENDAR