BEGIN:VCALENDAR
VERSION:2.0
PRODID:-//YES FM - ECPv6.15.15//NONSGML v1.0//EN
CALSCALE:GREGORIAN
METHOD:PUBLISH
X-ORIGINAL-URL:https://yesfm.com
X-WR-CALDESC:Events for YES FM
REFRESH-INTERVAL;VALUE=DURATION:PT1H
X-Robots-Tag:noindex
X-PUBLISHED-TTL:PT1H
BEGIN:VTIMEZONE
TZID:America/New_York
BEGIN:DAYLIGHT
TZOFFSETFROM:-0500
TZOFFSETTO:-0400
TZNAME:EDT
DTSTART:20250309T070000
END:DAYLIGHT
BEGIN:STANDARD
TZOFFSETFROM:-0400
TZOFFSETTO:-0500
TZNAME:EST
DTSTART:20251102T060000
END:STANDARD
BEGIN:DAYLIGHT
TZOFFSETFROM:-0500
TZOFFSETTO:-0400
TZNAME:EDT
DTSTART:20260308T070000
END:DAYLIGHT
BEGIN:STANDARD
TZOFFSETFROM:-0400
TZOFFSETTO:-0500
TZNAME:EST
DTSTART:20261101T060000
END:STANDARD
BEGIN:DAYLIGHT
TZOFFSETFROM:-0500
TZOFFSETTO:-0400
TZNAME:EDT
DTSTART:20270314T070000
END:DAYLIGHT
BEGIN:STANDARD
TZOFFSETFROM:-0400
TZOFFSETTO:-0500
TZNAME:EST
DTSTART:20271107T060000
END:STANDARD
END:VTIMEZONE
BEGIN:VEVENT
DTSTART;VALUE=DATE:20260328
DTEND;VALUE=DATE:20260329
DTSTAMP:20260419T112816
CREATED:20260226T152050Z
LAST-MODIFIED:20260226T152050Z
UID:10002330-1774690200-1774702800@yesfm.com
SUMMARY:S.T.E.A.M. Lab: Optical Illusions
DESCRIPTION:S.T.E.A.M Lab Day: Optical Illusions\nDay: March 25 and 28\nTime: Stop in anytime all day\nLocation: Ogdensburg Public Library\nDescription: Learn about optical illusions with hands on experiments.
URL:https://yesfm.com/event/s-t-e-a-m-lab-optical-illusions/2026-03-28/
LOCATION:312 Washington St\, Ogdensburg\, NY 13669
CATEGORIES:Local Events
ATTACH;FMTTYPE=image/png:https://yesfm.com/site/wp-content/uploads/2026/02/March-2026-Steam-Day-e1772119231916.png
ORGANIZER;CN="Ogdensburg Public Library":MAILTO:dlenney-wallace@ncls.org
END:VEVENT
END:VCALENDAR