BEGIN:VCALENDAR
VERSION:2.0
PRODID:-//YES FM - ECPv6.15.15//NONSGML v1.0//EN
CALSCALE:GREGORIAN
METHOD:PUBLISH
X-ORIGINAL-URL:https://yesfm.com
X-WR-CALDESC:Events for YES FM
REFRESH-INTERVAL;VALUE=DURATION:PT1H
X-Robots-Tag:noindex
X-PUBLISHED-TTL:PT1H
BEGIN:VTIMEZONE
TZID:America/New_York
BEGIN:DAYLIGHT
TZOFFSETFROM:-0500
TZOFFSETTO:-0400
TZNAME:EDT
DTSTART:20240310T070000
END:DAYLIGHT
BEGIN:STANDARD
TZOFFSETFROM:-0400
TZOFFSETTO:-0500
TZNAME:EST
DTSTART:20241103T060000
END:STANDARD
BEGIN:DAYLIGHT
TZOFFSETFROM:-0500
TZOFFSETTO:-0400
TZNAME:EDT
DTSTART:20250309T070000
END:DAYLIGHT
BEGIN:STANDARD
TZOFFSETFROM:-0400
TZOFFSETTO:-0500
TZNAME:EST
DTSTART:20251102T060000
END:STANDARD
BEGIN:DAYLIGHT
TZOFFSETFROM:-0500
TZOFFSETTO:-0400
TZNAME:EDT
DTSTART:20260308T070000
END:DAYLIGHT
BEGIN:STANDARD
TZOFFSETFROM:-0400
TZOFFSETTO:-0500
TZNAME:EST
DTSTART:20261101T060000
END:STANDARD
BEGIN:DAYLIGHT
TZOFFSETFROM:-0500
TZOFFSETTO:-0400
TZNAME:EDT
DTSTART:20270314T070000
END:DAYLIGHT
BEGIN:STANDARD
TZOFFSETFROM:-0400
TZOFFSETTO:-0500
TZNAME:EST
DTSTART:20271107T060000
END:STANDARD
END:VTIMEZONE
BEGIN:VEVENT
DTSTART;TZID=America/New_York:20260418T100000
DTEND;TZID=America/New_York:20260418T140000
DTSTAMP:20260419T164400
CREATED:20260414T141342Z
LAST-MODIFIED:20260414T141342Z
UID:10002535-1776506400-1776520800@yesfm.com
SUMMARY:"April Showers" - Gelli Plate & Collage Workshop
DESCRIPTION:10:00am to 2:00pm – Held at Waddington Hepburn Library\, 30 Main Street\, Waddington. Cost: $65 or $35 if you bring a Gelli plate. Lisa Darrow is back with paint\, papers\, Gelli plates and brayers! Create your own papers and use them to make a designed collage. Bring lunch and a drink. All materials provided. Must pre-register at www.lakestlawrencearts.com; email lakesaintlawrencearts@gmail.com; or call or text Tanya at 315-427-6115 or Bonnie at 315-705-5198.
URL:https://yesfm.com/event/april-showers-gelli-plate-collage-workshop/
LOCATION:Waddington Hepburn Library\, 30 Main Street\, Waddington\, 13694\, United States
CATEGORIES:Local Events
ATTACH;FMTTYPE=image/jpeg:https://yesfm.com/site/wp-content/uploads/2026/04/Lisa-April-Showers-e1776176016961.jpg
ORGANIZER;CN="The Gallery at Lake Saint Lawrence Arts":MAILTO:lakesaintlawrencearts@gmail.com
END:VEVENT
BEGIN:VEVENT
DTSTART;TZID=America/New_York:20260417T170000
DTEND;TZID=America/New_York:20260417T200000
DTSTAMP:20260419T164400
CREATED:20260414T141424Z
LAST-MODIFIED:20260414T141424Z
UID:10002534-1776445200-1776456000@yesfm.com
SUMMARY:"Awakening Earth" Watercolor workshop
DESCRIPTION:5:00pm to 8:00pm – To be held at The Gallery\, 14 Main Street\, Waddington. Cost: $45. Rita Goodwin shows how to do a pen and watercolor lifting technique on the spring awakening earth painting. All materials provided. Must pre-register at www.lakestlawrencearts.com; email lakesaintlawrencearts@gmail.com; or call or text Tanya at 315-427-6115 or Bonnie at 315-705-5198.
URL:https://yesfm.com/event/awakening-earth-watercolor-workshop/
LOCATION:The Gallery at Lake Saint Lawrence Arts\, 14 Main Street\, Waddington\, NY 13694\, Waddington\, NY\, 13694\, United States
CATEGORIES:Local Events
ATTACH;FMTTYPE=image/png:https://yesfm.com/site/wp-content/uploads/2026/04/Rita-Awakening-Earth-1-e1776176057428.png
ORGANIZER;CN="The Gallery at Lake Saint Lawrence Arts":MAILTO:lakesaintlawrencearts@gmail.com
END:VEVENT
BEGIN:VEVENT
DTSTART;TZID=America/New_York:20260321T100000
DTEND;TZID=America/New_York:20260321T150000
DTSTAMP:20260419T164400
CREATED:20260312T144631Z
LAST-MODIFIED:20260312T144631Z
UID:10002350-1774087200-1774105200@yesfm.com
SUMMARY:"USA Primitive Rug Hooking Mat"
DESCRIPTION:Held at The Gallery\, 14 Main Street\, Waddington. Cost: $65 or $45 for those who have the hoop & hook. Carol Lama celebrates our nation’s 250th anniversary with this one-of-a-kind hooked rug mat. She will guide participants through the basics of using wool strips pulled through a woven base with a special hook to create this mat. Bring lunch\, a drink\, and a pair of scissors. All materials provided. Must pre-register at www.lakestlawrencearts.com; email lakesaintlawrencearts@gmail.com; or call or text Tanya at 315-514-2125 or Bonnie at 315-705-5198.
URL:https://yesfm.com/event/usa-primitive-rug-hooking-mat/
LOCATION:The Gallery at Lake Saint Lawrence Arts\, 14 Main Street\, Waddington\, NY 13694\, Waddington\, NY\, 13694\, United States
CATEGORIES:Local Events
ATTACH;FMTTYPE=image/png:https://yesfm.com/site/wp-content/uploads/2026/02/Carol-Celebrate-our-nations-250th-e1773326785296.png
ORGANIZER;CN="The Gallery at Lake Saint Lawrence Arts":MAILTO:lakesaintlawrencearts@gmail.com
END:VEVENT
BEGIN:VEVENT
DTSTART;TZID=America/New_York:20260320T170000
DTEND;TZID=America/New_York:20260320T200000
DTSTAMP:20260419T164400
CREATED:20260312T144707Z
LAST-MODIFIED:20260312T144707Z
UID:10002349-1774026000-1774036800@yesfm.com
SUMMARY:"Watercolor Painting"
DESCRIPTION:Held at The Gallery\, 14 Main Street\, Waddington. Cost: $45. Rita Goodwin instructs in painting sunset scenes of trees and sky using watercolors. Must pre-register at www.lakestlawrencearts.com; email lakesaintlawrencearts@gmail.com; or call or text Tanya at 315-514-2125 or Bonnie at 315-705-5198.
URL:https://yesfm.com/event/watercolor-painting/
LOCATION:The Gallery at Lake Saint Lawrence Arts\, 14 Main Street\, Waddington\, NY 13694\, Waddington\, NY\, 13694\, United States
CATEGORIES:Local Events
ATTACH;FMTTYPE=image/png:https://yesfm.com/site/wp-content/uploads/2026/02/Rita-Sunset-Paintings-e1773326820350.png
ORGANIZER;CN="The Gallery at Lake Saint Lawrence Arts":MAILTO:lakesaintlawrencearts@gmail.com
END:VEVENT
BEGIN:VEVENT
DTSTART;TZID=America/New_York:20260314T100000
DTEND;TZID=America/New_York:20260314T140000
DTSTAMP:20260419T164400
CREATED:20260312T144744Z
LAST-MODIFIED:20260312T144744Z
UID:10002348-1773482400-1773496800@yesfm.com
SUMMARY:"Out of Hibernation Oil Painting"
DESCRIPTION:Held at the Waddington Hepburn Library\, 30 Main Street\, Waddington. Cost: $55.\nRita Goodwin instructs in oil painting this bear at a lake just as he comes out of hibernation. Bring lunch & a drink. Must pre-register at www.lakestlawrencearts.com; email lakesaintlawrencearts@gmail.com; or call or text Tanya at 315-514-2125 or Bonnie at 315-705-5198.
URL:https://yesfm.com/event/out-of-hibernation-oil-painting/
LOCATION:Waddington Hepburn Library\, 30 Main Street\, Waddington\, 13694\, United States
CATEGORIES:Local Events
ATTACH;FMTTYPE=image/png:https://yesfm.com/site/wp-content/uploads/2026/02/Rita-Out-of-Hibernation-e1773326857930.png
ORGANIZER;CN="The Gallery at Lake Saint Lawrence Arts":MAILTO:lakesaintlawrencearts@gmail.com
END:VEVENT
BEGIN:VEVENT
DTSTART;TZID=America/New_York:20260228T100000
DTEND;TZID=America/New_York:20260228T130000
DTSTAMP:20260419T164400
CREATED:20260218T142053Z
LAST-MODIFIED:20260218T142103Z
UID:10002283-1772272800-1772283600@yesfm.com
SUMMARY:"Frame Loom Weaving"
DESCRIPTION:Held at the Gallery\, 14 Main Street\, Waddington. Learn how to string and weave a wall hanging of yarns and fibers with Carolyn Cook. Beginners – Cost is $65 for loom\, loom supplies\, and fibers. Prior attendees – Cost is $45 with fibers provided: bring your own loom.\nMust pre-register at www.lakestlawrencearts.com; email lakesaintlawrencearts@gmail.com; or call or text Tanya at 315-514-2125 or Bonnie at 315-705-5198.
URL:https://yesfm.com/event/frame-loom-weaving/
LOCATION:The Gallery at Lake Saint Lawrence Arts\, 14 Main Street\, Waddington\, NY 13694\, Waddington\, NY\, 13694\, United States
CATEGORIES:Local Events
ATTACH;FMTTYPE=image/jpeg:https://yesfm.com/site/wp-content/uploads/2026/02/Carolyn-Frame-Loom-Weaving-I-e1771424446499.jpg
ORGANIZER;CN="The Gallery at Lake Saint Lawrence Arts":MAILTO:lakesaintlawrencearts@gmail.com
END:VEVENT
BEGIN:VEVENT
DTSTART;TZID=America/New_York:20260221T100000
DTEND;TZID=America/New_York:20260221T140000
DTSTAMP:20260419T164400
CREATED:20260218T142233Z
LAST-MODIFIED:20260218T142233Z
UID:10002282-1771668000-1771682400@yesfm.com
SUMMARY:"Dragonfly Barn Quilt"
DESCRIPTION:10:00am to 2:00pm Held at the Waddington Hepburn Library\, 30 Main Street\, Waddington. Cost: $75. Teresa Gabor thinks spring with this dragonfly. She provides the template\, a 2’ X 2’ sanded ½” thick piece of plywood\, and the paint to create it. All materials supplied. Must pre-register at www.lakestlawrencearts.com; email lakesaintlawrencearts@gmail.com; or call or text Tanya at 315-514-2125 or Bonnie at 315-705-5198.
URL:https://yesfm.com/event/dragonfly-barn-quilt/
LOCATION:Waddington Hepburn Library\, 30 Main Street\, Waddington\, 13694\, United States
CATEGORIES:Local Events
ATTACH;FMTTYPE=image/jpeg:https://yesfm.com/site/wp-content/uploads/2026/02/Theresa-Dragonfly-Barn-Quilt-e1771424543515.jpg
ORGANIZER;CN="The Gallery at Lake Saint Lawrence Arts":MAILTO:lakesaintlawrencearts@gmail.com
END:VEVENT
BEGIN:VEVENT
DTSTART;TZID=America/New_York:20260118T110000
DTEND;TZID=America/New_York:20260118T150000
DTSTAMP:20260419T164400
CREATED:20260105T160131Z
LAST-MODIFIED:20260105T160131Z
UID:10001886-1768734000-1768748400@yesfm.com
SUMMARY:"Beginner Crochet Workshop"
DESCRIPTION:Cost: $40 + $8 supply fee.\nYvonne Corbett will teach students 5 basic stitches for making an infinity scarf (or Mobius Cowl). Take home a scarf\, a stitch sampler square\, two project patterns\, and needles\, etc. to create more fun projects. Bring Lunch. Must pre-register at www.lakestlawrencearts.com ; email lakesaintlawrencearts@gmail.com or call or\ntext 315-705-5198.
URL:https://yesfm.com/event/beginner-crochet-workshop/
LOCATION:The Gallery at Lake Saint Lawrence Arts\, 14 Main Street\, Waddington\, NY 13694\, Waddington\, NY\, 13694\, United States
CATEGORIES:Local Events
ATTACH;FMTTYPE=image/jpeg:https://yesfm.com/site/wp-content/uploads/2026/01/Ys-Crochet-Workshop-Jan-18-1-e1767628871795.jpg
ORGANIZER;CN="The Gallery at Lake Saint Lawrence Arts":MAILTO:lakesaintlawrencearts@gmail.com
END:VEVENT
BEGIN:VEVENT
DTSTART;TZID=America/New_York:20260117T100000
DTEND;TZID=America/New_York:20260117T150000
DTSTAMP:20260419T164400
CREATED:20260105T160216Z
LAST-MODIFIED:20260105T160216Z
UID:10001885-1768644000-1768662000@yesfm.com
SUMMARY:"Primitive Rug Hooking"
DESCRIPTION:Cost: $65\nCarol Lama will guide students through the basics of making a mat\, wall hanging\, or pillow face using this primitive fiber art where wool strips are pulled through a woven base. All materials provided for a complete piece. For previous students who already have the hoop and hook\, the cost is $40. Bring lunch. Must pre-register at www.lakestlawrencearts.com; email lakesaintlawrencearts@gmail.com or call or text 315-705-5198 or 315-705-1241.
URL:https://yesfm.com/event/primitive-rug-hooking/
LOCATION:The Gallery at Lake Saint Lawrence Arts\, 14 Main Street\, Waddington\, NY 13694\, Waddington\, NY\, 13694\, United States
CATEGORIES:Local Events
ATTACH;FMTTYPE=image/jpeg:https://yesfm.com/site/wp-content/uploads/2026/01/Carol-Lama-Jan-e1767628927968.jpg
ORGANIZER;CN="The Gallery at Lake Saint Lawrence Arts":MAILTO:lakesaintlawrencearts@gmail.com
END:VEVENT
BEGIN:VEVENT
DTSTART;TZID=America/New_York:20260110T100000
DTEND;TZID=America/New_York:20260110T150000
DTSTAMP:20260419T164400
CREATED:20260105T160318Z
LAST-MODIFIED:20260105T160318Z
UID:10001884-1768039200-1768057200@yesfm.com
SUMMARY:"Gelli Printing & Collage"
DESCRIPTION:Cost: $65 Lisa Darrow will help create a collage with gelli printing. Students receive a 5” X 7” gelli plate\, brayer & paint brush; all other materials provided. Bring scissors and wear old clothes. Bring lunch and drink. Must pre-register at www.lakestlawrencearts.com; Email lakesaintlawrencearts@gmail.com; or call or text 315-705-5198 or 315-705-1241.
URL:https://yesfm.com/event/gelli-printing-collage/
LOCATION:Waddington Hepburn Library\, 30 Main Street\, Waddington\, 13694\, United States
CATEGORIES:Local Events
ATTACH;FMTTYPE=image/jpeg:https://yesfm.com/site/wp-content/uploads/2026/01/GElli-Printing-Collage-Jan10-e1767628990698.jpg
ORGANIZER;CN="The Gallery at Lake Saint Lawrence Arts":MAILTO:lakesaintlawrencearts@gmail.com
END:VEVENT
BEGIN:VEVENT
DTSTART;TZID=America/New_York:20250531T100000
DTEND;TZID=America/New_York:20250531T130000
DTSTAMP:20260419T164400
CREATED:20250530T151504Z
LAST-MODIFIED:20250530T151504Z
UID:10001359-1748685600-1748696400@yesfm.com
SUMMARY:"Yellow Robin" Watercolor Painting Class
DESCRIPTION:10:00am to 1:00pm at the Gallery at Lake Saint Lawrence Arts\, 14 Main Street\, Waddington. Cost: $55 – Corrina Boyer helps students create this watercolor robin with paint\, brushes and a printed outline on watercolor paper. All materials provided. Min. 8\, Max 20. Must pre-register at www.lakestlawrencearts.com; email lakesaintlawrencearts@gmail.com or call 315-705-1241 or 315-705-5198.
URL:https://yesfm.com/event/yellow-robin-watercolor-painting-class/
LOCATION:The Gallery at Lake Saint Lawrence Arts\, 14 Main Street\, Waddington\, NY 13694\, Waddington\, NY\, 13694\, United States
CATEGORIES:Local Events
ATTACH;FMTTYPE=image/jpeg:https://yesfm.com/site/wp-content/uploads/2025/05/Yellow-Robin.jpg
ORGANIZER;CN="The Gallery at Lake Saint Lawrence Arts":MAILTO:lakesaintlawrencearts@gmail.com
END:VEVENT
END:VCALENDAR