BEGIN:VCALENDAR
VERSION:2.0
PRODID:-//YES FM - ECPv6.15.15//NONSGML v1.0//EN
CALSCALE:GREGORIAN
METHOD:PUBLISH
X-ORIGINAL-URL:https://yesfm.com
X-WR-CALDESC:Events for YES FM
REFRESH-INTERVAL;VALUE=DURATION:PT1H
X-Robots-Tag:noindex
X-PUBLISHED-TTL:PT1H
BEGIN:VTIMEZONE
TZID:America/New_York
BEGIN:DAYLIGHT
TZOFFSETFROM:-0500
TZOFFSETTO:-0400
TZNAME:EDT
DTSTART:20250309T070000
END:DAYLIGHT
BEGIN:STANDARD
TZOFFSETFROM:-0400
TZOFFSETTO:-0500
TZNAME:EST
DTSTART:20251102T060000
END:STANDARD
BEGIN:DAYLIGHT
TZOFFSETFROM:-0500
TZOFFSETTO:-0400
TZNAME:EDT
DTSTART:20260308T070000
END:DAYLIGHT
BEGIN:STANDARD
TZOFFSETFROM:-0400
TZOFFSETTO:-0500
TZNAME:EST
DTSTART:20261101T060000
END:STANDARD
BEGIN:DAYLIGHT
TZOFFSETFROM:-0500
TZOFFSETTO:-0400
TZNAME:EDT
DTSTART:20270314T070000
END:DAYLIGHT
BEGIN:STANDARD
TZOFFSETFROM:-0400
TZOFFSETTO:-0500
TZNAME:EST
DTSTART:20271107T060000
END:STANDARD
END:VTIMEZONE
BEGIN:VEVENT
DTSTART;TZID=America/New_York:20260425T100000
DTEND;TZID=America/New_York:20260425T120000
DTSTAMP:20260419T145239
CREATED:20260414T141302Z
LAST-MODIFIED:20260414T141302Z
UID:10002536-1777111200-1777118400@yesfm.com
SUMMARY:"Intro to Woodburning"
DESCRIPTION:10:00am to Noon – To be held at The Gallery\, 14 Main Street\, Waddington. Cost $35 for the class and $10 for materials or $55 to keep the kit. Shane Healey teaches the tools and tricks of the trade to learn woodburning from a pro. All materials provided to begin your project. Great for beginners or as a refresher course. Minimum people for the class is 4. Must pre-register at www.lakestlawrencearts.com; email lakesaintlawrencearts@gmail.com; or call or text Tanya at 315-427-6115 or Bonnie at 315-705-5198.
URL:https://yesfm.com/event/intro-to-woodburning/
LOCATION:The Gallery at Lake Saint Lawrence Arts\, 14 Main Street\, Waddington\, NY 13694\, Waddington\, NY\, 13694\, United States
CATEGORIES:Local Events
ATTACH;FMTTYPE=image/jpeg:https://yesfm.com/site/wp-content/uploads/2026/04/Intro-to-Woodburning-1-e1776175975909.jpg
ORGANIZER;CN="The Gallery at Lake Saint Lawrence Arts":MAILTO:lakesaintlawrencearts@gmail.com
END:VEVENT
END:VCALENDAR