BEGIN:VCALENDAR
VERSION:2.0
PRODID:-//YES FM - ECPv6.15.15//NONSGML v1.0//EN
CALSCALE:GREGORIAN
METHOD:PUBLISH
X-WR-CALNAME:YES FM
X-ORIGINAL-URL:https://yesfm.com
X-WR-CALDESC:Events for YES FM
REFRESH-INTERVAL;VALUE=DURATION:PT1H
X-Robots-Tag:noindex
X-PUBLISHED-TTL:PT1H
BEGIN:VTIMEZONE
TZID:America/New_York
BEGIN:DAYLIGHT
TZOFFSETFROM:-0500
TZOFFSETTO:-0400
TZNAME:EDT
DTSTART:20230312T070000
END:DAYLIGHT
BEGIN:STANDARD
TZOFFSETFROM:-0400
TZOFFSETTO:-0500
TZNAME:EST
DTSTART:20231105T060000
END:STANDARD
BEGIN:DAYLIGHT
TZOFFSETFROM:-0500
TZOFFSETTO:-0400
TZNAME:EDT
DTSTART:20240310T070000
END:DAYLIGHT
BEGIN:STANDARD
TZOFFSETFROM:-0400
TZOFFSETTO:-0500
TZNAME:EST
DTSTART:20241103T060000
END:STANDARD
BEGIN:DAYLIGHT
TZOFFSETFROM:-0500
TZOFFSETTO:-0400
TZNAME:EDT
DTSTART:20250309T070000
END:DAYLIGHT
BEGIN:STANDARD
TZOFFSETFROM:-0400
TZOFFSETTO:-0500
TZNAME:EST
DTSTART:20251102T060000
END:STANDARD
END:VTIMEZONE
BEGIN:VEVENT
DTSTART;TZID=America/New_York:20240625T120000
DTEND;TZID=America/New_York:20240625T140000
DTSTAMP:20260422T232429
CREATED:20240614T022110Z
LAST-MODIFIED:20240614T022110Z
UID:10000286-1719316800-1719324000@yesfm.com
SUMMARY:second annual Last Day of School Summer Bash
DESCRIPTION:The North Country Children’s Museum is excited to host its second annual Last Day of School Summer Bash on Tuesday\, June 25th\, from noon to 2 PM in Garner Park in Potsdam. This free community event\, organized with SLC Arts and WBS TV Watertown\, offers games\, music\, and activities to celebrate the start of summer. Stewart’s Shops will be providing free ice cream sundaes\, and Anastasia’s Food Truck\, along with other vendors\, will add to the fun.
URL:https://yesfm.com/event/second-annual-last-day-of-school-summer-bash/
LOCATION:99 Raymond St\, Potsdam\, NY 13676
ATTACH;FMTTYPE=image/jpeg:https://yesfm.com/site/wp-content/uploads/2024/06/women-8740508_1280.jpg
END:VEVENT
END:VCALENDAR