BEGIN:VCALENDAR
VERSION:2.0
PRODID:-//YES FM - ECPv6.15.15//NONSGML v1.0//EN
CALSCALE:GREGORIAN
METHOD:PUBLISH
X-WR-CALNAME:YES FM
X-ORIGINAL-URL:https://yesfm.com
X-WR-CALDESC:Events for YES FM
REFRESH-INTERVAL;VALUE=DURATION:PT1H
X-Robots-Tag:noindex
X-PUBLISHED-TTL:PT1H
BEGIN:VTIMEZONE
TZID:America/New_York
BEGIN:DAYLIGHT
TZOFFSETFROM:-0500
TZOFFSETTO:-0400
TZNAME:EDT
DTSTART:20240310T070000
END:DAYLIGHT
BEGIN:STANDARD
TZOFFSETFROM:-0400
TZOFFSETTO:-0500
TZNAME:EST
DTSTART:20241103T060000
END:STANDARD
BEGIN:DAYLIGHT
TZOFFSETFROM:-0500
TZOFFSETTO:-0400
TZNAME:EDT
DTSTART:20250309T070000
END:DAYLIGHT
BEGIN:STANDARD
TZOFFSETFROM:-0400
TZOFFSETTO:-0500
TZNAME:EST
DTSTART:20251102T060000
END:STANDARD
BEGIN:DAYLIGHT
TZOFFSETFROM:-0500
TZOFFSETTO:-0400
TZNAME:EDT
DTSTART:20260308T070000
END:DAYLIGHT
BEGIN:STANDARD
TZOFFSETFROM:-0400
TZOFFSETTO:-0500
TZNAME:EST
DTSTART:20261101T060000
END:STANDARD
END:VTIMEZONE
BEGIN:VEVENT
DTSTART;TZID=America/New_York:20251213T163000
DTEND;TZID=America/New_York:20251213T210000
DTSTAMP:20260420T014220
CREATED:20251208T162321Z
LAST-MODIFIED:20251208T162354Z
UID:10001867-1765643400-1765659600@yesfm.com
SUMMARY:River Lights
DESCRIPTION:2025 River Lights Festival\, a free community event filled with holiday cheer at Bayside Park\, Morristown.\n\nThis year’s festivities include:• Extended Christmas light displays• Family fun with fire pits• Wagon and train rides for kids• Visits with Mr. and Mrs. Claus• Explore Grinch land • Live DJ playing Christmas music• Food and drinks from local businesses• Local Crafts and Gifts• Various raffles for extra excitement\n\n Bundle up\, bring the whole family\, and join us for a magical evening of holiday celebration on Saturday\, Dec 13 at 4:30 PM!
URL:https://yesfm.com/event/37977/
LOCATION:Bayside Park\, 301 Main Street\, MORRISTOWN\, NY\, NY\, 13669
CATEGORIES:Local Events
ATTACH;FMTTYPE=image/jpeg:https://yesfm.com/site/wp-content/uploads/2025/12/del-13.jpg
END:VEVENT
END:VCALENDAR