BEGIN:VCALENDAR
VERSION:2.0
PRODID:-//YES FM - ECPv6.15.15//NONSGML v1.0//EN
CALSCALE:GREGORIAN
METHOD:PUBLISH
X-WR-CALNAME:YES FM
X-ORIGINAL-URL:https://yesfm.com
X-WR-CALDESC:Events for YES FM
REFRESH-INTERVAL;VALUE=DURATION:PT1H
X-Robots-Tag:noindex
X-PUBLISHED-TTL:PT1H
BEGIN:VTIMEZONE
TZID:America/New_York
BEGIN:DAYLIGHT
TZOFFSETFROM:-0500
TZOFFSETTO:-0400
TZNAME:EDT
DTSTART:20240310T070000
END:DAYLIGHT
BEGIN:STANDARD
TZOFFSETFROM:-0400
TZOFFSETTO:-0500
TZNAME:EST
DTSTART:20241103T060000
END:STANDARD
BEGIN:DAYLIGHT
TZOFFSETFROM:-0500
TZOFFSETTO:-0400
TZNAME:EDT
DTSTART:20250309T070000
END:DAYLIGHT
BEGIN:STANDARD
TZOFFSETFROM:-0400
TZOFFSETTO:-0500
TZNAME:EST
DTSTART:20251102T060000
END:STANDARD
BEGIN:DAYLIGHT
TZOFFSETFROM:-0500
TZOFFSETTO:-0400
TZNAME:EDT
DTSTART:20260308T070000
END:DAYLIGHT
BEGIN:STANDARD
TZOFFSETFROM:-0400
TZOFFSETTO:-0500
TZNAME:EST
DTSTART:20261101T060000
END:STANDARD
END:VTIMEZONE
BEGIN:VEVENT
DTSTART;TZID=America/New_York:20251031T160000
DTEND;TZID=America/New_York:20251031T200000
DTSTAMP:20260422T173913
CREATED:20251015T152230Z
LAST-MODIFIED:20251015T152230Z
UID:10001561-1761926400-1761940800@yesfm.com
SUMMARY:Halloween at the BDSC Clubhouse
DESCRIPTION:🎃👻 Halloween at the BDSC Clubhouse! 👻🎃 \nGet ready for a spooktacular Halloween night at the Brockville & District Shrine Club! 🕸️🕷️ \n🍬 We’ll be handing out candy for all the little ghouls and goblins who stop by\, plus…\n🌭 The first 100 kids will snag a FREE hotdog + juice box to fuel their trick-or-treating adventures! \n📅 Friday\, October 31\, 2025\n⏰ 4:00 PM – 8:00 PM (or until the hotdogs are gone!)\n📍 BDSC Clubhouse – 16 Reynolds Drive\, Brockville \nSo grab your costumes\, bring your best spooky spirit\, and swing by the BDSC for some Halloween treats (and eats)! 🎃✨ \n#BrockvilleHalloween #ShrinersCare #TrickOrTreat #FamilyFun
URL:https://yesfm.com/event/halloween-at-the-bdsc-clubhouse/
LOCATION:Brockville & District Shrine Club\, 16 Reynolds Drive\, Brockville\, Ontario\, K6V 1W8\, Canada
CATEGORIES:Local Events
ATTACH;FMTTYPE=image/png:https://yesfm.com/site/wp-content/uploads/2025/09/BDSC-Trick-or-Treat-1-e1760541595266.png
END:VEVENT
END:VCALENDAR