BEGIN:VCALENDAR
VERSION:2.0
PRODID:-//YES FM - ECPv6.15.15//NONSGML v1.0//EN
CALSCALE:GREGORIAN
METHOD:PUBLISH
X-ORIGINAL-URL:https://yesfm.com
X-WR-CALDESC:Events for YES FM
REFRESH-INTERVAL;VALUE=DURATION:PT1H
X-Robots-Tag:noindex
X-PUBLISHED-TTL:PT1H
BEGIN:VTIMEZONE
TZID:America/New_York
BEGIN:DAYLIGHT
TZOFFSETFROM:-0500
TZOFFSETTO:-0400
TZNAME:EDT
DTSTART:20230312T070000
END:DAYLIGHT
BEGIN:STANDARD
TZOFFSETFROM:-0400
TZOFFSETTO:-0500
TZNAME:EST
DTSTART:20231105T060000
END:STANDARD
BEGIN:DAYLIGHT
TZOFFSETFROM:-0500
TZOFFSETTO:-0400
TZNAME:EDT
DTSTART:20240310T070000
END:DAYLIGHT
BEGIN:STANDARD
TZOFFSETFROM:-0400
TZOFFSETTO:-0500
TZNAME:EST
DTSTART:20241103T060000
END:STANDARD
BEGIN:DAYLIGHT
TZOFFSETFROM:-0500
TZOFFSETTO:-0400
TZNAME:EDT
DTSTART:20250309T070000
END:DAYLIGHT
BEGIN:STANDARD
TZOFFSETFROM:-0400
TZOFFSETTO:-0500
TZNAME:EST
DTSTART:20251102T060000
END:STANDARD
END:VTIMEZONE
BEGIN:VEVENT
DTSTART;TZID=America/New_York:20240704T190000
DTEND;TZID=America/New_York:20240704T230000
DTSTAMP:20260424T015707
CREATED:20240702T021523Z
LAST-MODIFIED:20240702T021523Z
UID:10000309-1720119600-1720134000@yesfm.com
SUMMARY:Morristown annual Fireworks Display
DESCRIPTION:Morristown annual Fireworks Display Wednesday\, July 3 at dusk. A parade will be held on July 4 beginning at 10 a.m. starting on Morristown’s Main Street\, followed by activities at the Fire Station\, and a Car Show and Craft Fair on the Ballfield.\nWednesday\, July 3\nGigantic Fireworks Display at dusk; live music by Another Fine Mess (7 to 11 p.m.)\, concession stand (hamburgers\, hot dogs\, sausage\, French fries and ice cold beverages) and local vendors.\nThere will also be Kids games\, games of chance and 50/50 raffle tickets.
URL:https://yesfm.com/event/morristown-annual-fireworks-display/
LOCATION:Morristown\, NY
CATEGORIES:Local Events
ATTACH;FMTTYPE=image/jpeg:https://yesfm.com/site/wp-content/uploads/2024/07/fireworks-1758_640.jpg
END:VEVENT
BEGIN:VEVENT
DTSTART;TZID=America/New_York:20240704T100000
DTEND;TZID=America/New_York:20240704T130000
DTSTAMP:20260424T015707
CREATED:20240702T021658Z
LAST-MODIFIED:20240702T021658Z
UID:10000310-1720087200-1720098000@yesfm.com
SUMMARY:Annual Steve Spilman Memorial 4th of July Parade
DESCRIPTION:Thursday\, July 4\nThe Annual Steve Spilman Memorial 4th of July Parade begins at 10 am. Bands from Gouverneur\, Heuvelton\, Lisbon\, Morristown and Ogdensburg are slated to perform. The parade will begin on Main Street (near the intersection of SH 37) heading downtown\, turn right onto Chapman St.\, disbanding on Golden St.\nThe following activities to follow the parade at the Fire Station beginning at 11:30 a.m.:\nChicken BBQ ($15)\, concession stand Kids Games\, games of chance 50/50 raffle tickets\, a car show and Morristown Fire Department Auxiliary Craft Fair.
URL:https://yesfm.com/event/annual-steve-spilman-memorial-4th-of-july-parade/
LOCATION:Morristown\, NY
CATEGORIES:Local Events
ATTACH;FMTTYPE=image/jpeg:https://yesfm.com/site/wp-content/uploads/2024/07/flag-11702_1280.jpg
END:VEVENT
END:VCALENDAR