BEGIN:VCALENDAR
VERSION:2.0
PRODID:-//YES FM - ECPv6.15.15//NONSGML v1.0//EN
CALSCALE:GREGORIAN
METHOD:PUBLISH
X-WR-CALNAME:YES FM
X-ORIGINAL-URL:https://yesfm.com
X-WR-CALDESC:Events for YES FM
REFRESH-INTERVAL;VALUE=DURATION:PT1H
X-Robots-Tag:noindex
X-PUBLISHED-TTL:PT1H
BEGIN:VTIMEZONE
TZID:America/New_York
BEGIN:DAYLIGHT
TZOFFSETFROM:-0500
TZOFFSETTO:-0400
TZNAME:EDT
DTSTART:20240310T070000
END:DAYLIGHT
BEGIN:STANDARD
TZOFFSETFROM:-0400
TZOFFSETTO:-0500
TZNAME:EST
DTSTART:20241103T060000
END:STANDARD
BEGIN:DAYLIGHT
TZOFFSETFROM:-0500
TZOFFSETTO:-0400
TZNAME:EDT
DTSTART:20250309T070000
END:DAYLIGHT
BEGIN:STANDARD
TZOFFSETFROM:-0400
TZOFFSETTO:-0500
TZNAME:EST
DTSTART:20251102T060000
END:STANDARD
BEGIN:DAYLIGHT
TZOFFSETFROM:-0500
TZOFFSETTO:-0400
TZNAME:EDT
DTSTART:20260308T070000
END:DAYLIGHT
BEGIN:STANDARD
TZOFFSETFROM:-0400
TZOFFSETTO:-0500
TZNAME:EST
DTSTART:20261101T060000
END:STANDARD
END:VTIMEZONE
BEGIN:VEVENT
DTSTART;TZID=America/New_York:20251217T170000
DTEND;TZID=America/New_York:20251217T183000
DTSTAMP:20260420T020132
CREATED:20251211T161006Z
LAST-MODIFIED:20251211T161006Z
UID:10001870-1765990800-1765996200@yesfm.com
SUMMARY:Free Holiday Concert
DESCRIPTION:A free holiday concert by the Merrie Friends quartet will be held Wednesday. Dec. 17\, from 5-6:30 p.m. at Potsdam Public Library. \nThe quartet will play holiday favorites\, including Hanukkah and “Early Music” selections.\nMerrie Friends is a group of people who enjoy gathering to play music and having fun with it. Currently five of the six members are retired from different careers and all live in the greater-Potsdam area. Instruments vary; but include euphonium\, bassoon\, flute\, piccolo\, clarinet\, soprano\, alto and tenor recorders\, lap dulcimer\, autoharp\, voice\, and small percussion. \nThe performance is free and open to the public\, but donations to support the band are always accepted.
URL:https://yesfm.com/event/free-holiday-concert/
LOCATION:potsdam public library\, 2 Park Street\, POtsdam\, United States
CATEGORIES:Local Events
ATTACH;FMTTYPE=image/jpeg:https://yesfm.com/site/wp-content/uploads/2025/12/del-14.jpg
END:VEVENT
END:VCALENDAR