BEGIN:VCALENDAR
VERSION:2.0
PRODID:-//YES FM - ECPv6.15.15//NONSGML v1.0//EN
CALSCALE:GREGORIAN
METHOD:PUBLISH
X-ORIGINAL-URL:https://yesfm.com
X-WR-CALDESC:Events for YES FM
REFRESH-INTERVAL;VALUE=DURATION:PT1H
X-Robots-Tag:noindex
X-PUBLISHED-TTL:PT1H
BEGIN:VTIMEZONE
TZID:America/New_York
BEGIN:DAYLIGHT
TZOFFSETFROM:-0500
TZOFFSETTO:-0400
TZNAME:EDT
DTSTART:20250309T070000
END:DAYLIGHT
BEGIN:STANDARD
TZOFFSETFROM:-0400
TZOFFSETTO:-0500
TZNAME:EST
DTSTART:20251102T060000
END:STANDARD
BEGIN:DAYLIGHT
TZOFFSETFROM:-0500
TZOFFSETTO:-0400
TZNAME:EDT
DTSTART:20260308T070000
END:DAYLIGHT
BEGIN:STANDARD
TZOFFSETFROM:-0400
TZOFFSETTO:-0500
TZNAME:EST
DTSTART:20261101T060000
END:STANDARD
BEGIN:DAYLIGHT
TZOFFSETFROM:-0500
TZOFFSETTO:-0400
TZNAME:EDT
DTSTART:20270314T070000
END:DAYLIGHT
BEGIN:STANDARD
TZOFFSETFROM:-0400
TZOFFSETTO:-0500
TZNAME:EST
DTSTART:20271107T060000
END:STANDARD
END:VTIMEZONE
BEGIN:VEVENT
DTSTART;TZID=America/New_York:20260503T100000
DTEND;TZID=America/New_York:20260503T150000
DTSTAMP:20260422T160018
CREATED:20260421T140800Z
LAST-MODIFIED:20260421T140800Z
UID:10002566-1777802400-1777820400@yesfm.com
SUMMARY:Spencerville Spring Market
DESCRIPTION:Spencerville Spring Market \nJoin us for our first market of 2026!\nBack at the Spencerville Arena\, we’ll be hosting all local vendors indoors and outdoors Sunday May 3\, 10-3!\n All local artisans and makers Fresh seasonal goods Youth Vendors In support of the Spencerville Friends of the Library FREE Admission\nFollow along at Spencerville Seasonal Market to see which new and returning vendors are joining us this Spring!
URL:https://yesfm.com/event/spencerville-spring-market-2/
LOCATION:Spencerville Arena\, 22 Sloan Street\, Spencerville\, Ontario
CATEGORIES:Local Events
ATTACH;FMTTYPE=image/jpeg:https://yesfm.com/site/wp-content/uploads/2026/04/del-20.jpg
END:VEVENT
END:VCALENDAR