BEGIN:VCALENDAR
VERSION:2.0
PRODID:-//YES FM - ECPv6.15.15//NONSGML v1.0//EN
CALSCALE:GREGORIAN
METHOD:PUBLISH
X-WR-CALNAME:YES FM
X-ORIGINAL-URL:https://yesfm.com
X-WR-CALDESC:Events for YES FM
REFRESH-INTERVAL;VALUE=DURATION:PT1H
X-Robots-Tag:noindex
X-PUBLISHED-TTL:PT1H
BEGIN:VTIMEZONE
TZID:America/New_York
BEGIN:DAYLIGHT
TZOFFSETFROM:-0500
TZOFFSETTO:-0400
TZNAME:EDT
DTSTART:20250309T070000
END:DAYLIGHT
BEGIN:STANDARD
TZOFFSETFROM:-0400
TZOFFSETTO:-0500
TZNAME:EST
DTSTART:20251102T060000
END:STANDARD
BEGIN:DAYLIGHT
TZOFFSETFROM:-0500
TZOFFSETTO:-0400
TZNAME:EDT
DTSTART:20260308T070000
END:DAYLIGHT
BEGIN:STANDARD
TZOFFSETFROM:-0400
TZOFFSETTO:-0500
TZNAME:EST
DTSTART:20261101T060000
END:STANDARD
BEGIN:DAYLIGHT
TZOFFSETFROM:-0500
TZOFFSETTO:-0400
TZNAME:EDT
DTSTART:20270314T070000
END:DAYLIGHT
BEGIN:STANDARD
TZOFFSETFROM:-0400
TZOFFSETTO:-0500
TZNAME:EST
DTSTART:20271107T060000
END:STANDARD
END:VTIMEZONE
BEGIN:VEVENT
DTSTART;TZID=America/New_York:20260207T170000
DTEND;TZID=America/New_York:20260214T170000
DTSTAMP:20260419T102528
CREATED:20260127T143122Z
LAST-MODIFIED:20260127T143122Z
UID:10001922-1770483600-1771088400@yesfm.com
SUMMARY:Snopackers Fun Run
DESCRIPTION:Childwold’s annual SnoPackers Fun Run kicks off Saturday\, Feb. 7\, and continues through Feb. 14. Participants can visit 14 local sponsor stops via snowmobile or car\, collecting stamps for a poker hand contest. The event highlights local businesses\, snowmobile culture\, and community camaraderie. Fun Run cards are turned in at Sevey’s Point on Feb. 14\, where participants can win cash prizes of $300\, $200\, and $100. Vendor tents\, food\, and a new warming hut await attendees. More info: www.childwoldsnopackers.com
URL:https://yesfm.com/event/snopackers-fun-run/
LOCATION:Thirsty Moose\, 9754 State Hwy 3\, Childwold\, United States
CATEGORIES:Local Events
ATTACH;FMTTYPE=image/jpeg:https://yesfm.com/site/wp-content/uploads/2026/01/del-14-e1769524272987.jpg
END:VEVENT
END:VCALENDAR